BEGIN:VCALENDAR
VERSION:1.0
BEGIN:VEVENT
DTSTART:20240909T203000
DTEND:20240909T212000
SUMMARY:Kicky Mantle vs. Sit On My Base
DESCRIPTION:Adult Cup in Hand Kickball - Monday League - Carol Stream Park District
LOCATION:McCaslin 4
CATEGORIES:QuickScores; Kickball Game
TRANSP:0
DALARM:20240909T183000;PT10M;2;Kicky Mantle vs. Sit On My Base
END:VEVENT
BEGIN:VEVENT
DTSTART:20240916T180000
DTEND:20240916T185000
SUMMARY:Richard Cranium vs. Sit On My Base
DESCRIPTION:Adult Cup in Hand Kickball - Monday League - Carol Stream Park District
LOCATION:McCaslin 4
CATEGORIES:QuickScores; Kickball Game
TRANSP:0
DALARM:20240916T160000;PT10M;2;Richard Cranium vs. Sit On My Base
END:VEVENT
BEGIN:VEVENT
DTSTART:20240923T185000
DTEND:20240923T194000
SUMMARY:Sit On My Base vs. Keg Kickers
DESCRIPTION:Adult Cup in Hand Kickball - Monday League - Carol Stream Park District
LOCATION:McCaslin 4
CATEGORIES:QuickScores; Kickball Game
TRANSP:0
DALARM:20240923T165000;PT10M;2;Sit On My Base vs. Keg Kickers
END:VEVENT
BEGIN:VEVENT
DTSTART:20240930T194000
DTEND:20240930T203000
SUMMARY:Sit On My Base vs. D630 RIZZLYBEARS
DESCRIPTION:Adult Cup in Hand Kickball - Monday League - Carol Stream Park District
LOCATION:McCaslin 4
CATEGORIES:QuickScores; Kickball Game
TRANSP:0
DALARM:20240930T174000;PT10M;2;Sit On My Base vs. D630 RIZZLYBEARS
END:VEVENT
BEGIN:VEVENT
DTSTART:20241007T185000
DTEND:20241007T194000
SUMMARY:Sons of Pitches vs. Sit On My Base
DESCRIPTION:Adult Cup in Hand Kickball - Monday League - Carol Stream Park District
LOCATION:McCaslin 4
CATEGORIES:QuickScores; Kickball Game
TRANSP:0
DALARM:20241007T165000;PT10M;2;Sons of Pitches vs. Sit On My Base
END:VEVENT
BEGIN:VEVENT
DTSTART:20241014T212000
DTEND:20241014T221000
SUMMARY:Sit On My Base vs. ReKickulous
DESCRIPTION:Adult Cup in Hand Kickball - Monday League - Carol Stream Park District
LOCATION:McCaslin 4
CATEGORIES:QuickScores; Kickball Game
TRANSP:0
DALARM:20241014T192000;PT10M;2;Sit On My Base vs. ReKickulous
END:VEVENT
END:VCALENDAR
