BEGIN:VCALENDAR
VERSION:1.0
BEGIN:VEVENT
DTSTART:20240906T201500
DTEND:20240906T214500
SUMMARY:MSP Stars vs. Bloomingdale Blast
DESCRIPTION:Travel Softball League - 14U - Carol Stream Park District
LOCATION:McCaslin 3
CATEGORIES:QuickScores; Softball Game
TRANSP:0
DALARM:20240906T181500;PT10M;2;MSP Stars vs. Bloomingdale Blast
END:VEVENT
BEGIN:VEVENT
DTSTART:20240909T190000
DTEND:20240909T203000
SUMMARY:MSP Stars vs. Carol Stream Storm
DESCRIPTION:Travel Softball League - 14U - Carol Stream Park District
LOCATION:Armstrong 4
CATEGORIES:QuickScores; Softball Game
TRANSP:0
DALARM:20240909T170000;PT10M;2;MSP Stars vs. Carol Stream Storm
END:VEVENT
BEGIN:VEVENT
DTSTART:20240913T190000
DTEND:20240913T203000
SUMMARY:Wheaton Wildcats vs. MSP Stars
DESCRIPTION:Travel Softball League - 14U - Carol Stream Park District
LOCATION:McCaslin 2
CATEGORIES:QuickScores; Softball Game
TRANSP:0
DALARM:20240913T170000;PT10M;2;Wheaton Wildcats vs. MSP Stars
END:VEVENT
BEGIN:VEVENT
DTSTART:20240918T173000
DTEND:20240918T190000
SUMMARY:Bloomingdale Blast vs. MSP Stars
DESCRIPTION:Travel Softball League - 14U - Carol Stream Park District
LOCATION:McCaslin 2
CATEGORIES:QuickScores; Softball Game
TRANSP:0
DALARM:20240918T153000;PT10M;2;Bloomingdale Blast vs. MSP Stars
END:VEVENT
BEGIN:VEVENT
DTSTART:20240918T190000
DTEND:20240918T203000
SUMMARY:DuPage Revolution vs. MSP Stars
DESCRIPTION:Travel Softball League - 14U - Carol Stream Park District
LOCATION:McCaslin 2
CATEGORIES:QuickScores; Softball Game
TRANSP:0
DALARM:20240918T170000;PT10M;2;DuPage Revolution vs. MSP Stars
END:VEVENT
BEGIN:VEVENT
DTSTART:20240923T190000
DTEND:20240923T203000
SUMMARY:MSP Stars vs. Roselle Rockers
DESCRIPTION:Travel Softball League - 14U - Carol Stream Park District
LOCATION:Armstrong 4
CATEGORIES:QuickScores; Softball Game
TRANSP:0
DALARM:20240923T170000;PT10M;2;MSP Stars vs. Roselle Rockers
END:VEVENT
BEGIN:VEVENT
DTSTART:20240925T203000
DTEND:20240925T220000
SUMMARY:MSP Stars vs. Elmhurst Emeralds
DESCRIPTION:Travel Softball League - 14U - Carol Stream Park District
LOCATION:McCaslin 4
CATEGORIES:QuickScores; Softball Game
TRANSP:0
DALARM:20240925T183000;PT10M;2;MSP Stars vs. Elmhurst Emeralds
END:VEVENT
BEGIN:VEVENT
DTSTART:20241002T203000
DTEND:20241002T220000
SUMMARY:Lombard Thunder vs. MSP Stars
DESCRIPTION:Travel Softball League - 14U - Carol Stream Park District
LOCATION:McCaslin 3
CATEGORIES:QuickScores; Softball Game
TRANSP:0
DALARM:20241002T183000;PT10M;2;Lombard Thunder vs. MSP Stars
END:VEVENT
BEGIN:VEVENT
DTSTART:20241007T173000
DTEND:20241007T190000
SUMMARY:[1] MSP Stars vs. [8] Roselle Rockers
DESCRIPTION:Travel Softball League - 14U - Carol Stream Park District
LOCATION:McCaslin 1
CATEGORIES:QuickScores; Softball Game
TRANSP:0
DALARM:20241007T153000;PT10M;2;[1] MSP Stars vs. [8] Roselle Rockers
END:VEVENT
BEGIN:VEVENT
DTSTART:20241009T190000
DTEND:20241009T203000
SUMMARY:[1] MSP Stars vs. [5] Elmhurst Emeralds
DESCRIPTION:Travel Softball League - 14U - Carol Stream Park District
LOCATION:McCaslin 4
CATEGORIES:QuickScores; Softball Game
TRANSP:0
DALARM:20241009T170000;PT10M;2;[1] MSP Stars vs. [5] Elmhurst Emeralds
END:VEVENT
BEGIN:VEVENT
DTSTART:20241011T201500
DTEND:20241011T214500
SUMMARY:[1] MSP Stars vs. [2] Wheaton Wildcats
DESCRIPTION:Travel Softball League - 14U - Carol Stream Park District
LOCATION:McCaslin 4
CATEGORIES:QuickScores; Softball Game
TRANSP:0
DALARM:20241011T181500;PT10M;2;[1] MSP Stars vs. [2] Wheaton Wildcats
END:VEVENT
END:VCALENDAR
