BEGIN:VCALENDAR
VERSION:1.0
BEGIN:VEVENT
DTSTART:20240906T201500
DTEND:20240906T214500
SUMMARY:Illinois Hawks - Stockdale vs. DuPage Revolution
DESCRIPTION:Travel Softball League - 13U - Carol Stream Park District
LOCATION:McCaslin 4
CATEGORIES:QuickScores; Softball Game
TRANSP:0
DALARM:20240906T181500;PT10M;2;Illinois Hawks - Stockdale vs. DuPage Revolution
END:VEVENT
BEGIN:VEVENT
DTSTART:20240911T203000
DTEND:20240911T220000
SUMMARY:Illinois Hawks - Stockdale vs. MSP Stars
DESCRIPTION:Travel Softball League - 13U - Carol Stream Park District
LOCATION:McCaslin 4
CATEGORIES:QuickScores; Softball Game
TRANSP:0
DALARM:20240911T183000;PT10M;2;Illinois Hawks - Stockdale vs. MSP Stars
END:VEVENT
BEGIN:VEVENT
DTSTART:20240912T190000
DTEND:20240912T203000
SUMMARY:Illinois Hawks - Stockdale vs. Batavia Bulldogs
DESCRIPTION:Travel Softball League - 13U - Carol Stream Park District
LOCATION:Armstrong 3
CATEGORIES:QuickScores; Softball Game
TRANSP:0
DALARM:20240912T170000;PT10M;2;Illinois Hawks - Stockdale vs. Batavia Bulldogs
END:VEVENT
BEGIN:VEVENT
DTSTART:20240916T183000
DTEND:20240916T200000
SUMMARY:MSP Stars vs. Illinois Hawks - Stockdale
DESCRIPTION:Travel Softball League - 13U - Carol Stream Park District
LOCATION:McCaslin 1
CATEGORIES:QuickScores; Softball Game
TRANSP:0
DALARM:20240916T163000;PT10M;2;MSP Stars vs. Illinois Hawks - Stockdale
END:VEVENT
BEGIN:VEVENT
DTSTART:20240918T203000
DTEND:20240918T220000
SUMMARY:Batavia Bulldogs vs. Illinois Hawks - Stockdale
DESCRIPTION:Travel Softball League - 13U - Carol Stream Park District
LOCATION:McCaslin 4
CATEGORIES:QuickScores; Softball Game
TRANSP:0
DALARM:20240918T183000;PT10M;2;Batavia Bulldogs vs. Illinois Hawks - Stockdale
END:VEVENT
BEGIN:VEVENT
DTSTART:20240925T190000
DTEND:20240925T203000
SUMMARY:DuPage Revolution vs. Illinois Hawks - Stockdale
DESCRIPTION:Travel Softball League - 13U - Carol Stream Park District
LOCATION:McCaslin 3
CATEGORIES:QuickScores; Softball Game
TRANSP:0
DALARM:20240925T170000;PT10M;2;DuPage Revolution vs. Illinois Hawks - Stockdale
END:VEVENT
BEGIN:VEVENT
DTSTART:20240927T203000
DTEND:20240927T220000
SUMMARY:Genva Valkyrie vs. Illinois Hawks - Stockdale
DESCRIPTION:Travel Softball League - 13U - Carol Stream Park District
LOCATION:Armstrong 3
CATEGORIES:QuickScores; Softball Game
TRANSP:0
DALARM:20240927T183000;PT10M;2;Genva Valkyrie vs. Illinois Hawks - Stockdale
END:VEVENT
BEGIN:VEVENT
DTSTART:20241002T201500
DTEND:20241002T214500
SUMMARY:Illinois Hawks - Stockdale vs. Illinois Hawks - DeCubellis
DESCRIPTION:Travel Softball League - 13U - Carol Stream Park District
LOCATION:McCaslin 4
CATEGORIES:QuickScores; Softball Game
TRANSP:0
DALARM:20241002T181500;PT10M;2;Illinois Hawks - Stockdale vs. Illinois Hawks - DeCubellis
END:VEVENT
BEGIN:VEVENT
DTSTART:20241007T190000
DTEND:20241007T203000
SUMMARY:[4] Illinois Hawks - Stockdale vs. [5] MSP Stars
DESCRIPTION:Travel Softball League - 13U - Carol Stream Park District
LOCATION:McCaslin 1
CATEGORIES:QuickScores; Softball Game
TRANSP:0
DALARM:20241007T170000;PT10M;2;[4] Illinois Hawks - Stockdale vs. [5] MSP Stars
END:VEVENT
BEGIN:VEVENT
DTSTART:20241009T203000
DTEND:20241009T220000
SUMMARY:[1] DuPage Revolution vs. [4] Illinois Hawks - Stockdale
DESCRIPTION:Travel Softball League - 13U - Carol Stream Park District
LOCATION:McCaslin 2
CATEGORIES:QuickScores; Softball Game
TRANSP:0
DALARM:20241009T183000;PT10M;2;[1] DuPage Revolution vs. [4] Illinois Hawks - Stockdale
END:VEVENT
END:VCALENDAR
