BEGIN:VCALENDAR
VERSION:1.0
BEGIN:VEVENT
DTSTART:20240903T173000
DTEND:20240903T190000
SUMMARY:MSP Stars vs. Batavia Bulldogs
DESCRIPTION:Travel Softball League - 13U - Carol Stream Park District
LOCATION:McCaslin 1
CATEGORIES:QuickScores; Softball Game
TRANSP:0
DALARM:20240903T153000;PT10M;2;MSP Stars vs. Batavia Bulldogs
END:VEVENT
BEGIN:VEVENT
DTSTART:20240911T190000
DTEND:20240911T203000
SUMMARY:Illinois Hawks - DeCubellis vs. Batavia Bulldogs
DESCRIPTION:Travel Softball League - 13U - Carol Stream Park District
LOCATION:McCaslin 4
CATEGORIES:QuickScores; Softball Game
TRANSP:0
DALARM:20240911T170000;PT10M;2;Illinois Hawks - DeCubellis vs. Batavia Bulldogs
END:VEVENT
BEGIN:VEVENT
DTSTART:20240912T190000
DTEND:20240912T203000
SUMMARY:Illinois Hawks - Stockdale vs. Batavia Bulldogs
DESCRIPTION:Travel Softball League - 13U - Carol Stream Park District
LOCATION:Armstrong 3
CATEGORIES:QuickScores; Softball Game
TRANSP:0
DALARM:20240912T170000;PT10M;2;Illinois Hawks - Stockdale vs. Batavia Bulldogs
END:VEVENT
BEGIN:VEVENT
DTSTART:20240918T203000
DTEND:20240918T220000
SUMMARY:Batavia Bulldogs vs. Illinois Hawks - Stockdale
DESCRIPTION:Travel Softball League - 13U - Carol Stream Park District
LOCATION:McCaslin 4
CATEGORIES:QuickScores; Softball Game
TRANSP:0
DALARM:20240918T183000;PT10M;2;Batavia Bulldogs vs. Illinois Hawks - Stockdale
END:VEVENT
BEGIN:VEVENT
DTSTART:20240924T203000
DTEND:20240924T220000
SUMMARY:DuPage Revolution vs. Batavia Bulldogs
DESCRIPTION:Travel Softball League - 13U - Carol Stream Park District
LOCATION:McCaslin 1
CATEGORIES:QuickScores; Softball Game
TRANSP:0
DALARM:20240924T183000;PT10M;2;DuPage Revolution vs. Batavia Bulldogs
END:VEVENT
BEGIN:VEVENT
DTSTART:20240928T190000
DTEND:20240928T203000
SUMMARY:Batavia Bulldogs vs. MSP Stars
DESCRIPTION:Travel Softball League - 13U - Carol Stream Park District
LOCATION:Armstrong 3
CATEGORIES:QuickScores; Softball Game
TRANSP:0
DALARM:20240928T170000;PT10M;2;Batavia Bulldogs vs. MSP Stars
END:VEVENT
BEGIN:VEVENT
DTSTART:20241002T173000
DTEND:20241002T190000
SUMMARY:Batavia Bulldogs vs. Genva Valkyrie
DESCRIPTION:Travel Softball League - 13U - Carol Stream Park District
LOCATION:McCaslin 3
CATEGORIES:QuickScores; Softball Game
TRANSP:0
DALARM:20241002T153000;PT10M;2;Batavia Bulldogs vs. Genva Valkyrie
END:VEVENT
BEGIN:VEVENT
DTSTART:20241006T123000
DTEND:20241006T140000
SUMMARY:Batavia Bulldogs vs. Illinois Hawks - DeCubellis
DESCRIPTION:Rescheduled from 10/5 --- Travel Softball League - 13U - Carol Stream Park District
LOCATION:McCaslin 2
CATEGORIES:QuickScores; Softball Game
TRANSP:0
DALARM:20241006T103000;PT10M;2;Batavia Bulldogs vs. Illinois Hawks - DeCubellis
END:VEVENT
BEGIN:VEVENT
DTSTART:20241007T203000
DTEND:20241007T220000
SUMMARY:[3] Batavia Bulldogs vs. [6] Genva Valkyrie
DESCRIPTION:Travel Softball League - 13U - Carol Stream Park District
LOCATION:McCaslin 1
CATEGORIES:QuickScores; Softball Game
TRANSP:0
DALARM:20241007T183000;PT10M;2;[3] Batavia Bulldogs vs. [6] Genva Valkyrie
END:VEVENT
END:VCALENDAR
