BEGIN:VCALENDAR
VERSION:1.0
BEGIN:VEVENT
DTSTART:20240806T173000
DTEND:20240806T183000
SUMMARY:Ramirez vs. Ramirez
DESCRIPTION:Youth Soccer Practices - 5th/6th Grade Coed - Carol Stream Park District
LOCATION:Hampe 4 - Lower Soccer
CATEGORIES:QuickScores; Facilities Game
TRANSP:0
DALARM:20240806T153000;PT10M;2;Ramirez vs. Ramirez
END:VEVENT
BEGIN:VEVENT
DTSTART:20240813T173000
DTEND:20240813T183000
SUMMARY:Ramirez vs. Ramirez
DESCRIPTION:Youth Soccer Practices - 5th/6th Grade Coed - Carol Stream Park District
LOCATION:Hampe 4 - Lower Soccer
CATEGORIES:QuickScores; Facilities Game
TRANSP:0
DALARM:20240813T153000;PT10M;2;Ramirez vs. Ramirez
END:VEVENT
BEGIN:VEVENT
DTSTART:20240820T173000
DTEND:20240820T183000
SUMMARY:Ramirez vs. Ramirez
DESCRIPTION:Youth Soccer Practices - 5th/6th Grade Coed - Carol Stream Park District
LOCATION:Hampe 4 - Lower Soccer
CATEGORIES:QuickScores; Facilities Game
TRANSP:0
DALARM:20240820T153000;PT10M;2;Ramirez vs. Ramirez
END:VEVENT
BEGIN:VEVENT
DTSTART:20240827T173000
DTEND:20240827T183000
SUMMARY:Ramirez vs. Ramirez
DESCRIPTION:Youth Soccer Practices - 5th/6th Grade Coed - Carol Stream Park District
LOCATION:Hampe 4 - Lower Soccer
CATEGORIES:QuickScores; Facilities Game
TRANSP:0
DALARM:20240827T153000;PT10M;2;Ramirez vs. Ramirez
END:VEVENT
BEGIN:VEVENT
DTSTART:20240903T173000
DTEND:20240903T183000
SUMMARY:Ramirez vs. Ramirez
DESCRIPTION:Youth Soccer Practices - 5th/6th Grade Coed - Carol Stream Park District
LOCATION:Hampe 4 - Lower Soccer
CATEGORIES:QuickScores; Facilities Game
TRANSP:0
DALARM:20240903T153000;PT10M;2;Ramirez vs. Ramirez
END:VEVENT
BEGIN:VEVENT
DTSTART:20240910T173000
DTEND:20240910T183000
SUMMARY:Ramirez vs. Ramirez
DESCRIPTION:Youth Soccer Practices - 5th/6th Grade Coed - Carol Stream Park District
LOCATION:Hampe 4 - Lower Soccer
CATEGORIES:QuickScores; Facilities Game
TRANSP:0
DALARM:20240910T153000;PT10M;2;Ramirez vs. Ramirez
END:VEVENT
BEGIN:VEVENT
DTSTART:20240917T173000
DTEND:20240917T183000
SUMMARY:Ramirez vs. Ramirez
DESCRIPTION:Youth Soccer Practices - 5th/6th Grade Coed - Carol Stream Park District
LOCATION:Hampe 4 - Lower Soccer
CATEGORIES:QuickScores; Facilities Game
TRANSP:0
DALARM:20240917T153000;PT10M;2;Ramirez vs. Ramirez
END:VEVENT
BEGIN:VEVENT
DTSTART:20240924T173000
DTEND:20240924T183000
SUMMARY:Ramirez vs. Ramirez
DESCRIPTION:Youth Soccer Practices - 5th/6th Grade Coed - Carol Stream Park District
LOCATION:Hampe 4 - Lower Soccer
CATEGORIES:QuickScores; Facilities Game
TRANSP:0
DALARM:20240924T153000;PT10M;2;Ramirez vs. Ramirez
END:VEVENT
BEGIN:VEVENT
DTSTART:20241001T173000
DTEND:20241001T183000
SUMMARY:Ramirez vs. Ramirez
DESCRIPTION:Youth Soccer Practices - 5th/6th Grade Coed - Carol Stream Park District
LOCATION:Hampe 4 - Lower Soccer
CATEGORIES:QuickScores; Facilities Game
TRANSP:0
DALARM:20241001T153000;PT10M;2;Ramirez vs. Ramirez
END:VEVENT
BEGIN:VEVENT
DTSTART:20241008T173000
DTEND:20241008T183000
SUMMARY:Ramirez vs. Ramirez
DESCRIPTION:Youth Soccer Practices - 5th/6th Grade Coed - Carol Stream Park District
LOCATION:Hampe 4 - Lower Soccer
CATEGORIES:QuickScores; Facilities Game
TRANSP:0
DALARM:20241008T153000;PT10M;2;Ramirez vs. Ramirez
END:VEVENT
BEGIN:VEVENT
DTSTART:20241015T173000
DTEND:20241015T183000
SUMMARY:Ramirez vs. Ramirez
DESCRIPTION:Youth Soccer Practices - 5th/6th Grade Coed - Carol Stream Park District
LOCATION:Hampe 4 - Lower Soccer
CATEGORIES:QuickScores; Facilities Game
TRANSP:0
DALARM:20241015T153000;PT10M;2;Ramirez vs. Ramirez
END:VEVENT
END:VCALENDAR
