BEGIN:VCALENDAR
VERSION:1.0
BEGIN:VEVENT
DTSTART:20240801T183000
DTEND:20240801T200000
SUMMARY:Tuhchiev vs. Tuhchiev
DESCRIPTION:Youth Soccer Practices - 7th/8th Grade Coed - Carol Stream Park District
LOCATION:Glenbard North - Turf Field
CATEGORIES:QuickScores; Facilities Game
TRANSP:0
DALARM:20240801T163000;PT10M;2;Tuhchiev vs. Tuhchiev
END:VEVENT
BEGIN:VEVENT
DTSTART:20240803T120000
DTEND:20240803T130000
SUMMARY:Tuhchiev vs. Tuhchiev
DESCRIPTION:Youth Soccer Practices - 7th/8th Grade Coed - Carol Stream Park District
LOCATION:Glenbard North - Turf Field
CATEGORIES:QuickScores; Facilities Game
TRANSP:0
DALARM:20240803T100000;PT10M;2;Tuhchiev vs. Tuhchiev
END:VEVENT
BEGIN:VEVENT
DTSTART:20240808T173000
DTEND:20240808T190000
SUMMARY:Tuhchiev vs. Tuhchiev
DESCRIPTION:Youth Soccer Practices - 7th/8th Grade Coed - Carol Stream Park District
LOCATION:Red Hawk 3
CATEGORIES:QuickScores; Facilities Game
TRANSP:0
DALARM:20240808T153000;PT10M;2;Tuhchiev vs. Tuhchiev
END:VEVENT
BEGIN:VEVENT
DTSTART:20240810T120000
DTEND:20240810T130000
SUMMARY:Tuhchiev vs. Tuhchiev
DESCRIPTION:Youth Soccer Practices - 7th/8th Grade Coed - Carol Stream Park District
LOCATION:Glenbard North - Turf Field
CATEGORIES:QuickScores; Facilities Game
TRANSP:0
DALARM:20240810T100000;PT10M;2;Tuhchiev vs. Tuhchiev
END:VEVENT
BEGIN:VEVENT
DTSTART:20240815T173000
DTEND:20240815T190000
SUMMARY:Tuhchiev vs. Tuhchiev
DESCRIPTION:Youth Soccer Practices - 7th/8th Grade Coed - Carol Stream Park District
LOCATION:Red Hawk 3
CATEGORIES:QuickScores; Facilities Game
TRANSP:0
DALARM:20240815T153000;PT10M;2;Tuhchiev vs. Tuhchiev
END:VEVENT
BEGIN:VEVENT
DTSTART:20240822T173000
DTEND:20240822T190000
SUMMARY:Tuhchiev vs. Tuhchiev
DESCRIPTION:Youth Soccer Practices - 7th/8th Grade Coed - Carol Stream Park District
LOCATION:Red Hawk 3
CATEGORIES:QuickScores; Facilities Game
TRANSP:0
DALARM:20240822T153000;PT10M;2;Tuhchiev vs. Tuhchiev
END:VEVENT
BEGIN:VEVENT
DTSTART:20240829T173000
DTEND:20240829T190000
SUMMARY:Tuhchiev vs. Tuhchiev
DESCRIPTION:Youth Soccer Practices - 7th/8th Grade Coed - Carol Stream Park District
LOCATION:Red Hawk 3
CATEGORIES:QuickScores; Facilities Game
TRANSP:0
DALARM:20240829T153000;PT10M;2;Tuhchiev vs. Tuhchiev
END:VEVENT
BEGIN:VEVENT
DTSTART:20240905T173000
DTEND:20240905T190000
SUMMARY:Tuhchiev vs. Tuhchiev
DESCRIPTION:Youth Soccer Practices - 7th/8th Grade Coed - Carol Stream Park District
LOCATION:Red Hawk 3
CATEGORIES:QuickScores; Facilities Game
TRANSP:0
DALARM:20240905T153000;PT10M;2;Tuhchiev vs. Tuhchiev
END:VEVENT
BEGIN:VEVENT
DTSTART:20240912T173000
DTEND:20240912T190000
SUMMARY:Tuhchiev vs. Tuhchiev
DESCRIPTION:Youth Soccer Practices - 7th/8th Grade Coed - Carol Stream Park District
LOCATION:Red Hawk 3
CATEGORIES:QuickScores; Facilities Game
TRANSP:0
DALARM:20240912T153000;PT10M;2;Tuhchiev vs. Tuhchiev
END:VEVENT
BEGIN:VEVENT
DTSTART:20240919T173000
DTEND:20240919T190000
SUMMARY:Tuhchiev vs. Tuhchiev
DESCRIPTION:Youth Soccer Practices - 7th/8th Grade Coed - Carol Stream Park District
LOCATION:Red Hawk 3
CATEGORIES:QuickScores; Facilities Game
TRANSP:0
DALARM:20240919T153000;PT10M;2;Tuhchiev vs. Tuhchiev
END:VEVENT
BEGIN:VEVENT
DTSTART:20240926T173000
DTEND:20240926T190000
SUMMARY:Tuhchiev vs. Tuhchiev
DESCRIPTION:Youth Soccer Practices - 7th/8th Grade Coed - Carol Stream Park District
LOCATION:Red Hawk 3
CATEGORIES:QuickScores; Facilities Game
TRANSP:0
DALARM:20240926T153000;PT10M;2;Tuhchiev vs. Tuhchiev
END:VEVENT
BEGIN:VEVENT
DTSTART:20241003T173000
DTEND:20241003T190000
SUMMARY:Tuhchiev vs. Tuhchiev
DESCRIPTION:Youth Soccer Practices - 7th/8th Grade Coed - Carol Stream Park District
LOCATION:Red Hawk 3
CATEGORIES:QuickScores; Facilities Game
TRANSP:0
DALARM:20241003T153000;PT10M;2;Tuhchiev vs. Tuhchiev
END:VEVENT
BEGIN:VEVENT
DTSTART:20241010T173000
DTEND:20241010T190000
SUMMARY:Tuhchiev vs. Tuhchiev
DESCRIPTION:Youth Soccer Practices - 7th/8th Grade Coed - Carol Stream Park District
LOCATION:Red Hawk 3
CATEGORIES:QuickScores; Facilities Game
TRANSP:0
DALARM:20241010T153000;PT10M;2;Tuhchiev vs. Tuhchiev
END:VEVENT
BEGIN:VEVENT
DTSTART:20241011T173000
DTEND:20241011T190000
SUMMARY:Tuhchiev vs. Tuhchiev
DESCRIPTION:Youth Soccer Practices - 7th/8th Grade Coed - Carol Stream Park District
LOCATION:Red Hawk 3
CATEGORIES:QuickScores; Facilities Game
TRANSP:0
DALARM:20241011T153000;PT10M;2;Tuhchiev vs. Tuhchiev
END:VEVENT
BEGIN:VEVENT
DTSTART:20241017T173000
DTEND:20241017T190000
SUMMARY:Tuhchiev vs. Tuhchiev
DESCRIPTION:Youth Soccer Practices - 7th/8th Grade Coed - Carol Stream Park District
LOCATION:Red Hawk 3
CATEGORIES:QuickScores; Facilities Game
TRANSP:0
DALARM:20241017T153000;PT10M;2;Tuhchiev vs. Tuhchiev
END:VEVENT
BEGIN:VEVENT
DTSTART:20241018T173000
DTEND:20241018T190000
SUMMARY:Tuhchiev vs. Tuhchiev
DESCRIPTION:Youth Soccer Practices - 7th/8th Grade Coed - Carol Stream Park District
LOCATION:Red Hawk 3
CATEGORIES:QuickScores; Facilities Game
TRANSP:0
DALARM:20241018T153000;PT10M;2;Tuhchiev vs. Tuhchiev
END:VEVENT
END:VCALENDAR
