BEGIN:VCALENDAR
VERSION:1.0
BEGIN:VEVENT
DTSTART:20240615T090000
DTEND:20240615T091500
SUMMARY:Baby Got Back (Hand) vs. The Cunninghams
DESCRIPTION:Summer Kitchen Classic Pickleball Tournament - Competitive - Carol Stream Park District
LOCATION:Armstrong Pickleball - Court 3
CATEGORIES:QuickScores; Pickleball Game
TRANSP:0
DALARM:20240615T070000;PT10M;2;Baby Got Back (Hand) vs. The Cunninghams
END:VEVENT
BEGIN:VEVENT
DTSTART:20240615T091500
DTEND:20240615T093000
SUMMARY:The Cunninghams vs. Two Old Guys
DESCRIPTION:Summer Kitchen Classic Pickleball Tournament - Competitive - Carol Stream Park District
LOCATION:Armstrong Pickleball - Court 3
CATEGORIES:QuickScores; Pickleball Game
TRANSP:0
DALARM:20240615T071500;PT10M;2;The Cunninghams vs. Two Old Guys
END:VEVENT
BEGIN:VEVENT
DTSTART:20240615T093000
DTEND:20240615T094500
SUMMARY:The Cunninghams vs. Team Fountain View
DESCRIPTION:Summer Kitchen Classic Pickleball Tournament - Competitive - Carol Stream Park District
LOCATION:Armstrong Pickleball - Court 1
CATEGORIES:QuickScores; Pickleball Game
TRANSP:0
DALARM:20240615T073000;PT10M;2;The Cunninghams vs. Team Fountain View
END:VEVENT
BEGIN:VEVENT
DTSTART:20240615T094500
DTEND:20240615T100000
SUMMARY:The Cunninghams vs. Illini Huskies
DESCRIPTION:Summer Kitchen Classic Pickleball Tournament - Competitive - Carol Stream Park District
LOCATION:Armstrong Pickleball - Court 1
CATEGORIES:QuickScores; Pickleball Game
TRANSP:0
DALARM:20240615T074500;PT10M;2;The Cunninghams vs. Illini Huskies
END:VEVENT
BEGIN:VEVENT
DTSTART:20240615T100000
DTEND:20240615T101500
SUMMARY:Chamoy Pickle vs. The Cunninghams
DESCRIPTION:Summer Kitchen Classic Pickleball Tournament - Competitive - Carol Stream Park District
LOCATION:Armstrong Pickleball - Court 1
CATEGORIES:QuickScores; Pickleball Game
TRANSP:0
DALARM:20240615T080000;PT10M;2;Chamoy Pickle vs. The Cunninghams
END:VEVENT
BEGIN:VEVENT
DTSTART:20240615T103000
DTEND:20240615T110000
SUMMARY:[ 3 ] Chamoy Pickle vs. [ 6 ] The Cunninghams
DESCRIPTION:Summer Kitchen Classic Pickleball Tournament - Competitive - Carol Stream Park District
LOCATION:Armstrong Pickleball - Court 2
CATEGORIES:QuickScores; Pickleball Game
TRANSP:0
DALARM:20240615T083000;PT10M;2;[ 3 ] Chamoy Pickle vs. [ 6 ] The Cunninghams
END:VEVENT
BEGIN:VEVENT
DTSTART:20240615T113000
DTEND:20240615T120000
SUMMARY:[ 4 ] Team Fountain View vs. [ 6 ] The Cunninghams
DESCRIPTION:Summer Kitchen Classic Pickleball Tournament - Competitive - Carol Stream Park District
LOCATION:Armstrong Pickleball - Court 3
CATEGORIES:QuickScores; Pickleball Game
TRANSP:0
DALARM:20240615T093000;PT10M;2;[ 4 ] Team Fountain View vs. [ 6 ] The Cunninghams
END:VEVENT
END:VCALENDAR
