BEGIN:VCALENDAR
VERSION:1.0
BEGIN:VEVENT
DTSTART:20240604T181500
DTEND:20240604T191500
SUMMARY:Kumquats vs. Biggie Bats
DESCRIPTION:Adult Softball - Tuesday Coed League (Updated) - Carol Stream Park District
LOCATION:McCaslin 3
CATEGORIES:QuickScores; Softball - Adult Game
TRANSP:0
DALARM:20240604T161500;PT10M;2;Kumquats vs. Biggie Bats
END:VEVENT
BEGIN:VEVENT
DTSTART:20240611T181500
DTEND:20240611T191500
SUMMARY:Biggie Bats vs. Chrissy's
DESCRIPTION:Adult Softball - Tuesday Coed League (Updated) - Carol Stream Park District
LOCATION:McCaslin 3
CATEGORIES:QuickScores; Softball - Adult Game
TRANSP:0
DALARM:20240611T161500;PT10M;2;Biggie Bats vs. Chrissy's
END:VEVENT
BEGIN:VEVENT
DTSTART:20240618T211500
DTEND:20240618T221500
SUMMARY:Biggie Bats vs. Lightning
DESCRIPTION:Adult Softball - Tuesday Coed League (Updated) - Carol Stream Park District
LOCATION:McCaslin 2
CATEGORIES:QuickScores; Softball - Adult Game
TRANSP:0
DALARM:20240618T191500;PT10M;2;Biggie Bats vs. Lightning
END:VEVENT
BEGIN:VEVENT
DTSTART:20240625T211500
DTEND:20240625T221500
SUMMARY:The Beatdowns vs. Biggie Bats
DESCRIPTION:Adult Softball - Tuesday Coed League (Updated) - Carol Stream Park District
LOCATION:McCaslin 3
CATEGORIES:QuickScores; Softball - Adult Game
TRANSP:0
DALARM:20240625T191500;PT10M;2;The Beatdowns vs. Biggie Bats
END:VEVENT
BEGIN:VEVENT
DTSTART:20240702T191500
DTEND:20240702T201500
SUMMARY:Biggie Bats vs. Creationz
DESCRIPTION:Adult Softball - Tuesday Coed League (Updated) - Carol Stream Park District
LOCATION:McCaslin 3
CATEGORIES:QuickScores; Softball - Adult Game
TRANSP:0
DALARM:20240702T171500;PT10M;2;Biggie Bats vs. Creationz
END:VEVENT
BEGIN:VEVENT
DTSTART:20240730T201500
DTEND:20240730T211500
SUMMARY:Screwballs - Walker vs. Biggie Bats
DESCRIPTION:Adult Softball - Tuesday Coed League (Updated) - Carol Stream Park District
LOCATION:McCaslin 3
CATEGORIES:QuickScores; Softball - Adult Game
TRANSP:0
DALARM:20240730T181500;PT10M;2;Screwballs - Walker vs. Biggie Bats
END:VEVENT
BEGIN:VEVENT
DTSTART:20240806T181500
DTEND:20240806T191500
SUMMARY:Should've Been Amish vs. Biggie Bats
DESCRIPTION:Moved from 7/9 --- Adult Softball - Tuesday Coed League (Updated) - Carol Stream Park District
LOCATION:McCaslin 4
CATEGORIES:QuickScores; Softball - Adult Game
TRANSP:0
DALARM:20240806T161500;PT10M;2;Should've Been Amish vs. Biggie Bats
END:VEVENT
BEGIN:VEVENT
DTSTART:20240806T191500
DTEND:20240806T201500
SUMMARY:Biggie Bats vs. Midpoint
DESCRIPTION:Rescheduled from 7/23 --- Adult Softball - Tuesday Coed League (Updated) - Carol Stream Park District
LOCATION:McCaslin 1
CATEGORIES:QuickScores; Softball - Adult Game
TRANSP:0
DALARM:20240806T171500;PT10M;2;Biggie Bats vs. Midpoint
END:VEVENT
BEGIN:VEVENT
DTSTART:20240813T191500
DTEND:20240813T201500
SUMMARY:[ 1 ] Biggie Bats vs. [ 5 ] Screwballs - Walker
DESCRIPTION:Adult Softball - Tuesday Coed League (Updated) - Carol Stream Park District
LOCATION:McCaslin 3
CATEGORIES:QuickScores; Softball - Adult Game
TRANSP:0
DALARM:20240813T171500;PT10M;2;[ 1 ] Biggie Bats vs. [ 5 ] Screwballs - Walker
END:VEVENT
END:VCALENDAR
