BEGIN:VCALENDAR
VERSION:1.0
BEGIN:VEVENT
DTSTART:20240604T191500
DTEND:20240604T201500
SUMMARY:Smooch Squad vs. Screwballs - Wolter
DESCRIPTION:Adult Softball - Tuesday Coed League (Updated) - Carol Stream Park District
LOCATION:McCaslin 3
CATEGORIES:QuickScores; Softball - Adult Game
TRANSP:0
DALARM:20240604T171500;PT10M;2;Smooch Squad vs. Screwballs - Wolter
END:VEVENT
BEGIN:VEVENT
DTSTART:20240611T191500
DTEND:20240611T201500
SUMMARY:Screwballs - Wolter vs. The Beatdowns
DESCRIPTION:Adult Softball - Tuesday Coed League (Updated) - Carol Stream Park District
LOCATION:McCaslin 3
CATEGORIES:QuickScores; Softball - Adult Game
TRANSP:0
DALARM:20240611T171500;PT10M;2;Screwballs - Wolter vs. The Beatdowns
END:VEVENT
BEGIN:VEVENT
DTSTART:20240618T181500
DTEND:20240618T191500
SUMMARY:Screwballs - Wolter vs. Bulldogs
DESCRIPTION:Adult Softball - Tuesday Coed League (Updated) - Carol Stream Park District
LOCATION:McCaslin 3
CATEGORIES:QuickScores; Softball - Adult Game
TRANSP:0
DALARM:20240618T161500;PT10M;2;Screwballs - Wolter vs. Bulldogs
END:VEVENT
BEGIN:VEVENT
DTSTART:20240625T181500
DTEND:20240625T191500
SUMMARY:Midpoint vs. Screwballs - Wolter
DESCRIPTION:Adult Softball - Tuesday Coed League (Updated) - Carol Stream Park District
LOCATION:McCaslin 3
CATEGORIES:QuickScores; Softball - Adult Game
TRANSP:0
DALARM:20240625T161500;PT10M;2;Midpoint vs. Screwballs - Wolter
END:VEVENT
BEGIN:VEVENT
DTSTART:20240702T191500
DTEND:20240702T201500
SUMMARY:Screwballs - Wolter vs. Screwballs - Walker
DESCRIPTION:Adult Softball - Tuesday Coed League (Updated) - Carol Stream Park District
LOCATION:McCaslin 4
CATEGORIES:QuickScores; Softball - Adult Game
TRANSP:0
DALARM:20240702T171500;PT10M;2;Screwballs - Wolter vs. Screwballs - Walker
END:VEVENT
BEGIN:VEVENT
DTSTART:20240730T181500
DTEND:20240730T191500
SUMMARY:Screwballs - Wolter vs. Lightning
DESCRIPTION:Adult Softball - Tuesday Coed League (Updated) - Carol Stream Park District
LOCATION:McCaslin 4
CATEGORIES:QuickScores; Softball - Adult Game
TRANSP:0
DALARM:20240730T161500;PT10M;2;Screwballs - Wolter vs. Lightning
END:VEVENT
BEGIN:VEVENT
DTSTART:20240806T201500
DTEND:20240806T211500
SUMMARY:Should've Been Amish vs. Screwballs - Wolter
DESCRIPTION:Rescheduled from 7/23 --- Adult Softball - Tuesday Coed League (Updated) - Carol Stream Park District
LOCATION:McCaslin 3
CATEGORIES:QuickScores; Softball - Adult Game
TRANSP:0
DALARM:20240806T181500;PT10M;2;Should've Been Amish vs. Screwballs - Wolter
END:VEVENT
BEGIN:VEVENT
DTSTART:20240813T181500
DTEND:20240813T191500
SUMMARY:Creationz vs. Screwballs - Wolter
DESCRIPTION:Forfeit --- Adult Softball - Tuesday Coed League (Updated) - Carol Stream Park District
LOCATION:TBD
CATEGORIES:QuickScores; Softball - Adult Game
TRANSP:0
DALARM:20240813T161500;PT10M;2;Creationz vs. Screwballs - Wolter
END:VEVENT
END:VCALENDAR
