BEGIN:VCALENDAR
VERSION:1.0
BEGIN:VEVENT
DTSTART:20240604T211500
DTEND:20240604T221500
SUMMARY:Lightning vs. Should've Been Amish
DESCRIPTION:Adult Softball - Tuesday Coed League (Updated) - Carol Stream Park District
LOCATION:McCaslin 2
CATEGORIES:QuickScores; Softball - Adult Game
TRANSP:0
DALARM:20240604T191500;PT10M;2;Lightning vs. Should've Been Amish
END:VEVENT
BEGIN:VEVENT
DTSTART:20240611T201500
DTEND:20240611T211500
SUMMARY:Kumquats vs. Should've Been Amish
DESCRIPTION:Adult Softball - Tuesday Coed League (Updated) - Carol Stream Park District
LOCATION:McCaslin 3
CATEGORIES:QuickScores; Softball - Adult Game
TRANSP:0
DALARM:20240611T181500;PT10M;2;Kumquats vs. Should've Been Amish
END:VEVENT
BEGIN:VEVENT
DTSTART:20240618T211500
DTEND:20240618T221500
SUMMARY:Should've Been Amish vs. Creationz
DESCRIPTION:Adult Softball - Tuesday Coed League (Updated) - Carol Stream Park District
LOCATION:McCaslin 3
CATEGORIES:QuickScores; Softball - Adult Game
TRANSP:0
DALARM:20240618T191500;PT10M;2;Should've Been Amish vs. Creationz
END:VEVENT
BEGIN:VEVENT
DTSTART:20240625T191500
DTEND:20240625T201500
SUMMARY:Should've Been Amish vs. Chrissy's
DESCRIPTION:Adult Softball - Tuesday Coed League (Updated) - Carol Stream Park District
LOCATION:McCaslin 3
CATEGORIES:QuickScores; Softball - Adult Game
TRANSP:0
DALARM:20240625T171500;PT10M;2;Should've Been Amish vs. Chrissy's
END:VEVENT
BEGIN:VEVENT
DTSTART:20240702T211500
DTEND:20240702T221500
SUMMARY:Midpoint vs. Should've Been Amish
DESCRIPTION:Adult Softball - Tuesday Coed League (Updated) - Carol Stream Park District
LOCATION:McCaslin 4
CATEGORIES:QuickScores; Softball - Adult Game
TRANSP:0
DALARM:20240702T191500;PT10M;2;Midpoint vs. Should've Been Amish
END:VEVENT
BEGIN:VEVENT
DTSTART:20240730T181500
DTEND:20240730T191500
SUMMARY:The Beatdowns vs. Should've Been Amish
DESCRIPTION:Adult Softball - Tuesday Coed League (Updated) - Carol Stream Park District
LOCATION:McCaslin 3
CATEGORIES:QuickScores; Softball - Adult Game
TRANSP:0
DALARM:20240730T161500;PT10M;2;The Beatdowns vs. Should've Been Amish
END:VEVENT
BEGIN:VEVENT
DTSTART:20240806T181500
DTEND:20240806T191500
SUMMARY:Should've Been Amish vs. Biggie Bats
DESCRIPTION:Moved from 7/9 --- Adult Softball - Tuesday Coed League (Updated) - Carol Stream Park District
LOCATION:McCaslin 4
CATEGORIES:QuickScores; Softball - Adult Game
TRANSP:0
DALARM:20240806T161500;PT10M;2;Should've Been Amish vs. Biggie Bats
END:VEVENT
BEGIN:VEVENT
DTSTART:20240806T201500
DTEND:20240806T211500
SUMMARY:Should've Been Amish vs. Screwballs - Wolter
DESCRIPTION:Rescheduled from 7/23 --- Adult Softball - Tuesday Coed League (Updated) - Carol Stream Park District
LOCATION:McCaslin 3
CATEGORIES:QuickScores; Softball - Adult Game
TRANSP:0
DALARM:20240806T181500;PT10M;2;Should've Been Amish vs. Screwballs - Wolter
END:VEVENT
BEGIN:VEVENT
DTSTART:20240813T191500
DTEND:20240813T201500
SUMMARY:[ 2 ] Should've Been Amish vs. [ 3 ] Chrissy's
DESCRIPTION:Adult Softball - Tuesday Coed League (Updated) - Carol Stream Park District
LOCATION:McCaslin 2
CATEGORIES:QuickScores; Softball - Adult Game
TRANSP:0
DALARM:20240813T171500;PT10M;2;[ 2 ] Should've Been Amish vs. [ 3 ] Chrissy's
END:VEVENT
BEGIN:VEVENT
DTSTART:20240813T201500
DTEND:20240813T211500
SUMMARY:[ 5 ] Screwballs - Walker vs. [ 2 ] Should've Been Amish
DESCRIPTION:Adult Softball - Tuesday Coed League (Updated) - Carol Stream Park District
LOCATION:McCaslin 3
CATEGORIES:QuickScores; Softball - Adult Game
TRANSP:0
DALARM:20240813T181500;PT10M;2;[ 5 ] Screwballs - Walker vs. [ 2 ] Should've Been Amish
END:VEVENT
END:VCALENDAR
