BEGIN:VCALENDAR
VERSION:1.0
BEGIN:VEVENT
DTSTART:20240609T110000
DTEND:20240609T120000
SUMMARY:DBA - 3 R. Tarsitano vs. Bville Bulls
DESCRIPTION:Youth Basketball -  3rd/4th Grade Boys Sunday (Intervillage) - Carol Stream Park District
LOCATION:Army Trail School - West Gym
CATEGORIES:QuickScores; Basketball - Youth Game
TRANSP:0
DALARM:20240609T090000;PT10M;2;DBA - 3 R. Tarsitano vs. Bville Bulls
END:VEVENT
BEGIN:VEVENT
DTSTART:20240623T100000
DTEND:20240623T110000
SUMMARY:DBA - 2 J. Dorhauer vs. Bville Bulls
DESCRIPTION:Youth Basketball -  3rd/4th Grade Boys Sunday (Intervillage) - Carol Stream Park District
LOCATION:Army Trail School - East Gym
CATEGORIES:QuickScores; Basketball - Youth Game
TRANSP:0
DALARM:20240623T080000;PT10M;2;DBA - 2 J. Dorhauer vs. Bville Bulls
END:VEVENT
BEGIN:VEVENT
DTSTART:20240630T120000
DTEND:20240630T130000
SUMMARY:Bville Bulls vs. Glendale Heights (Jarvis)
DESCRIPTION:Youth Basketball -  3rd/4th Grade Boys Sunday (Intervillage) - Carol Stream Park District
LOCATION:Bensenville Park District
CATEGORIES:QuickScores; Basketball - Youth Game
TRANSP:0
DALARM:20240630T100000;PT10M;2;Bville Bulls vs. Glendale Heights (Jarvis)
END:VEVENT
BEGIN:VEVENT
DTSTART:20240721T100000
DTEND:20240721T110000
SUMMARY:DBA - 1 A. Hernandez vs. Bville Bulls
DESCRIPTION:Youth Basketball -  3rd/4th Grade Boys Sunday (Intervillage) - Carol Stream Park District
LOCATION:Army Trail School - East Gym
CATEGORIES:QuickScores; Basketball - Youth Game
TRANSP:0
DALARM:20240721T080000;PT10M;2;DBA - 1 A. Hernandez vs. Bville Bulls
END:VEVENT
BEGIN:VEVENT
DTSTART:20240721T110000
DTEND:20240721T120000
SUMMARY:Bville Bulls vs. DBA - 3 R. Tarsitano
DESCRIPTION:GAME TO BE RESCHEDULED - NO GAME ON 7/21 --- Youth Basketball -  3rd/4th Grade Boys Sunday (Intervillage) - Carol Stream Park District
LOCATION:Army Trail School - East Gym
CATEGORIES:QuickScores; Basketball - Youth Game
TRANSP:0
DALARM:20240721T090000;PT10M;2;Bville Bulls vs. DBA - 3 R. Tarsitano
END:VEVENT
BEGIN:VEVENT
DTSTART:20240728T123000
DTEND:20240728T133000
SUMMARY:Glendale Heights (Jarvis) vs. Bville Bulls
DESCRIPTION:Youth Basketball -  3rd/4th Grade Boys Sunday (Intervillage) - Carol Stream Park District
LOCATION:Sports Hub - Court B
CATEGORIES:QuickScores; Basketball - Youth Game
TRANSP:0
DALARM:20240728T103000;PT10M;2;Glendale Heights (Jarvis) vs. Bville Bulls
END:VEVENT
BEGIN:VEVENT
DTSTART:20240804T120000
DTEND:20240804T130000
SUMMARY:Bville Bulls vs. DBA - 2 J. Dorhauer
DESCRIPTION:Youth Basketball -  3rd/4th Grade Boys Sunday (Intervillage) - Carol Stream Park District
LOCATION:Bensenville Park District
CATEGORIES:QuickScores; Basketball - Youth Game
TRANSP:0
DALARM:20240804T100000;PT10M;2;Bville Bulls vs. DBA - 2 J. Dorhauer
END:VEVENT
BEGIN:VEVENT
DTSTART:20240804T130000
DTEND:20240804T140000
SUMMARY:Bville Bulls vs. DBA - 1 A. Hernandez
DESCRIPTION:Youth Basketball -  3rd/4th Grade Boys Sunday (Intervillage) - Carol Stream Park District
LOCATION:Bensenville Park District
CATEGORIES:QuickScores; Basketball - Youth Game
TRANSP:0
DALARM:20240804T110000;PT10M;2;Bville Bulls vs. DBA - 1 A. Hernandez
END:VEVENT
END:VCALENDAR
