BEGIN:VCALENDAR
VERSION:1.0
BEGIN:VEVENT
DTSTART:20240522T190000
DTEND:20240522T200000
SUMMARY:Heat - Kavenaugh vs. Heat - Kavenaugh
DESCRIPTION:Youth Basketball Practices - 5th/6th Grade Boys - Carol Stream Park District
LOCATION:Evergreen - Full Gym
CATEGORIES:QuickScores; Facilities Game
TRANSP:0
DALARM:20240522T170000;PT10M;2;Heat - Kavenaugh vs. Heat - Kavenaugh
END:VEVENT
BEGIN:VEVENT
DTSTART:20240526T123000
DTEND:20240526T133000
SUMMARY:Heat - Kavenaugh vs. Heat - Kavenaugh
DESCRIPTION:Youth Basketball Practices - 5th/6th Grade Boys - Carol Stream Park District
LOCATION:Fountain View - Court 3
CATEGORIES:QuickScores; Facilities Game
TRANSP:0
DALARM:20240526T103000;PT10M;2;Heat - Kavenaugh vs. Heat - Kavenaugh
END:VEVENT
BEGIN:VEVENT
DTSTART:20240529T190000
DTEND:20240529T200000
SUMMARY:Heat - Kavenaugh vs. Heat - Kavenaugh
DESCRIPTION:Youth Basketball Practices - 5th/6th Grade Boys - Carol Stream Park District
LOCATION:Evergreen - Full Gym
CATEGORIES:QuickScores; Facilities Game
TRANSP:0
DALARM:20240529T170000;PT10M;2;Heat - Kavenaugh vs. Heat - Kavenaugh
END:VEVENT
BEGIN:VEVENT
DTSTART:20240605T190000
DTEND:20240605T200000
SUMMARY:Heat - Kavenaugh vs. Heat - Kavenaugh
DESCRIPTION:Youth Basketball Practices - 5th/6th Grade Boys - Carol Stream Park District
LOCATION:Evergreen - Full Gym
CATEGORIES:QuickScores; Facilities Game
TRANSP:0
DALARM:20240605T170000;PT10M;2;Heat - Kavenaugh vs. Heat - Kavenaugh
END:VEVENT
BEGIN:VEVENT
DTSTART:20240612T190000
DTEND:20240612T200000
SUMMARY:Heat - Kavenaugh vs. Heat - Kavenaugh
DESCRIPTION:Youth Basketball Practices - 5th/6th Grade Boys - Carol Stream Park District
LOCATION:Evergreen - Full Gym
CATEGORIES:QuickScores; Facilities Game
TRANSP:0
DALARM:20240612T170000;PT10M;2;Heat - Kavenaugh vs. Heat - Kavenaugh
END:VEVENT
BEGIN:VEVENT
DTSTART:20240619T190000
DTEND:20240619T200000
SUMMARY:Heat - Kavenaugh vs. Heat - Kavenaugh
DESCRIPTION:Youth Basketball Practices - 5th/6th Grade Boys - Carol Stream Park District
LOCATION:Evergreen - Full Gym
CATEGORIES:QuickScores; Facilities Game
TRANSP:0
DALARM:20240619T170000;PT10M;2;Heat - Kavenaugh vs. Heat - Kavenaugh
END:VEVENT
BEGIN:VEVENT
DTSTART:20240626T190000
DTEND:20240626T200000
SUMMARY:Heat - Kavenaugh vs. Heat - Kavenaugh
DESCRIPTION:Youth Basketball Practices - 5th/6th Grade Boys - Carol Stream Park District
LOCATION:Evergreen - Full Gym
CATEGORIES:QuickScores; Facilities Game
TRANSP:0
DALARM:20240626T170000;PT10M;2;Heat - Kavenaugh vs. Heat - Kavenaugh
END:VEVENT
BEGIN:VEVENT
DTSTART:20240703T190000
DTEND:20240703T200000
SUMMARY:Heat - Kavenaugh vs. Heat - Kavenaugh
DESCRIPTION:Youth Basketball Practices - 5th/6th Grade Boys - Carol Stream Park District
LOCATION:Evergreen - Full Gym
CATEGORIES:QuickScores; Facilities Game
TRANSP:0
DALARM:20240703T170000;PT10M;2;Heat - Kavenaugh vs. Heat - Kavenaugh
END:VEVENT
BEGIN:VEVENT
DTSTART:20240710T190000
DTEND:20240710T200000
SUMMARY:Heat - Kavenaugh vs. Heat - Kavenaugh
DESCRIPTION:Updated Location --- Youth Basketball Practices - 5th/6th Grade Boys - Carol Stream Park District
LOCATION:Fountain View - Court 1
CATEGORIES:QuickScores; Facilities Game
TRANSP:0
DALARM:20240710T170000;PT10M;2;Heat - Kavenaugh vs. Heat - Kavenaugh
END:VEVENT
BEGIN:VEVENT
DTSTART:20240717T190000
DTEND:20240717T200000
SUMMARY:Heat - Kavenaugh vs. Heat - Kavenaugh
DESCRIPTION:Youth Basketball Practices - 5th/6th Grade Boys - Carol Stream Park District
LOCATION:Evergreen - Full Gym
CATEGORIES:QuickScores; Facilities Game
TRANSP:0
DALARM:20240717T170000;PT10M;2;Heat - Kavenaugh vs. Heat - Kavenaugh
END:VEVENT
BEGIN:VEVENT
DTSTART:20240724T190000
DTEND:20240724T200000
SUMMARY:Heat - Kavenaugh vs. Heat - Kavenaugh
DESCRIPTION:Youth Basketball Practices - 5th/6th Grade Boys - Carol Stream Park District
LOCATION:Evergreen - Full Gym
CATEGORIES:QuickScores; Facilities Game
TRANSP:0
DALARM:20240724T170000;PT10M;2;Heat - Kavenaugh vs. Heat - Kavenaugh
END:VEVENT
BEGIN:VEVENT
DTSTART:20240731T190000
DTEND:20240731T200000
SUMMARY:Heat - Kavenaugh vs. Heat - Kavenaugh
DESCRIPTION:Youth Basketball Practices - 5th/6th Grade Boys - Carol Stream Park District
LOCATION:Evergreen - Full Gym
CATEGORIES:QuickScores; Facilities Game
TRANSP:0
DALARM:20240731T170000;PT10M;2;Heat - Kavenaugh vs. Heat - Kavenaugh
END:VEVENT
END:VCALENDAR
