BEGIN:VCALENDAR
VERSION:1.0
BEGIN:VEVENT
DTSTART:20240522T180000
DTEND:20240522T190000
SUMMARY:Bulls - Van Zandt vs. Bulls - Van Zandt
DESCRIPTION:Youth Basketball Practices - 5th/6th Grade Boys - Carol Stream Park District
LOCATION:Evergreen - Full Gym
CATEGORIES:QuickScores; Facilities Game
TRANSP:0
DALARM:20240522T160000;PT10M;2;Bulls - Van Zandt vs. Bulls - Van Zandt
END:VEVENT
BEGIN:VEVENT
DTSTART:20240529T180000
DTEND:20240529T190000
SUMMARY:Bulls - Van Zandt vs. Bulls - Van Zandt
DESCRIPTION:Youth Basketball Practices - 5th/6th Grade Boys - Carol Stream Park District
LOCATION:Evergreen - Full Gym
CATEGORIES:QuickScores; Facilities Game
TRANSP:0
DALARM:20240529T160000;PT10M;2;Bulls - Van Zandt vs. Bulls - Van Zandt
END:VEVENT
BEGIN:VEVENT
DTSTART:20240605T180000
DTEND:20240605T190000
SUMMARY:Bulls - Van Zandt vs. Bulls - Van Zandt
DESCRIPTION:Youth Basketball Practices - 5th/6th Grade Boys - Carol Stream Park District
LOCATION:Evergreen - Full Gym
CATEGORIES:QuickScores; Facilities Game
TRANSP:0
DALARM:20240605T160000;PT10M;2;Bulls - Van Zandt vs. Bulls - Van Zandt
END:VEVENT
BEGIN:VEVENT
DTSTART:20240612T180000
DTEND:20240612T190000
SUMMARY:Bulls - Van Zandt vs. Bulls - Van Zandt
DESCRIPTION:Youth Basketball Practices - 5th/6th Grade Boys - Carol Stream Park District
LOCATION:Evergreen - Full Gym
CATEGORIES:QuickScores; Facilities Game
TRANSP:0
DALARM:20240612T160000;PT10M;2;Bulls - Van Zandt vs. Bulls - Van Zandt
END:VEVENT
BEGIN:VEVENT
DTSTART:20240619T180000
DTEND:20240619T190000
SUMMARY:Bulls - Van Zandt vs. Bulls - Van Zandt
DESCRIPTION:Youth Basketball Practices - 5th/6th Grade Boys - Carol Stream Park District
LOCATION:Evergreen - Full Gym
CATEGORIES:QuickScores; Facilities Game
TRANSP:0
DALARM:20240619T160000;PT10M;2;Bulls - Van Zandt vs. Bulls - Van Zandt
END:VEVENT
BEGIN:VEVENT
DTSTART:20240626T180000
DTEND:20240626T190000
SUMMARY:Bulls - Van Zandt vs. Bulls - Van Zandt
DESCRIPTION:Youth Basketball Practices - 5th/6th Grade Boys - Carol Stream Park District
LOCATION:Evergreen - Full Gym
CATEGORIES:QuickScores; Facilities Game
TRANSP:0
DALARM:20240626T160000;PT10M;2;Bulls - Van Zandt vs. Bulls - Van Zandt
END:VEVENT
BEGIN:VEVENT
DTSTART:20240703T180000
DTEND:20240703T190000
SUMMARY:Bulls - Van Zandt vs. Bulls - Van Zandt
DESCRIPTION:Youth Basketball Practices - 5th/6th Grade Boys - Carol Stream Park District
LOCATION:Evergreen - Full Gym
CATEGORIES:QuickScores; Facilities Game
TRANSP:0
DALARM:20240703T160000;PT10M;2;Bulls - Van Zandt vs. Bulls - Van Zandt
END:VEVENT
BEGIN:VEVENT
DTSTART:20240710T170000
DTEND:20240710T180000
SUMMARY:Bulls - Van Zandt vs. Bulls - Van Zandt
DESCRIPTION:Updated Location --- Youth Basketball Practices - 5th/6th Grade Boys - Carol Stream Park District
LOCATION:Simkus - Court 2 (West)
CATEGORIES:QuickScores; Facilities Game
TRANSP:0
DALARM:20240710T150000;PT10M;2;Bulls - Van Zandt vs. Bulls - Van Zandt
END:VEVENT
BEGIN:VEVENT
DTSTART:20240717T180000
DTEND:20240717T190000
SUMMARY:Bulls - Van Zandt vs. Bulls - Van Zandt
DESCRIPTION:Youth Basketball Practices - 5th/6th Grade Boys - Carol Stream Park District
LOCATION:Evergreen - Full Gym
CATEGORIES:QuickScores; Facilities Game
TRANSP:0
DALARM:20240717T160000;PT10M;2;Bulls - Van Zandt vs. Bulls - Van Zandt
END:VEVENT
BEGIN:VEVENT
DTSTART:20240724T180000
DTEND:20240724T190000
SUMMARY:Bulls - Van Zandt vs. Bulls - Van Zandt
DESCRIPTION:Youth Basketball Practices - 5th/6th Grade Boys - Carol Stream Park District
LOCATION:Evergreen - Full Gym
CATEGORIES:QuickScores; Facilities Game
TRANSP:0
DALARM:20240724T160000;PT10M;2;Bulls - Van Zandt vs. Bulls - Van Zandt
END:VEVENT
BEGIN:VEVENT
DTSTART:20240731T180000
DTEND:20240731T190000
SUMMARY:Bulls - Van Zandt vs. Bulls - Van Zandt
DESCRIPTION:Youth Basketball Practices - 5th/6th Grade Boys - Carol Stream Park District
LOCATION:Evergreen - Full Gym
CATEGORIES:QuickScores; Facilities Game
TRANSP:0
DALARM:20240731T160000;PT10M;2;Bulls - Van Zandt vs. Bulls - Van Zandt
END:VEVENT
END:VCALENDAR
