BEGIN:VCALENDAR
VERSION:1.0
BEGIN:VEVENT
DTSTART:20240523T190000
DTEND:20240523T200000
SUMMARY:Lee - Bucks vs. Lee - Bucks
DESCRIPTION:Youth Basketball Practices - 5th/6th Grade Boys - Carol Stream Park District
LOCATION:Fountain View - Court 1
CATEGORIES:QuickScores; Facilities Game
TRANSP:0
DALARM:20240523T170000;PT10M;2;Lee - Bucks vs. Lee - Bucks
END:VEVENT
BEGIN:VEVENT
DTSTART:20240530T190000
DTEND:20240530T200000
SUMMARY:Lee - Bucks vs. Lee - Bucks
DESCRIPTION:Youth Basketball Practices - 5th/6th Grade Boys - Carol Stream Park District
LOCATION:Fountain View - Court 1
CATEGORIES:QuickScores; Facilities Game
TRANSP:0
DALARM:20240530T170000;PT10M;2;Lee - Bucks vs. Lee - Bucks
END:VEVENT
BEGIN:VEVENT
DTSTART:20240606T190000
DTEND:20240606T200000
SUMMARY:Lee - Bucks vs. Lee - Bucks
DESCRIPTION:Youth Basketball Practices - 5th/6th Grade Boys - Carol Stream Park District
LOCATION:Fountain View - Court 1
CATEGORIES:QuickScores; Facilities Game
TRANSP:0
DALARM:20240606T170000;PT10M;2;Lee - Bucks vs. Lee - Bucks
END:VEVENT
BEGIN:VEVENT
DTSTART:20240613T190000
DTEND:20240613T200000
SUMMARY:Lee - Bucks vs. Lee - Bucks
DESCRIPTION:Youth Basketball Practices - 5th/6th Grade Boys - Carol Stream Park District
LOCATION:Fountain View - Court 1
CATEGORIES:QuickScores; Facilities Game
TRANSP:0
DALARM:20240613T170000;PT10M;2;Lee - Bucks vs. Lee - Bucks
END:VEVENT
BEGIN:VEVENT
DTSTART:20240620T190000
DTEND:20240620T200000
SUMMARY:Lee - Bucks vs. Lee - Bucks
DESCRIPTION:Youth Basketball Practices - 5th/6th Grade Boys - Carol Stream Park District
LOCATION:Fountain View - Court 1
CATEGORIES:QuickScores; Facilities Game
TRANSP:0
DALARM:20240620T170000;PT10M;2;Lee - Bucks vs. Lee - Bucks
END:VEVENT
BEGIN:VEVENT
DTSTART:20240627T190000
DTEND:20240627T200000
SUMMARY:Lee - Bucks vs. Lee - Bucks
DESCRIPTION:Youth Basketball Practices - 5th/6th Grade Boys - Carol Stream Park District
LOCATION:Fountain View - Court 1
CATEGORIES:QuickScores; Facilities Game
TRANSP:0
DALARM:20240627T170000;PT10M;2;Lee - Bucks vs. Lee - Bucks
END:VEVENT
BEGIN:VEVENT
DTSTART:20240702T190000
DTEND:20240702T200000
SUMMARY:Lee - Bucks vs. Lee - Bucks
DESCRIPTION:Youth Basketball Practices - 5th/6th Grade Boys - Carol Stream Park District
LOCATION:Fountain View - Court 2
CATEGORIES:QuickScores; Facilities Game
TRANSP:0
DALARM:20240702T170000;PT10M;2;Lee - Bucks vs. Lee - Bucks
END:VEVENT
BEGIN:VEVENT
DTSTART:20240711T190000
DTEND:20240711T200000
SUMMARY:Lee - Bucks vs. Lee - Bucks
DESCRIPTION:Youth Basketball Practices - 5th/6th Grade Boys - Carol Stream Park District
LOCATION:Fountain View - Court 1
CATEGORIES:QuickScores; Facilities Game
TRANSP:0
DALARM:20240711T170000;PT10M;2;Lee - Bucks vs. Lee - Bucks
END:VEVENT
BEGIN:VEVENT
DTSTART:20240718T190000
DTEND:20240718T200000
SUMMARY:Lee - Bucks vs. Lee - Bucks
DESCRIPTION:Youth Basketball Practices - 5th/6th Grade Boys - Carol Stream Park District
LOCATION:Fountain View - Court 1
CATEGORIES:QuickScores; Facilities Game
TRANSP:0
DALARM:20240718T170000;PT10M;2;Lee - Bucks vs. Lee - Bucks
END:VEVENT
BEGIN:VEVENT
DTSTART:20240725T190000
DTEND:20240725T200000
SUMMARY:Lee - Bucks vs. Lee - Bucks
DESCRIPTION:Youth Basketball Practices - 5th/6th Grade Boys - Carol Stream Park District
LOCATION:Fountain View - Court 1
CATEGORIES:QuickScores; Facilities Game
TRANSP:0
DALARM:20240725T170000;PT10M;2;Lee - Bucks vs. Lee - Bucks
END:VEVENT
BEGIN:VEVENT
DTSTART:20240801T190000
DTEND:20240801T200000
SUMMARY:Lee - Bucks vs. Lee - Bucks
DESCRIPTION:Youth Basketball Practices - 5th/6th Grade Boys - Carol Stream Park District
LOCATION:Fountain View - Court 1
CATEGORIES:QuickScores; Facilities Game
TRANSP:0
DALARM:20240801T170000;PT10M;2;Lee - Bucks vs. Lee - Bucks
END:VEVENT
END:VCALENDAR
