BEGIN:VCALENDAR
VERSION:1.0
BEGIN:VEVENT
DTSTART:20240520T193000
DTEND:20240520T203000
SUMMARY:Thunder - Roberts vs. Thunder - Roberts
DESCRIPTION:Youth Basketball Practices - 5th/6th Grade Boys - Carol Stream Park District
LOCATION:Fountain View - Court 1
CATEGORIES:QuickScores; Facilities Game
TRANSP:0
DALARM:20240520T173000;PT10M;2;Thunder - Roberts vs. Thunder - Roberts
END:VEVENT
BEGIN:VEVENT
DTSTART:20240528T190000
DTEND:20240528T200000
SUMMARY:Thunder - Roberts vs. Thunder - Roberts
DESCRIPTION:Youth Basketball Practices - 5th/6th Grade Boys - Carol Stream Park District
LOCATION:Fountain View - Court 3
CATEGORIES:QuickScores; Facilities Game
TRANSP:0
DALARM:20240528T170000;PT10M;2;Thunder - Roberts vs. Thunder - Roberts
END:VEVENT
BEGIN:VEVENT
DTSTART:20240603T193000
DTEND:20240603T203000
SUMMARY:Thunder - Roberts vs. Thunder - Roberts
DESCRIPTION:Youth Basketball Practices - 5th/6th Grade Boys - Carol Stream Park District
LOCATION:Fountain View - Court 1
CATEGORIES:QuickScores; Facilities Game
TRANSP:0
DALARM:20240603T173000;PT10M;2;Thunder - Roberts vs. Thunder - Roberts
END:VEVENT
BEGIN:VEVENT
DTSTART:20240613T200000
DTEND:20240613T210000
SUMMARY:Thunder - Roberts vs. Thunder - Roberts
DESCRIPTION:Updated --- Youth Basketball Practices - 5th/6th Grade Boys - Carol Stream Park District
LOCATION:Fountain View - Court 1
CATEGORIES:QuickScores; Facilities Game
TRANSP:0
DALARM:20240613T180000;PT10M;2;Thunder - Roberts vs. Thunder - Roberts
END:VEVENT
BEGIN:VEVENT
DTSTART:20240620T200000
DTEND:20240620T210000
SUMMARY:Thunder - Roberts vs. Thunder - Roberts
DESCRIPTION:Updated --- Youth Basketball Practices - 5th/6th Grade Boys - Carol Stream Park District
LOCATION:Fountain View - Court 1
CATEGORIES:QuickScores; Facilities Game
TRANSP:0
DALARM:20240620T180000;PT10M;2;Thunder - Roberts vs. Thunder - Roberts
END:VEVENT
BEGIN:VEVENT
DTSTART:20240624T193000
DTEND:20240624T203000
SUMMARY:Thunder - Roberts vs. Thunder - Roberts
DESCRIPTION:Youth Basketball Practices - 5th/6th Grade Boys - Carol Stream Park District
LOCATION:Fountain View - Court 1
CATEGORIES:QuickScores; Facilities Game
TRANSP:0
DALARM:20240624T173000;PT10M;2;Thunder - Roberts vs. Thunder - Roberts
END:VEVENT
BEGIN:VEVENT
DTSTART:20240703T193000
DTEND:20240703T203000
SUMMARY:Thunder - Roberts vs. Thunder - Roberts
DESCRIPTION:Moved from 7/ --- Youth Basketball Practices - 5th/6th Grade Boys - Carol Stream Park District
LOCATION:Fountain View - Court 2
CATEGORIES:QuickScores; Facilities Game
TRANSP:0
DALARM:20240703T173000;PT10M;2;Thunder - Roberts vs. Thunder - Roberts
END:VEVENT
BEGIN:VEVENT
DTSTART:20240708T193000
DTEND:20240708T203000
SUMMARY:Thunder - Roberts vs. Thunder - Roberts
DESCRIPTION:Youth Basketball Practices - 5th/6th Grade Boys - Carol Stream Park District
LOCATION:Fountain View - Court 1
CATEGORIES:QuickScores; Facilities Game
TRANSP:0
DALARM:20240708T173000;PT10M;2;Thunder - Roberts vs. Thunder - Roberts
END:VEVENT
BEGIN:VEVENT
DTSTART:20240715T200000
DTEND:20240715T210000
SUMMARY:Thunder - Roberts vs. Thunder - Roberts
DESCRIPTION:Updated Time --- Youth Basketball Practices - 5th/6th Grade Boys - Carol Stream Park District
LOCATION:Fountain View - Court 1
CATEGORIES:QuickScores; Facilities Game
TRANSP:0
DALARM:20240715T180000;PT10M;2;Thunder - Roberts vs. Thunder - Roberts
END:VEVENT
BEGIN:VEVENT
DTSTART:20240722T193000
DTEND:20240722T203000
SUMMARY:Thunder - Roberts vs. Thunder - Roberts
DESCRIPTION:Youth Basketball Practices - 5th/6th Grade Boys - Carol Stream Park District
LOCATION:Fountain View - Court 1
CATEGORIES:QuickScores; Facilities Game
TRANSP:0
DALARM:20240722T173000;PT10M;2;Thunder - Roberts vs. Thunder - Roberts
END:VEVENT
BEGIN:VEVENT
DTSTART:20240729T193000
DTEND:20240729T203000
SUMMARY:Thunder - Roberts vs. Thunder - Roberts
DESCRIPTION:Youth Basketball Practices - 5th/6th Grade Boys - Carol Stream Park District
LOCATION:Fountain View - Court 1
CATEGORIES:QuickScores; Facilities Game
TRANSP:0
DALARM:20240729T173000;PT10M;2;Thunder - Roberts vs. Thunder - Roberts
END:VEVENT
END:VCALENDAR
