BEGIN:VCALENDAR
VERSION:1.0
BEGIN:VEVENT
DTSTART:20240520T183000
DTEND:20240520T193000
SUMMARY:Bulls - Desai vs. Bulls - Desai
DESCRIPTION:Updated --- Youth Basketball Practices - 3rd/4th Grade Boys - Carol Stream Park District
LOCATION:Fountain View - Court 1
CATEGORIES:QuickScores; Facilities Game
TRANSP:0
DALARM:20240520T163000;PT10M;2;Bulls - Desai vs. Bulls - Desai
END:VEVENT
BEGIN:VEVENT
DTSTART:20240526T130000
DTEND:20240526T140000
SUMMARY:Bulls - Desai vs. Bulls - Desai
DESCRIPTION:Youth Basketball Practices - 3rd/4th Grade Boys - Carol Stream Park District
LOCATION:Fountain View - Court 1
CATEGORIES:QuickScores; Facilities Game
TRANSP:0
DALARM:20240526T110000;PT10M;2;Bulls - Desai vs. Bulls - Desai
END:VEVENT
BEGIN:VEVENT
DTSTART:20240529T180000
DTEND:20240529T190000
SUMMARY:Bulls - Desai vs. Bulls - Desai
DESCRIPTION:Updated --- Youth Basketball Practices - 3rd/4th Grade Boys - Carol Stream Park District
LOCATION:Fountain View - Court 3
CATEGORIES:QuickScores; Facilities Game
TRANSP:0
DALARM:20240529T160000;PT10M;2;Bulls - Desai vs. Bulls - Desai
END:VEVENT
BEGIN:VEVENT
DTSTART:20240604T180000
DTEND:20240604T190000
SUMMARY:Bulls - Desai vs. Bulls - Desai
DESCRIPTION:Youth Basketball Practices - 3rd/4th Grade Boys - Carol Stream Park District
LOCATION:Evergreen - Full Gym
CATEGORIES:QuickScores; Facilities Game
TRANSP:0
DALARM:20240604T160000;PT10M;2;Bulls - Desai vs. Bulls - Desai
END:VEVENT
BEGIN:VEVENT
DTSTART:20240611T180000
DTEND:20240611T190000
SUMMARY:Bulls - Desai vs. Bulls - Desai
DESCRIPTION:Youth Basketball Practices - 3rd/4th Grade Boys - Carol Stream Park District
LOCATION:Evergreen - Full Gym
CATEGORIES:QuickScores; Facilities Game
TRANSP:0
DALARM:20240611T160000;PT10M;2;Bulls - Desai vs. Bulls - Desai
END:VEVENT
BEGIN:VEVENT
DTSTART:20240618T180000
DTEND:20240618T190000
SUMMARY:Bulls - Desai vs. Bulls - Desai
DESCRIPTION:Youth Basketball Practices - 3rd/4th Grade Boys - Carol Stream Park District
LOCATION:Evergreen - Full Gym
CATEGORIES:QuickScores; Facilities Game
TRANSP:0
DALARM:20240618T160000;PT10M;2;Bulls - Desai vs. Bulls - Desai
END:VEVENT
BEGIN:VEVENT
DTSTART:20240625T180000
DTEND:20240625T190000
SUMMARY:Bulls - Desai vs. Bulls - Desai
DESCRIPTION:Youth Basketball Practices - 3rd/4th Grade Boys - Carol Stream Park District
LOCATION:Evergreen - Full Gym
CATEGORIES:QuickScores; Facilities Game
TRANSP:0
DALARM:20240625T160000;PT10M;2;Bulls - Desai vs. Bulls - Desai
END:VEVENT
BEGIN:VEVENT
DTSTART:20240702T180000
DTEND:20240702T190000
SUMMARY:Bulls - Desai vs. Bulls - Desai
DESCRIPTION:Youth Basketball Practices - 3rd/4th Grade Boys - Carol Stream Park District
LOCATION:Evergreen - Full Gym
CATEGORIES:QuickScores; Facilities Game
TRANSP:0
DALARM:20240702T160000;PT10M;2;Bulls - Desai vs. Bulls - Desai
END:VEVENT
BEGIN:VEVENT
DTSTART:20240709T173000
DTEND:20240709T183000
SUMMARY:Bulls - Desai vs. Bulls - Desai
DESCRIPTION:Updated --- Youth Basketball Practices - 3rd/4th Grade Boys - Carol Stream Park District
LOCATION:Fountain View - Court 2
CATEGORIES:QuickScores; Facilities Game
TRANSP:0
DALARM:20240709T153000;PT10M;2;Bulls - Desai vs. Bulls - Desai
END:VEVENT
BEGIN:VEVENT
DTSTART:20240716T180000
DTEND:20240716T190000
SUMMARY:Bulls - Desai vs. Bulls - Desai
DESCRIPTION:Youth Basketball Practices - 3rd/4th Grade Boys - Carol Stream Park District
LOCATION:Evergreen - Full Gym
CATEGORIES:QuickScores; Facilities Game
TRANSP:0
DALARM:20240716T160000;PT10M;2;Bulls - Desai vs. Bulls - Desai
END:VEVENT
BEGIN:VEVENT
DTSTART:20240723T180000
DTEND:20240723T190000
SUMMARY:Bulls - Desai vs. Bulls - Desai
DESCRIPTION:Youth Basketball Practices - 3rd/4th Grade Boys - Carol Stream Park District
LOCATION:Evergreen - Full Gym
CATEGORIES:QuickScores; Facilities Game
TRANSP:0
DALARM:20240723T160000;PT10M;2;Bulls - Desai vs. Bulls - Desai
END:VEVENT
BEGIN:VEVENT
DTSTART:20240730T180000
DTEND:20240730T190000
SUMMARY:Bulls - Desai vs. Bulls - Desai
DESCRIPTION:Youth Basketball Practices - 3rd/4th Grade Boys - Carol Stream Park District
LOCATION:Evergreen - Full Gym
CATEGORIES:QuickScores; Facilities Game
TRANSP:0
DALARM:20240730T160000;PT10M;2;Bulls - Desai vs. Bulls - Desai
END:VEVENT
END:VCALENDAR
