BEGIN:VCALENDAR
VERSION:1.0
BEGIN:VEVENT
DTSTART:20240522T183000
DTEND:20240522T193000
SUMMARY:Lakers - Khan vs. Lakers - Khan
DESCRIPTION:Youth Basketball Practices - 3rd/4th Grade Boys - Carol Stream Park District
LOCATION:Simkus - Court 1 (East)
CATEGORIES:QuickScores; Facilities Game
TRANSP:0
DALARM:20240522T163000;PT10M;2;Lakers - Khan vs. Lakers - Khan
END:VEVENT
BEGIN:VEVENT
DTSTART:20240526T100000
DTEND:20240526T110000
SUMMARY:Lakers - Khan vs. Lakers - Khan
DESCRIPTION:Youth Basketball Practices - 3rd/4th Grade Boys - Carol Stream Park District
LOCATION:Fountain View - Court 1
CATEGORIES:QuickScores; Facilities Game
TRANSP:0
DALARM:20240526T080000;PT10M;2;Lakers - Khan vs. Lakers - Khan
END:VEVENT
BEGIN:VEVENT
DTSTART:20240529T193000
DTEND:20240529T203000
SUMMARY:Lakers - Khan vs. Lakers - Khan
DESCRIPTION:Youth Basketball Practices - 3rd/4th Grade Boys - Carol Stream Park District
LOCATION:Simkus - Court 2 (West)
CATEGORIES:QuickScores; Facilities Game
TRANSP:0
DALARM:20240529T173000;PT10M;2;Lakers - Khan vs. Lakers - Khan
END:VEVENT
BEGIN:VEVENT
DTSTART:20240605T183000
DTEND:20240605T193000
SUMMARY:Lakers - Khan vs. Lakers - Khan
DESCRIPTION:Youth Basketball Practices - 3rd/4th Grade Boys - Carol Stream Park District
LOCATION:Simkus - Court 2 (West)
CATEGORIES:QuickScores; Facilities Game
TRANSP:0
DALARM:20240605T163000;PT10M;2;Lakers - Khan vs. Lakers - Khan
END:VEVENT
BEGIN:VEVENT
DTSTART:20240612T183000
DTEND:20240612T193000
SUMMARY:Lakers - Khan vs. Lakers - Khan
DESCRIPTION:Youth Basketball Practices - 3rd/4th Grade Boys - Carol Stream Park District
LOCATION:Simkus - Court 2 (West)
CATEGORIES:QuickScores; Facilities Game
TRANSP:0
DALARM:20240612T163000;PT10M;2;Lakers - Khan vs. Lakers - Khan
END:VEVENT
BEGIN:VEVENT
DTSTART:20240621T180000
DTEND:20240621T190000
SUMMARY:Lakers - Khan vs. Lakers - Khan
DESCRIPTION:Youth Basketball Practices - 3rd/4th Grade Boys - Carol Stream Park District
LOCATION:Fountain View - Court 2
CATEGORIES:QuickScores; Facilities Game
TRANSP:0
DALARM:20240621T160000;PT10M;2;Lakers - Khan vs. Lakers - Khan
END:VEVENT
BEGIN:VEVENT
DTSTART:20240626T183000
DTEND:20240626T193000
SUMMARY:Lakers - Khan vs. Lakers - Khan
DESCRIPTION:Youth Basketball Practices - 3rd/4th Grade Boys - Carol Stream Park District
LOCATION:Simkus - Court 2 (West)
CATEGORIES:QuickScores; Facilities Game
TRANSP:0
DALARM:20240626T163000;PT10M;2;Lakers - Khan vs. Lakers - Khan
END:VEVENT
BEGIN:VEVENT
DTSTART:20240703T183000
DTEND:20240703T193000
SUMMARY:Lakers - Khan vs. Lakers - Khan
DESCRIPTION:Youth Basketball Practices - 3rd/4th Grade Boys - Carol Stream Park District
LOCATION:Simkus - Court 2 (West)
CATEGORIES:QuickScores; Facilities Game
TRANSP:0
DALARM:20240703T163000;PT10M;2;Lakers - Khan vs. Lakers - Khan
END:VEVENT
BEGIN:VEVENT
DTSTART:20240712T180000
DTEND:20240712T190000
SUMMARY:Lakers - Khan vs. Lakers - Khan
DESCRIPTION:Youth Basketball Practices - 3rd/4th Grade Boys - Carol Stream Park District
LOCATION:Fountain View - Court 1
CATEGORIES:QuickScores; Facilities Game
TRANSP:0
DALARM:20240712T160000;PT10M;2;Lakers - Khan vs. Lakers - Khan
END:VEVENT
BEGIN:VEVENT
DTSTART:20240717T183000
DTEND:20240717T193000
SUMMARY:Lakers - Khan vs. Lakers - Khan
DESCRIPTION:Youth Basketball Practices - 3rd/4th Grade Boys - Carol Stream Park District
LOCATION:Simkus - Court 2 (West)
CATEGORIES:QuickScores; Facilities Game
TRANSP:0
DALARM:20240717T163000;PT10M;2;Lakers - Khan vs. Lakers - Khan
END:VEVENT
BEGIN:VEVENT
DTSTART:20240724T183000
DTEND:20240724T193000
SUMMARY:Lakers - Khan vs. Lakers - Khan
DESCRIPTION:Youth Basketball Practices - 3rd/4th Grade Boys - Carol Stream Park District
LOCATION:Simkus - Court 2 (West)
CATEGORIES:QuickScores; Facilities Game
TRANSP:0
DALARM:20240724T163000;PT10M;2;Lakers - Khan vs. Lakers - Khan
END:VEVENT
BEGIN:VEVENT
DTSTART:20240731T183000
DTEND:20240731T193000
SUMMARY:Lakers - Khan vs. Lakers - Khan
DESCRIPTION:Youth Basketball Practices - 3rd/4th Grade Boys - Carol Stream Park District
LOCATION:Simkus - Court 2 (West)
CATEGORIES:QuickScores; Facilities Game
TRANSP:0
DALARM:20240731T163000;PT10M;2;Lakers - Khan vs. Lakers - Khan
END:VEVENT
END:VCALENDAR
