BEGIN:VCALENDAR
VERSION:1.0
BEGIN:VEVENT
DTSTART:20220106T180000
DTEND:20220106T184500
SUMMARY:Fifth Element Fitness vs. Hell's Kitchenettes
DESCRIPTION:Adult Pickleball - Thursday - Session 1 - Carol Stream Park District
LOCATION:Simkus - Court 2 (West) - Pickleball 1
CATEGORIES:QuickScores; Pickleball Game
TRANSP:0
DALARM:20220106T160000;PT10M;2;Fifth Element Fitness vs. Hell's Kitchenettes
END:VEVENT
BEGIN:VEVENT
DTSTART:20220106T184500
DTEND:20220106T193000
SUMMARY:King Godilla vs. Fifth Element Fitness
DESCRIPTION:Adult Pickleball - Thursday - Session 1 - Carol Stream Park District
LOCATION:Simkus - Court 2 (West) - Pickleball 1
CATEGORIES:QuickScores; Pickleball Game
TRANSP:0
DALARM:20220106T164500;PT10M;2;King Godilla vs. Fifth Element Fitness
END:VEVENT
BEGIN:VEVENT
DTSTART:20220113T180000
DTEND:20220113T184500
SUMMARY:Jeff and Colleen vs. Fifth Element Fitness
DESCRIPTION:Adult Pickleball - Thursday - Session 1 - Carol Stream Park District
LOCATION:Simkus - Court 2 (West) - Pickleball 2
CATEGORIES:QuickScores; Pickleball Game
TRANSP:0
DALARM:20220113T160000;PT10M;2;Jeff and Colleen vs. Fifth Element Fitness
END:VEVENT
BEGIN:VEVENT
DTSTART:20220120T184500
DTEND:20220120T193000
SUMMARY:Fifth Element Fitness vs. Mike and Mary Lynn
DESCRIPTION:Time Change --- Adult Pickleball - Thursday - Session 1 - Carol Stream Park District
LOCATION:Simkus - Court 2 (West) - Pickleball 1
CATEGORIES:QuickScores; Pickleball Game
TRANSP:0
DALARM:20220120T164500;PT10M;2;Fifth Element Fitness vs. Mike and Mary Lynn
END:VEVENT
BEGIN:VEVENT
DTSTART:20220127T184500
DTEND:20220127T193000
SUMMARY:Fifth Element Fitness vs. Rugrats
DESCRIPTION:Adult Pickleball - Thursday - Session 1 - Carol Stream Park District
LOCATION:Simkus - Court 2 (West) - Pickleball 2
CATEGORIES:QuickScores; Pickleball Game
TRANSP:0
DALARM:20220127T164500;PT10M;2;Fifth Element Fitness vs. Rugrats
END:VEVENT
BEGIN:VEVENT
DTSTART:20220203T193000
DTEND:20220203T201500
SUMMARY:Dinking Problems vs. Fifth Element Fitness
DESCRIPTION:Adult Pickleball - Thursday - Session 1 - Carol Stream Park District
LOCATION:Simkus - Court 2 (West) - Pickleball 2
CATEGORIES:QuickScores; Pickleball Game
TRANSP:0
DALARM:20220203T173000;PT10M;2;Dinking Problems vs. Fifth Element Fitness
END:VEVENT
BEGIN:VEVENT
DTSTART:20220217T194000
DTEND:20220217T195000
SUMMARY:[#3 ] Fifth Element Fitness vs. [#6 ] The Mallards
DESCRIPTION:Adult Pickleball - Thursday - Session 1 - Carol Stream Park District
LOCATION:Simkus - Court 2 (West) - Pickleball 2
CATEGORIES:QuickScores; Pickleball Game
TRANSP:0
DALARM:20220217T174000;PT10M;2;[#3 ] Fifth Element Fitness vs. [#6 ] The Mallards
END:VEVENT
BEGIN:VEVENT
DTSTART:20220217T195000
DTEND:20220217T200000
SUMMARY:[#2 ] Jeff and Colleen vs. [#3 ] Fifth Element Fitness
DESCRIPTION:Adult Pickleball - Thursday - Session 1 - Carol Stream Park District
LOCATION:Simkus - Court 2 (West) - Pickleball 1
CATEGORIES:QuickScores; Pickleball Game
TRANSP:0
DALARM:20220217T175000;PT10M;2;[#2 ] Jeff and Colleen vs. [#3 ] Fifth Element Fitness
END:VEVENT
BEGIN:VEVENT
DTSTART:20220217T202000
DTEND:20220217T203000
SUMMARY:[#1 ] Fickle Pickle vs. [#3 ] Fifth Element Fitness
DESCRIPTION:Adult Pickleball - Thursday - Session 1 - Carol Stream Park District
LOCATION:Simkus - Court 2 (West) - Pickleball 2
CATEGORIES:QuickScores; Pickleball Game
TRANSP:0
DALARM:20220217T182000;PT10M;2;[#1 ] Fickle Pickle vs. [#3 ] Fifth Element Fitness
END:VEVENT
BEGIN:VEVENT
DTSTART:20220217T203000
DTEND:20220217T204000
SUMMARY:[#3 ] Fifth Element Fitness vs. [#2 ] Jeff and Colleen
DESCRIPTION:Adult Pickleball - Thursday - Session 1 - Carol Stream Park District
LOCATION:Simkus - Court 2 (West) - Pickleball 2
CATEGORIES:QuickScores; Pickleball Game
TRANSP:0
DALARM:20220217T183000;PT10M;2;[#3 ] Fifth Element Fitness vs. [#2 ] Jeff and Colleen
END:VEVENT
BEGIN:VEVENT
DTSTART:20220217T204000
DTEND:20220217T205000
SUMMARY:[#1 ] Fickle Pickle vs. [#3 ] Fifth Element Fitness
DESCRIPTION:Adult Pickleball - Thursday - Session 1 - Carol Stream Park District
LOCATION:Simkus - Court 2 (West) - Pickleball 2
CATEGORIES:QuickScores; Pickleball Game
TRANSP:0
DALARM:20220217T184000;PT10M;2;[#1 ] Fickle Pickle vs. [#3 ] Fifth Element Fitness
END:VEVENT
BEGIN:VEVENT
DTSTART:20220217T205000
DTEND:20220217T210000
SUMMARY:[#3 ] Fifth Element Fitness vs. [#1 ] Fickle Pickle
DESCRIPTION:Adult Pickleball - Thursday - Session 1 - Carol Stream Park District
LOCATION:Simkus - Court 2 (West) - Pickleball 2
CATEGORIES:QuickScores; Pickleball Game
TRANSP:0
DALARM:20220217T185000;PT10M;2;[#3 ] Fifth Element Fitness vs. [#1 ] Fickle Pickle
END:VEVENT
END:VCALENDAR
