BEGIN:VCALENDAR
VERSION:1.0
BEGIN:VEVENT
DTSTART:20260111T160000
DTEND:20260111T170000
SUMMARY:Friends In Low Aces vs. Thousand Folks
DESCRIPTION:Sunday C3 - Conejo Recreation and Park District
LOCATION:Thousand Oaks Community Center Court #1
CATEGORIES:QuickScores; Volleyball - Adult Game
TRANSP:0
DALARM:20260111T140000;PT10M;2;Friends In Low Aces vs. Thousand Folks
END:VEVENT
BEGIN:VEVENT
DTSTART:20260118T160000
DTEND:20260118T170000
SUMMARY:Block & Awe vs. Friends In Low Aces
DESCRIPTION:Sunday C3 - Conejo Recreation and Park District
LOCATION:Thousand Oaks Community Center Court #2
CATEGORIES:QuickScores; Volleyball - Adult Game
TRANSP:0
DALARM:20260118T140000;PT10M;2;Block & Awe vs. Friends In Low Aces
END:VEVENT
BEGIN:VEVENT
DTSTART:20260125T160000
DTEND:20260125T170000
SUMMARY:Friends In Low Aces vs. Serves You Right
DESCRIPTION:Sunday C3 - Conejo Recreation and Park District
LOCATION:Thousand Oaks Community Center Court #1
CATEGORIES:QuickScores; Volleyball - Adult Game
TRANSP:0
DALARM:20260125T140000;PT10M;2;Friends In Low Aces vs. Serves You Right
END:VEVENT
BEGIN:VEVENT
DTSTART:20260201T160000
DTEND:20260201T170000
SUMMARY:Shanksters vs. Friends In Low Aces
DESCRIPTION:Sunday C3 - Conejo Recreation and Park District
LOCATION:Thousand Oaks Community Center Court #2
CATEGORIES:QuickScores; Volleyball - Adult Game
TRANSP:0
DALARM:20260201T140000;PT10M;2;Shanksters vs. Friends In Low Aces
END:VEVENT
BEGIN:VEVENT
DTSTART:20260222T170000
DTEND:20260222T180000
SUMMARY:Balldiggers vs. Friends In Low Aces
DESCRIPTION:Sunday C3 - Conejo Recreation and Park District
LOCATION:Thousand Oaks Community Center Court #2
CATEGORIES:QuickScores; Volleyball - Adult Game
TRANSP:0
DALARM:20260222T150000;PT10M;2;Balldiggers vs. Friends In Low Aces
END:VEVENT
BEGIN:VEVENT
DTSTART:20260301T160000
DTEND:20260301T170000
SUMMARY:Thousand Folks vs. Friends In Low Aces
DESCRIPTION:Sunday C3 - Conejo Recreation and Park District
LOCATION:Thousand Oaks Community Center Court #2
CATEGORIES:QuickScores; Volleyball - Adult Game
TRANSP:0
DALARM:20260301T140000;PT10M;2;Thousand Folks vs. Friends In Low Aces
END:VEVENT
BEGIN:VEVENT
DTSTART:20260308T160000
DTEND:20260308T180000
SUMMARY:Friends In Low Aces vs. Block & Awe
DESCRIPTION:Sunday C3 - Conejo Recreation and Park District
LOCATION:Thousand Oaks Community Center Court #1
CATEGORIES:QuickScores; Volleyball - Adult Game
TRANSP:0
DALARM:20260308T150000;PT10M;2;Friends In Low Aces vs. Block & Awe
END:VEVENT
BEGIN:VEVENT
DTSTART:20260315T170000
DTEND:20260315T180000
SUMMARY:Serves You Right vs. Friends In Low Aces
DESCRIPTION:Sunday C3 - Conejo Recreation and Park District
LOCATION:Thousand Oaks Community Center Court #2
CATEGORIES:QuickScores; Volleyball - Adult Game
TRANSP:0
DALARM:20260315T150000;PT10M;2;Serves You Right vs. Friends In Low Aces
END:VEVENT
BEGIN:VEVENT
DTSTART:20260322T160000
DTEND:20260322T170000
SUMMARY:Friends In Low Aces vs. Shanksters
DESCRIPTION:Sunday C3 - Conejo Recreation and Park District
LOCATION:Thousand Oaks Community Center Court #2
CATEGORIES:QuickScores; Volleyball - Adult Game
TRANSP:0
DALARM:20260322T140000;PT10M;2;Friends In Low Aces vs. Shanksters
END:VEVENT
BEGIN:VEVENT
DTSTART:20260329T170000
DTEND:20260329T180000
SUMMARY:Friends In Low Aces vs. Balldiggers
DESCRIPTION:Sunday C3 - Conejo Recreation and Park District
LOCATION:Thousand Oaks Community Center Court #2
CATEGORIES:QuickScores; Volleyball - Adult Game
TRANSP:0
DALARM:20260329T150000;PT10M;2;Friends In Low Aces vs. Balldiggers
END:VEVENT
END:VCALENDAR
