BEGIN:VCALENDAR
VERSION:1.0
BEGIN:VEVENT
DTSTART:20260205T213000
DTEND:20260205T223000
SUMMARY:Skyworks vs. Organized Chaos
DESCRIPTION:Thursday D - Conejo Recreation and Park District
LOCATION:Thousand Oaks Community Center
CATEGORIES:QuickScores; Basketball - Adult Game
TRANSP:0
DALARM:20260205T193000;PT10M;2;Skyworks vs. Organized Chaos
END:VEVENT
BEGIN:VEVENT
DTSTART:20260212T183000
DTEND:20260212T193000
SUMMARY:Skyworks vs. Blazin' Ballerz
DESCRIPTION:Thursday D - Conejo Recreation and Park District
LOCATION:Thousand Oaks Community Center
CATEGORIES:QuickScores; Basketball - Adult Game
TRANSP:0
DALARM:20260212T163000;PT10M;2;Skyworks vs. Blazin' Ballerz
END:VEVENT
BEGIN:VEVENT
DTSTART:20260219T213000
DTEND:20260219T223000
SUMMARY:Skyworks vs. Skillz That Killz
DESCRIPTION:Thursday D - Conejo Recreation and Park District
LOCATION:Thousand Oaks Community Center
CATEGORIES:QuickScores; Basketball - Adult Game
TRANSP:0
DALARM:20260219T193000;PT10M;2;Skyworks vs. Skillz That Killz
END:VEVENT
BEGIN:VEVENT
DTSTART:20260226T183000
DTEND:20260226T193000
SUMMARY:Win or Lose vs. Skyworks
DESCRIPTION:Thursday D - Conejo Recreation and Park District
LOCATION:Thousand Oaks Community Center
CATEGORIES:QuickScores; Basketball - Adult Game
TRANSP:0
DALARM:20260226T163000;PT10M;2;Win or Lose vs. Skyworks
END:VEVENT
BEGIN:VEVENT
DTSTART:20260305T213000
DTEND:20260305T223000
SUMMARY:Hot n' Honey vs. Skyworks
DESCRIPTION:Thursday D - Conejo Recreation and Park District
LOCATION:Thousand Oaks Community Center
CATEGORIES:QuickScores; Basketball - Adult Game
TRANSP:0
DALARM:20260305T193000;PT10M;2;Hot n' Honey vs. Skyworks
END:VEVENT
BEGIN:VEVENT
DTSTART:20260319T203000
DTEND:20260319T213000
SUMMARY:Just Another Guy vs. Skyworks
DESCRIPTION:Thursday D - Conejo Recreation and Park District
LOCATION:Thousand Oaks Community Center
CATEGORIES:QuickScores; Basketball - Adult Game
TRANSP:0
DALARM:20260319T183000;PT10M;2;Just Another Guy vs. Skyworks
END:VEVENT
BEGIN:VEVENT
DTSTART:20260326T183000
DTEND:20260326T193000
SUMMARY:Skyworks vs. T.O. Soft
DESCRIPTION:Thursday D - Conejo Recreation and Park District
LOCATION:Thousand Oaks Community Center
CATEGORIES:QuickScores; Basketball - Adult Game
TRANSP:0
DALARM:20260326T163000;PT10M;2;Skyworks vs. T.O. Soft
END:VEVENT
BEGIN:VEVENT
DTSTART:20260416T203000
DTEND:20260416T213000
SUMMARY:Organized Chaos vs. Skyworks
DESCRIPTION:Thursday D - Conejo Recreation and Park District
LOCATION:Thousand Oaks Community Center
CATEGORIES:QuickScores; Basketball - Adult Game
TRANSP:0
DALARM:20260416T183000;PT10M;2;Organized Chaos vs. Skyworks
END:VEVENT
BEGIN:VEVENT
DTSTART:20260423T193000
DTEND:20260423T203000
SUMMARY:Blazin' Ballerz vs. Skyworks
DESCRIPTION:Thursday D - Conejo Recreation and Park District
LOCATION:Thousand Oaks Community Center
CATEGORIES:QuickScores; Basketball - Adult Game
TRANSP:0
DALARM:20260423T173000;PT10M;2;Blazin' Ballerz vs. Skyworks
END:VEVENT
BEGIN:VEVENT
DTSTART:20260507T193000
DTEND:20260507T203000
SUMMARY:Skyworks vs. Box Mambas
DESCRIPTION:Thursday D - Conejo Recreation and Park District
LOCATION:Thousand Oaks Community Center
CATEGORIES:QuickScores; Basketball - Adult Game
TRANSP:0
DALARM:20260507T173000;PT10M;2;Skyworks vs. Box Mambas
END:VEVENT
END:VCALENDAR
