BEGIN:VCALENDAR
VERSION:1.0
BEGIN:VEVENT
DTSTART:20260205T193000
DTEND:20260205T203000
SUMMARY:Hot n' Honey vs. Box Mambas
DESCRIPTION:Thursday D - Conejo Recreation and Park District
LOCATION:Thousand Oaks Community Center
CATEGORIES:QuickScores; Basketball - Adult Game
TRANSP:0
DALARM:20260205T173000;PT10M;2;Hot n' Honey vs. Box Mambas
END:VEVENT
BEGIN:VEVENT
DTSTART:20260212T213000
DTEND:20260212T223000
SUMMARY:Hot n' Honey vs. Just Another Guy
DESCRIPTION:Thursday D - Conejo Recreation and Park District
LOCATION:Thousand Oaks Community Center
CATEGORIES:QuickScores; Basketball - Adult Game
TRANSP:0
DALARM:20260212T193000;PT10M;2;Hot n' Honey vs. Just Another Guy
END:VEVENT
BEGIN:VEVENT
DTSTART:20260219T203000
DTEND:20260219T213000
SUMMARY:Hot n' Honey vs. T.O. Soft
DESCRIPTION:Thursday D - Conejo Recreation and Park District
LOCATION:Thousand Oaks Community Center
CATEGORIES:QuickScores; Basketball - Adult Game
TRANSP:0
DALARM:20260219T183000;PT10M;2;Hot n' Honey vs. T.O. Soft
END:VEVENT
BEGIN:VEVENT
DTSTART:20260305T213000
DTEND:20260305T223000
SUMMARY:Hot n' Honey vs. Skyworks
DESCRIPTION:Thursday D - Conejo Recreation and Park District
LOCATION:Thousand Oaks Community Center
CATEGORIES:QuickScores; Basketball - Adult Game
TRANSP:0
DALARM:20260305T193000;PT10M;2;Hot n' Honey vs. Skyworks
END:VEVENT
BEGIN:VEVENT
DTSTART:20260312T183000
DTEND:20260312T193000
SUMMARY:Hot n' Honey vs. Skillz That Killz
DESCRIPTION:Thursday D - Conejo Recreation and Park District
LOCATION:Thousand Oaks Community Center
CATEGORIES:QuickScores; Basketball - Adult Game
TRANSP:0
DALARM:20260312T163000;PT10M;2;Hot n' Honey vs. Skillz That Killz
END:VEVENT
BEGIN:VEVENT
DTSTART:20260319T213000
DTEND:20260319T223000
SUMMARY:Win or Lose vs. Hot n' Honey
DESCRIPTION:Thursday D - Conejo Recreation and Park District
LOCATION:Thousand Oaks Community Center
CATEGORIES:QuickScores; Basketball - Adult Game
TRANSP:0
DALARM:20260319T193000;PT10M;2;Win or Lose vs. Hot n' Honey
END:VEVENT
BEGIN:VEVENT
DTSTART:20260326T193000
DTEND:20260326T203000
SUMMARY:Organized Chaos vs. Hot n' Honey
DESCRIPTION:Thursday D - Conejo Recreation and Park District
LOCATION:Thousand Oaks Community Center
CATEGORIES:QuickScores; Basketball - Adult Game
TRANSP:0
DALARM:20260326T173000;PT10M;2;Organized Chaos vs. Hot n' Honey
END:VEVENT
BEGIN:VEVENT
DTSTART:20260416T183000
DTEND:20260416T193000
SUMMARY:Box Mambas vs. Hot n' Honey
DESCRIPTION:Thursday D - Conejo Recreation and Park District
LOCATION:Thousand Oaks Community Center
CATEGORIES:QuickScores; Basketball - Adult Game
TRANSP:0
DALARM:20260416T163000;PT10M;2;Box Mambas vs. Hot n' Honey
END:VEVENT
BEGIN:VEVENT
DTSTART:20260423T183000
DTEND:20260423T193000
SUMMARY:Just Another Guy vs. Hot n' Honey
DESCRIPTION:Thursday D - Conejo Recreation and Park District
LOCATION:Thousand Oaks Community Center
CATEGORIES:QuickScores; Basketball - Adult Game
TRANSP:0
DALARM:20260423T163000;PT10M;2;Just Another Guy vs. Hot n' Honey
END:VEVENT
BEGIN:VEVENT
DTSTART:20260507T203000
DTEND:20260507T213000
SUMMARY:Blazin' Ballerz vs. Hot n' Honey
DESCRIPTION:Thursday D - Conejo Recreation and Park District
LOCATION:Thousand Oaks Community Center
CATEGORIES:QuickScores; Basketball - Adult Game
TRANSP:0
DALARM:20260507T183000;PT10M;2;Blazin' Ballerz vs. Hot n' Honey
END:VEVENT
END:VCALENDAR
