BEGIN:VCALENDAR
VERSION:1.0
BEGIN:VEVENT
DTSTART:20250710T183000
DTEND:20250710T194500
SUMMARY:Pillies vs. Glove Handles
DESCRIPTION:Thursday Mens - Conejo Recreation and Park District
LOCATION:Borchard Park Field #3
CATEGORIES:QuickScores; Softball - Adult Game
TRANSP:0
DALARM:20250710T163000;PT10M;2;Pillies vs. Glove Handles
END:VEVENT
BEGIN:VEVENT
DTSTART:20250724T194500
DTEND:20250724T210000
SUMMARY:Pillies vs. Inglorious Batters
DESCRIPTION:Thursday Mens - Conejo Recreation and Park District
LOCATION:Borchard Park Field #3
CATEGORIES:QuickScores; Softball - Adult Game
TRANSP:0
DALARM:20250724T174500;PT10M;2;Pillies vs. Inglorious Batters
END:VEVENT
BEGIN:VEVENT
DTSTART:20250731T183000
DTEND:20250731T194500
SUMMARY:Grizzly Beers vs. Pillies
DESCRIPTION:Thursday Mens - Conejo Recreation and Park District
LOCATION:Borchard Park Field #3
CATEGORIES:QuickScores; Softball - Adult Game
TRANSP:0
DALARM:20250731T163000;PT10M;2;Grizzly Beers vs. Pillies
END:VEVENT
BEGIN:VEVENT
DTSTART:20250807T210000
DTEND:20250807T221500
SUMMARY:Pillies vs. Sons of Pitches
DESCRIPTION:Thursday Mens - Conejo Recreation and Park District
LOCATION:Borchard Park Field #3
CATEGORIES:QuickScores; Softball - Adult Game
TRANSP:0
DALARM:20250807T190000;PT10M;2;Pillies vs. Sons of Pitches
END:VEVENT
BEGIN:VEVENT
DTSTART:20250814T194500
DTEND:20250814T210000
SUMMARY:Pinseekers vs. Pillies
DESCRIPTION:Thursday Mens - Conejo Recreation and Park District
LOCATION:Borchard Park Field #3
CATEGORIES:QuickScores; Softball - Adult Game
TRANSP:0
DALARM:20250814T174500;PT10M;2;Pinseekers vs. Pillies
END:VEVENT
BEGIN:VEVENT
DTSTART:20250821T210000
DTEND:20250821T221500
SUMMARY:Sluggernauts vs. Pillies
DESCRIPTION:Thursday Mens - Conejo Recreation and Park District
LOCATION:Borchard Park Field #3
CATEGORIES:QuickScores; Softball - Adult Game
TRANSP:0
DALARM:20250821T190000;PT10M;2;Sluggernauts vs. Pillies
END:VEVENT
END:VCALENDAR
