BEGIN:VCALENDAR
VERSION:1.0
BEGIN:VEVENT
DTSTART:20250710T210000
DTEND:20250710T221500
SUMMARY:Grizzly Beers vs. Inglorious Batters
DESCRIPTION:Thursday Mens - Conejo Recreation and Park District
LOCATION:Borchard Park Field #3
CATEGORIES:QuickScores; Softball - Adult Game
TRANSP:0
DALARM:20250710T190000;PT10M;2;Grizzly Beers vs. Inglorious Batters
END:VEVENT
BEGIN:VEVENT
DTSTART:20250717T194500
DTEND:20250717T210000
SUMMARY:Grizzly Beers vs. Glove Handles
DESCRIPTION:Thursday Mens - Conejo Recreation and Park District
LOCATION:Borchard Park Field #3
CATEGORIES:QuickScores; Softball - Adult Game
TRANSP:0
DALARM:20250717T174500;PT10M;2;Grizzly Beers vs. Glove Handles
END:VEVENT
BEGIN:VEVENT
DTSTART:20250724T210000
DTEND:20250724T221500
SUMMARY:Sons of Pitches vs. Grizzly Beers
DESCRIPTION:Thursday Mens - Conejo Recreation and Park District
LOCATION:Borchard Park Field #3
CATEGORIES:QuickScores; Softball - Adult Game
TRANSP:0
DALARM:20250724T190000;PT10M;2;Sons of Pitches vs. Grizzly Beers
END:VEVENT
BEGIN:VEVENT
DTSTART:20250731T183000
DTEND:20250731T194500
SUMMARY:Grizzly Beers vs. Pillies
DESCRIPTION:Thursday Mens - Conejo Recreation and Park District
LOCATION:Borchard Park Field #3
CATEGORIES:QuickScores; Softball - Adult Game
TRANSP:0
DALARM:20250731T163000;PT10M;2;Grizzly Beers vs. Pillies
END:VEVENT
BEGIN:VEVENT
DTSTART:20250807T194500
DTEND:20250807T210000
SUMMARY:Sluggernauts vs. Grizzly Beers
DESCRIPTION:Thursday Mens - Conejo Recreation and Park District
LOCATION:Borchard Park Field #3
CATEGORIES:QuickScores; Softball - Adult Game
TRANSP:0
DALARM:20250807T174500;PT10M;2;Sluggernauts vs. Grizzly Beers
END:VEVENT
BEGIN:VEVENT
DTSTART:20250821T183000
DTEND:20250821T194500
SUMMARY:Pinseekers vs. Grizzly Beers
DESCRIPTION:Thursday Mens - Conejo Recreation and Park District
LOCATION:Borchard Park Field #3
CATEGORIES:QuickScores; Softball - Adult Game
TRANSP:0
DALARM:20250821T163000;PT10M;2;Pinseekers vs. Grizzly Beers
END:VEVENT
END:VCALENDAR
