BEGIN:VCALENDAR
VERSION:1.0
BEGIN:VEVENT
DTSTART:20240904T194500
DTEND:20240904T210000
SUMMARY:Head First vs. The Cronies
DESCRIPTION:Wednesday Mens - Conejo Recreation and Park District
LOCATION:Borchard Park Field #3
CATEGORIES:QuickScores; Softball - Adult Game
TRANSP:0
DALARM:20240904T174500;PT10M;2;Head First vs. The Cronies
END:VEVENT
BEGIN:VEVENT
DTSTART:20240911T183000
DTEND:20240911T194500
SUMMARY:NARDOGs vs. The Cronies
DESCRIPTION:Wednesday Mens - Conejo Recreation and Park District
LOCATION:Borchard Park Field #3
CATEGORIES:QuickScores; Softball - Adult Game
TRANSP:0
DALARM:20240911T163000;PT10M;2;NARDOGs vs. The Cronies
END:VEVENT
BEGIN:VEVENT
DTSTART:20240911T194500
DTEND:20240911T210000
SUMMARY:The Cronies vs. Head First
DESCRIPTION:Wednesday Mens - Conejo Recreation and Park District
LOCATION:Borchard Park Field #3
CATEGORIES:QuickScores; Softball - Adult Game
TRANSP:0
DALARM:20240911T174500;PT10M;2;The Cronies vs. Head First
END:VEVENT
BEGIN:VEVENT
DTSTART:20240918T210000
DTEND:20240918T221500
SUMMARY:The Cronies vs. NARDOGs
DESCRIPTION:Wednesday Mens - Conejo Recreation and Park District
LOCATION:Borchard Park Field #3
CATEGORIES:QuickScores; Softball - Adult Game
TRANSP:0
DALARM:20240918T190000;PT10M;2;The Cronies vs. NARDOGs
END:VEVENT
BEGIN:VEVENT
DTSTART:20240925T183000
DTEND:20240925T194500
SUMMARY:The Cronies vs. Beer Sox
DESCRIPTION:Wednesday Mens - Conejo Recreation and Park District
LOCATION:Borchard Park Field #3
CATEGORIES:QuickScores; Softball - Adult Game
TRANSP:0
DALARM:20240925T163000;PT10M;2;The Cronies vs. Beer Sox
END:VEVENT
BEGIN:VEVENT
DTSTART:20241002T210000
DTEND:20241002T221500
SUMMARY:The Cronies vs. Wednesday Warriors
DESCRIPTION:Wednesday Mens - Conejo Recreation and Park District
LOCATION:Borchard Park Field #3
CATEGORIES:QuickScores; Softball - Adult Game
TRANSP:0
DALARM:20241002T190000;PT10M;2;The Cronies vs. Wednesday Warriors
END:VEVENT
BEGIN:VEVENT
DTSTART:20241009T210000
DTEND:20241009T221500
SUMMARY:The Cronies vs. Head First
DESCRIPTION:Wednesday Mens - Conejo Recreation and Park District
LOCATION:Borchard Park Field #3
CATEGORIES:QuickScores; Softball - Adult Game
TRANSP:0
DALARM:20241009T190000;PT10M;2;The Cronies vs. Head First
END:VEVENT
BEGIN:VEVENT
DTSTART:20241016T183000
DTEND:20241016T194500
SUMMARY:NARDOGs vs. The Cronies
DESCRIPTION:Wednesday Mens - Conejo Recreation and Park District
LOCATION:Borchard Park Field #3
CATEGORIES:QuickScores; Softball - Adult Game
TRANSP:0
DALARM:20241016T163000;PT10M;2;NARDOGs vs. The Cronies
END:VEVENT
BEGIN:VEVENT
DTSTART:20241023T194500
DTEND:20241023T210000
SUMMARY:Wednesday Warriors vs. The Cronies
DESCRIPTION:Wednesday Mens - Conejo Recreation and Park District
LOCATION:Borchard Park Field #3
CATEGORIES:QuickScores; Softball - Adult Game
TRANSP:0
DALARM:20241023T174500;PT10M;2;Wednesday Warriors vs. The Cronies
END:VEVENT
BEGIN:VEVENT
DTSTART:20241030T183000
DTEND:20241030T194500
SUMMARY:Beer Sox vs. The Cronies
DESCRIPTION:Wednesday Mens - Conejo Recreation and Park District
LOCATION:Borchard Park Field #3
CATEGORIES:QuickScores; Softball - Adult Game
TRANSP:0
DALARM:20241030T163000;PT10M;2;Beer Sox vs. The Cronies
END:VEVENT
END:VCALENDAR
