BEGIN:VCALENDAR
VERSION:1.0
BEGIN:VEVENT
DTSTART:20240904T183000
DTEND:20240904T194500
SUMMARY:Wednesday Warriors vs. NARDOGs
DESCRIPTION:Wednesday Mens - Conejo Recreation and Park District
LOCATION:Borchard Park Field #3
CATEGORIES:QuickScores; Softball - Adult Game
TRANSP:0
DALARM:20240904T163000;PT10M;2;Wednesday Warriors vs. NARDOGs
END:VEVENT
BEGIN:VEVENT
DTSTART:20240911T210000
DTEND:20240911T221500
SUMMARY:Wednesday Warriors vs. Beer Sox
DESCRIPTION:Wednesday Mens - Conejo Recreation and Park District
LOCATION:Borchard Park Field #3
CATEGORIES:QuickScores; Softball - Adult Game
TRANSP:0
DALARM:20240911T190000;PT10M;2;Wednesday Warriors vs. Beer Sox
END:VEVENT
BEGIN:VEVENT
DTSTART:20240918T183000
DTEND:20240918T194500
SUMMARY:Head First vs. Wednesday Warriors
DESCRIPTION:Wednesday Mens - Conejo Recreation and Park District
LOCATION:Borchard Park Field #3
CATEGORIES:QuickScores; Softball - Adult Game
TRANSP:0
DALARM:20240918T163000;PT10M;2;Head First vs. Wednesday Warriors
END:VEVENT
BEGIN:VEVENT
DTSTART:20240925T194500
DTEND:20240925T210000
SUMMARY:Beer Sox vs. Wednesday Warriors
DESCRIPTION:Wednesday Mens - Conejo Recreation and Park District
LOCATION:Borchard Park Field #3
CATEGORIES:QuickScores; Softball - Adult Game
TRANSP:0
DALARM:20240925T174500;PT10M;2;Beer Sox vs. Wednesday Warriors
END:VEVENT
BEGIN:VEVENT
DTSTART:20241002T194500
DTEND:20241002T210000
SUMMARY:NARDOGs vs. Wednesday Warriors
DESCRIPTION:Wednesday Mens - Conejo Recreation and Park District
LOCATION:Borchard Park Field #3
CATEGORIES:QuickScores; Softball - Adult Game
TRANSP:0
DALARM:20241002T174500;PT10M;2;NARDOGs vs. Wednesday Warriors
END:VEVENT
BEGIN:VEVENT
DTSTART:20241002T210000
DTEND:20241002T221500
SUMMARY:The Cronies vs. Wednesday Warriors
DESCRIPTION:Wednesday Mens - Conejo Recreation and Park District
LOCATION:Borchard Park Field #3
CATEGORIES:QuickScores; Softball - Adult Game
TRANSP:0
DALARM:20241002T190000;PT10M;2;The Cronies vs. Wednesday Warriors
END:VEVENT
BEGIN:VEVENT
DTSTART:20241009T183000
DTEND:20241009T194500
SUMMARY:Wednesday Warriors vs. NARDOGs
DESCRIPTION:Wednesday Mens - Conejo Recreation and Park District
LOCATION:Borchard Park Field #3
CATEGORIES:QuickScores; Softball - Adult Game
TRANSP:0
DALARM:20241009T163000;PT10M;2;Wednesday Warriors vs. NARDOGs
END:VEVENT
BEGIN:VEVENT
DTSTART:20241016T210000
DTEND:20241016T221500
SUMMARY:Beer Sox vs. Wednesday Warriors
DESCRIPTION:Wednesday Mens - Conejo Recreation and Park District
LOCATION:Borchard Park Field #3
CATEGORIES:QuickScores; Softball - Adult Game
TRANSP:0
DALARM:20241016T190000;PT10M;2;Beer Sox vs. Wednesday Warriors
END:VEVENT
BEGIN:VEVENT
DTSTART:20241023T183000
DTEND:20241023T194500
SUMMARY:Wednesday Warriors vs. Head First
DESCRIPTION:Wednesday Mens - Conejo Recreation and Park District
LOCATION:Borchard Park Field #3
CATEGORIES:QuickScores; Softball - Adult Game
TRANSP:0
DALARM:20241023T163000;PT10M;2;Wednesday Warriors vs. Head First
END:VEVENT
BEGIN:VEVENT
DTSTART:20241023T194500
DTEND:20241023T210000
SUMMARY:Wednesday Warriors vs. The Cronies
DESCRIPTION:Wednesday Mens - Conejo Recreation and Park District
LOCATION:Borchard Park Field #3
CATEGORIES:QuickScores; Softball - Adult Game
TRANSP:0
DALARM:20241023T174500;PT10M;2;Wednesday Warriors vs. The Cronies
END:VEVENT
END:VCALENDAR
