BEGIN:VCALENDAR
VERSION:1.0
BEGIN:VEVENT
DTSTART:20240829T203000
DTEND:20240829T213000
SUMMARY:JS Basketball vs. Rice & Beans
DESCRIPTION:Thursday D - Conejo Recreation and Park District
LOCATION:Thousand Oaks Community Center
CATEGORIES:QuickScores; Basketball - Adult Game
TRANSP:0
DALARM:20240829T183000;PT10M;2;JS Basketball vs. Rice & Beans
END:VEVENT
BEGIN:VEVENT
DTSTART:20240905T193000
DTEND:20240905T203000
SUMMARY:Skyworks vs. Rice & Beans
DESCRIPTION:Thursday D - Conejo Recreation and Park District
LOCATION:Thousand Oaks Community Center
CATEGORIES:QuickScores; Basketball - Adult Game
TRANSP:0
DALARM:20240905T173000;PT10M;2;Skyworks vs. Rice & Beans
END:VEVENT
BEGIN:VEVENT
DTSTART:20240912T193000
DTEND:20240912T203000
SUMMARY:Brick House vs. Rice & Beans
DESCRIPTION:Thursday D - Conejo Recreation and Park District
LOCATION:Thousand Oaks Community Center
CATEGORIES:QuickScores; Basketball - Adult Game
TRANSP:0
DALARM:20240912T173000;PT10M;2;Brick House vs. Rice & Beans
END:VEVENT
BEGIN:VEVENT
DTSTART:20240919T213000
DTEND:20240919T223000
SUMMARY:Rice & Beans vs. Hot n Honey
DESCRIPTION:Thursday D - Conejo Recreation and Park District
LOCATION:Thousand Oaks Community Center
CATEGORIES:QuickScores; Basketball - Adult Game
TRANSP:0
DALARM:20240919T193000;PT10M;2;Rice & Beans vs. Hot n Honey
END:VEVENT
BEGIN:VEVENT
DTSTART:20240926T203000
DTEND:20240926T213000
SUMMARY:Kareem of the Crop vs. Rice & Beans
DESCRIPTION:Thursday D - Conejo Recreation and Park District
LOCATION:Thousand Oaks Community Center
CATEGORIES:QuickScores; Basketball - Adult Game
TRANSP:0
DALARM:20240926T183000;PT10M;2;Kareem of the Crop vs. Rice & Beans
END:VEVENT
BEGIN:VEVENT
DTSTART:20241003T213000
DTEND:20241003T223000
SUMMARY:BBQ Chicken vs. Rice & Beans
DESCRIPTION:Thursday D - Conejo Recreation and Park District
LOCATION:Thousand Oaks Community Center
CATEGORIES:QuickScores; Basketball - Adult Game
TRANSP:0
DALARM:20241003T193000;PT10M;2;BBQ Chicken vs. Rice & Beans
END:VEVENT
BEGIN:VEVENT
DTSTART:20241010T183000
DTEND:20241010T193000
SUMMARY:Rice & Beans vs. Flashes
DESCRIPTION:Thursday D - Conejo Recreation and Park District
LOCATION:Thousand Oaks Community Center
CATEGORIES:QuickScores; Basketball - Adult Game
TRANSP:0
DALARM:20241010T163000;PT10M;2;Rice & Beans vs. Flashes
END:VEVENT
BEGIN:VEVENT
DTSTART:20241017T183000
DTEND:20241017T193000
SUMMARY:Rice & Beans vs. JS Basketball
DESCRIPTION:Thursday D - Conejo Recreation and Park District
LOCATION:Thousand Oaks Community Center
CATEGORIES:QuickScores; Basketball - Adult Game
TRANSP:0
DALARM:20241017T163000;PT10M;2;Rice & Beans vs. JS Basketball
END:VEVENT
BEGIN:VEVENT
DTSTART:20241024T213000
DTEND:20241024T223000
SUMMARY:Rice & Beans vs. Skyworks
DESCRIPTION:Thursday D - Conejo Recreation and Park District
LOCATION:Thousand Oaks Community Center
CATEGORIES:QuickScores; Basketball - Adult Game
TRANSP:0
DALARM:20241024T193000;PT10M;2;Rice & Beans vs. Skyworks
END:VEVENT
BEGIN:VEVENT
DTSTART:20241107T193000
DTEND:20241107T203000
SUMMARY:Rice & Beans vs. Brick House
DESCRIPTION:Thursday D - Conejo Recreation and Park District
LOCATION:Thousand Oaks Community Center
CATEGORIES:QuickScores; Basketball - Adult Game
TRANSP:0
DALARM:20241107T173000;PT10M;2;Rice & Beans vs. Brick House
END:VEVENT
END:VCALENDAR
