BEGIN:VCALENDAR
VERSION:1.0
BEGIN:VEVENT
DTSTART:20240829T203000
DTEND:20240829T213000
SUMMARY:JS Basketball vs. Rice & Beans
DESCRIPTION:Thursday D - Conejo Recreation and Park District
LOCATION:Thousand Oaks Community Center
CATEGORIES:QuickScores; Basketball - Adult Game
TRANSP:0
DALARM:20240829T183000;PT10M;2;JS Basketball vs. Rice & Beans
END:VEVENT
BEGIN:VEVENT
DTSTART:20240905T183000
DTEND:20240905T193000
SUMMARY:JS Basketball vs. Brick House
DESCRIPTION:Thursday D - Conejo Recreation and Park District
LOCATION:Thousand Oaks Community Center
CATEGORIES:QuickScores; Basketball - Adult Game
TRANSP:0
DALARM:20240905T163000;PT10M;2;JS Basketball vs. Brick House
END:VEVENT
BEGIN:VEVENT
DTSTART:20240912T213000
DTEND:20240912T223000
SUMMARY:JS Basketball vs. Flashes
DESCRIPTION:Thursday D - Conejo Recreation and Park District
LOCATION:Thousand Oaks Community Center
CATEGORIES:QuickScores; Basketball - Adult Game
TRANSP:0
DALARM:20240912T193000;PT10M;2;JS Basketball vs. Flashes
END:VEVENT
BEGIN:VEVENT
DTSTART:20240919T193000
DTEND:20240919T203000
SUMMARY:JS Basketball vs. Kareem of the Crop
DESCRIPTION:Thursday D - Conejo Recreation and Park District
LOCATION:Thousand Oaks Community Center
CATEGORIES:QuickScores; Basketball - Adult Game
TRANSP:0
DALARM:20240919T173000;PT10M;2;JS Basketball vs. Kareem of the Crop
END:VEVENT
BEGIN:VEVENT
DTSTART:20240926T183000
DTEND:20240926T193000
SUMMARY:BBQ Chicken vs. JS Basketball
DESCRIPTION:Thursday D - Conejo Recreation and Park District
LOCATION:Thousand Oaks Community Center
CATEGORIES:QuickScores; Basketball - Adult Game
TRANSP:0
DALARM:20240926T163000;PT10M;2;BBQ Chicken vs. JS Basketball
END:VEVENT
BEGIN:VEVENT
DTSTART:20241003T193000
DTEND:20241003T203000
SUMMARY:Skyworks vs. JS Basketball
DESCRIPTION:Thursday D - Conejo Recreation and Park District
LOCATION:Thousand Oaks Community Center
CATEGORIES:QuickScores; Basketball - Adult Game
TRANSP:0
DALARM:20241003T173000;PT10M;2;Skyworks vs. JS Basketball
END:VEVENT
BEGIN:VEVENT
DTSTART:20241010T203000
DTEND:20241010T213000
SUMMARY:JS Basketball vs. Hot n Honey
DESCRIPTION:Thursday D - Conejo Recreation and Park District
LOCATION:Thousand Oaks Community Center
CATEGORIES:QuickScores; Basketball - Adult Game
TRANSP:0
DALARM:20241010T183000;PT10M;2;JS Basketball vs. Hot n Honey
END:VEVENT
BEGIN:VEVENT
DTSTART:20241017T183000
DTEND:20241017T193000
SUMMARY:Rice & Beans vs. JS Basketball
DESCRIPTION:Thursday D - Conejo Recreation and Park District
LOCATION:Thousand Oaks Community Center
CATEGORIES:QuickScores; Basketball - Adult Game
TRANSP:0
DALARM:20241017T163000;PT10M;2;Rice & Beans vs. JS Basketball
END:VEVENT
BEGIN:VEVENT
DTSTART:20241024T203000
DTEND:20241024T213000
SUMMARY:Brick House vs. JS Basketball
DESCRIPTION:Thursday D - Conejo Recreation and Park District
LOCATION:Thousand Oaks Community Center
CATEGORIES:QuickScores; Basketball - Adult Game
TRANSP:0
DALARM:20241024T183000;PT10M;2;Brick House vs. JS Basketball
END:VEVENT
BEGIN:VEVENT
DTSTART:20241107T213000
DTEND:20241107T223000
SUMMARY:Flashes vs. JS Basketball
DESCRIPTION:Thursday D - Conejo Recreation and Park District
LOCATION:Thousand Oaks Community Center
CATEGORIES:QuickScores; Basketball - Adult Game
TRANSP:0
DALARM:20241107T193000;PT10M;2;Flashes vs. JS Basketball
END:VEVENT
END:VCALENDAR
