BEGIN:VCALENDAR
VERSION:1.0
BEGIN:VEVENT
DTSTART:20240528T183000
DTEND:20240528T193000
SUMMARY:Referee's Delight vs. Organized Chaos
DESCRIPTION:Tuesday C - Conejo Recreation and Park District
LOCATION:Dos Vientos Community Center
CATEGORIES:QuickScores; Basketball - Adult Game
TRANSP:0
DALARM:20240528T163000;PT10M;2;Referee's Delight vs. Organized Chaos
END:VEVENT
BEGIN:VEVENT
DTSTART:20240604T183000
DTEND:20240604T193000
SUMMARY:Organized Chaos vs. Eagle Eddies
DESCRIPTION:Tuesday C - Conejo Recreation and Park District
LOCATION:Dos Vientos Community Center
CATEGORIES:QuickScores; Basketball - Adult Game
TRANSP:0
DALARM:20240604T163000;PT10M;2;Organized Chaos vs. Eagle Eddies
END:VEVENT
BEGIN:VEVENT
DTSTART:20240611T203000
DTEND:20240611T213000
SUMMARY:Poke Sum vs. Organized Chaos
DESCRIPTION:Tuesday C - Conejo Recreation and Park District
LOCATION:Dos Vientos Community Center
CATEGORIES:QuickScores; Basketball - Adult Game
TRANSP:0
DALARM:20240611T183000;PT10M;2;Poke Sum vs. Organized Chaos
END:VEVENT
BEGIN:VEVENT
DTSTART:20240618T193000
DTEND:20240618T203000
SUMMARY:Organized Chaos vs. LeRec Team
DESCRIPTION:Tuesday C - Conejo Recreation and Park District
LOCATION:Dos Vientos Community Center
CATEGORIES:QuickScores; Basketball - Adult Game
TRANSP:0
DALARM:20240618T173000;PT10M;2;Organized Chaos vs. LeRec Team
END:VEVENT
BEGIN:VEVENT
DTSTART:20240625T203000
DTEND:20240625T213000
SUMMARY:Black Beatles vs. Organized Chaos
DESCRIPTION:Tuesday C - Conejo Recreation and Park District
LOCATION:Dos Vientos Community Center
CATEGORIES:QuickScores; Basketball - Adult Game
TRANSP:0
DALARM:20240625T183000;PT10M;2;Black Beatles vs. Organized Chaos
END:VEVENT
BEGIN:VEVENT
DTSTART:20240702T203000
DTEND:20240702T213000
SUMMARY:Organized Chaos vs. Conejo Condas
DESCRIPTION:Tuesday C - Conejo Recreation and Park District
LOCATION:Dos Vientos Community Center
CATEGORIES:QuickScores; Basketball - Adult Game
TRANSP:0
DALARM:20240702T183000;PT10M;2;Organized Chaos vs. Conejo Condas
END:VEVENT
BEGIN:VEVENT
DTSTART:20240709T183000
DTEND:20240709T193000
SUMMARY:Eagle Eddies vs. Organized Chaos
DESCRIPTION:Tuesday C - Conejo Recreation and Park District
LOCATION:Dos Vientos Community Center
CATEGORIES:QuickScores; Basketball - Adult Game
TRANSP:0
DALARM:20240709T163000;PT10M;2;Eagle Eddies vs. Organized Chaos
END:VEVENT
BEGIN:VEVENT
DTSTART:20240716T193000
DTEND:20240716T203000
SUMMARY:Organized Chaos vs. Poke Sum
DESCRIPTION:Tuesday C - Conejo Recreation and Park District
LOCATION:Dos Vientos Community Center
CATEGORIES:QuickScores; Basketball - Adult Game
TRANSP:0
DALARM:20240716T173000;PT10M;2;Organized Chaos vs. Poke Sum
END:VEVENT
BEGIN:VEVENT
DTSTART:20240723T193000
DTEND:20240723T203000
SUMMARY:LeRec Team vs. Organized Chaos
DESCRIPTION:Tuesday C - Conejo Recreation and Park District
LOCATION:Dos Vientos Community Center
CATEGORIES:QuickScores; Basketball - Adult Game
TRANSP:0
DALARM:20240723T173000;PT10M;2;LeRec Team vs. Organized Chaos
END:VEVENT
BEGIN:VEVENT
DTSTART:20240730T203000
DTEND:20240730T213000
SUMMARY:Organized Chaos vs. Black Beatles
DESCRIPTION:Tuesday C - Conejo Recreation and Park District
LOCATION:Dos Vientos Community Center
CATEGORIES:QuickScores; Basketball - Adult Game
TRANSP:0
DALARM:20240730T183000;PT10M;2;Organized Chaos vs. Black Beatles
END:VEVENT
END:VCALENDAR
