BEGIN:VCALENDAR
VERSION:1.0
BEGIN:VEVENT
DTSTART:20240421T200000
DTEND:20240421T210000
SUMMARY:Hot Flaming Cheetos vs. Block Party
DESCRIPTION:Sunday Coed C4 - Conejo Recreation and Park District
LOCATION:Thousand Oaks Community Center Court #1
CATEGORIES:QuickScores; Volleyball - Adult Game
TRANSP:0
DALARM:20240421T180000;PT10M;2;Hot Flaming Cheetos vs. Block Party
END:VEVENT
BEGIN:VEVENT
DTSTART:20240428T190000
DTEND:20240428T200000
SUMMARY:Hot Flaming Cheetos vs. All Sets Are Off
DESCRIPTION:Sunday Coed C4 - Conejo Recreation and Park District
LOCATION:Thousand Oaks Community Center Court #1
CATEGORIES:QuickScores; Volleyball - Adult Game
TRANSP:0
DALARM:20240428T170000;PT10M;2;Hot Flaming Cheetos vs. All Sets Are Off
END:VEVENT
BEGIN:VEVENT
DTSTART:20240505T190000
DTEND:20240505T200000
SUMMARY:Hot Flaming Cheetos vs. Kool Arrows
DESCRIPTION:Sunday Coed C4 - Conejo Recreation and Park District
LOCATION:Thousand Oaks Community Center Court #1
CATEGORIES:QuickScores; Volleyball - Adult Game
TRANSP:0
DALARM:20240505T170000;PT10M;2;Hot Flaming Cheetos vs. Kool Arrows
END:VEVENT
BEGIN:VEVENT
DTSTART:20240519T200000
DTEND:20240519T210000
SUMMARY:Block Party vs. Hot Flaming Cheetos
DESCRIPTION:Sunday Coed C4 - Conejo Recreation and Park District
LOCATION:Thousand Oaks Community Center Court #1
CATEGORIES:QuickScores; Volleyball - Adult Game
TRANSP:0
DALARM:20240519T180000;PT10M;2;Block Party vs. Hot Flaming Cheetos
END:VEVENT
BEGIN:VEVENT
DTSTART:20240602T200000
DTEND:20240602T210000
SUMMARY:All Sets Are Off vs. Hot Flaming Cheetos
DESCRIPTION:Sunday Coed C4 - Conejo Recreation and Park District
LOCATION:Thousand Oaks Community Center Court #1
CATEGORIES:QuickScores; Volleyball - Adult Game
TRANSP:0
DALARM:20240602T180000;PT10M;2;All Sets Are Off vs. Hot Flaming Cheetos
END:VEVENT
BEGIN:VEVENT
DTSTART:20240609T200000
DTEND:20240609T210000
SUMMARY:Kool Arrows vs. Hot Flaming Cheetos
DESCRIPTION:Sunday Coed C4 - Conejo Recreation and Park District
LOCATION:Thousand Oaks Community Center Court #1
CATEGORIES:QuickScores; Volleyball - Adult Game
TRANSP:0
DALARM:20240609T180000;PT10M;2;Kool Arrows vs. Hot Flaming Cheetos
END:VEVENT
BEGIN:VEVENT
DTSTART:20240623T190000
DTEND:20240623T200000
SUMMARY:Hot Flaming Cheetos vs. Block Party
DESCRIPTION:Sunday Coed C4 - Conejo Recreation and Park District
LOCATION:Thousand Oaks Community Center Court #1
CATEGORIES:QuickScores; Volleyball - Adult Game
TRANSP:0
DALARM:20240623T170000;PT10M;2;Hot Flaming Cheetos vs. Block Party
END:VEVENT
BEGIN:VEVENT
DTSTART:20240630T200000
DTEND:20240630T210000
SUMMARY:All Sets Are Off vs. Hot Flaming Cheetos
DESCRIPTION:Sunday Coed C4 - Conejo Recreation and Park District
LOCATION:Thousand Oaks Community Center Court #1
CATEGORIES:QuickScores; Volleyball - Adult Game
TRANSP:0
DALARM:20240630T180000;PT10M;2;All Sets Are Off vs. Hot Flaming Cheetos
END:VEVENT
BEGIN:VEVENT
DTSTART:20240707T190000
DTEND:20240707T200000
SUMMARY:Hot Flaming Cheetos vs. Kool Arrows
DESCRIPTION:Sunday Coed C4 - Conejo Recreation and Park District
LOCATION:Thousand Oaks Community Center Court #1
CATEGORIES:QuickScores; Volleyball - Adult Game
TRANSP:0
DALARM:20240707T170000;PT10M;2;Hot Flaming Cheetos vs. Kool Arrows
END:VEVENT
BEGIN:VEVENT
DTSTART:20240714T190000
DTEND:20240714T200000
SUMMARY:Block Party vs. Hot Flaming Cheetos
DESCRIPTION:Sunday Coed C4 - Conejo Recreation and Park District
LOCATION:Thousand Oaks Community Center Court #1
CATEGORIES:QuickScores; Volleyball - Adult Game
TRANSP:0
DALARM:20240714T170000;PT10M;2;Block Party vs. Hot Flaming Cheetos
END:VEVENT
END:VCALENDAR
