BEGIN:VCALENDAR
VERSION:1.0
BEGIN:VEVENT
DTSTART:20230913T183000
DTEND:20230913T191500
SUMMARY:Shelly & Enos vs. Cindy & Camron
DESCRIPTION:Wednesday Intermediate Mixed - Conejo Recreation and Park District
LOCATION:Rancho Conejo Pickleball Court #8
CATEGORIES:QuickScores; Pickleball Game
TRANSP:0
DALARM:20230913T163000;PT10M;2;Shelly & Enos vs. Cindy & Camron
END:VEVENT
BEGIN:VEVENT
DTSTART:20230913T191500
DTEND:20230913T200000
SUMMARY:Shelly & Enos vs. Corinne & Gary
DESCRIPTION:Wednesday Intermediate Mixed - Conejo Recreation and Park District
LOCATION:Rancho Conejo Pickleball Court #8
CATEGORIES:QuickScores; Pickleball Game
TRANSP:0
DALARM:20230913T171500;PT10M;2;Shelly & Enos vs. Corinne & Gary
END:VEVENT
BEGIN:VEVENT
DTSTART:20230920T183000
DTEND:20230920T191500
SUMMARY:Shelly & Enos vs. Laurie & Scott
DESCRIPTION:Wednesday Intermediate Mixed - Conejo Recreation and Park District
LOCATION:Rancho Conejo Pickleball Court #7
CATEGORIES:QuickScores; Pickleball Game
TRANSP:0
DALARM:20230920T163000;PT10M;2;Shelly & Enos vs. Laurie & Scott
END:VEVENT
BEGIN:VEVENT
DTSTART:20230920T191500
DTEND:20230920T200000
SUMMARY:Shelly & Enos vs. Allan & Jennifer
DESCRIPTION:Wednesday Intermediate Mixed - Conejo Recreation and Park District
LOCATION:Rancho Conejo Pickleball Court #10
CATEGORIES:QuickScores; Pickleball Game
TRANSP:0
DALARM:20230920T171500;PT10M;2;Shelly & Enos vs. Allan & Jennifer
END:VEVENT
BEGIN:VEVENT
DTSTART:20230927T183000
DTEND:20230927T191500
SUMMARY:Shelly & Enos vs. Carol & Diane
DESCRIPTION:Wednesday Intermediate Mixed - Conejo Recreation and Park District
LOCATION:Rancho Conejo Pickleball Court #8
CATEGORIES:QuickScores; Pickleball Game
TRANSP:0
DALARM:20230927T163000;PT10M;2;Shelly & Enos vs. Carol & Diane
END:VEVENT
BEGIN:VEVENT
DTSTART:20230927T191500
DTEND:20230927T200000
SUMMARY:Shelly & Enos vs. Carmen & Scott
DESCRIPTION:Wednesday Intermediate Mixed - Conejo Recreation and Park District
LOCATION:Rancho Conejo Pickleball Court #7
CATEGORIES:QuickScores; Pickleball Game
TRANSP:0
DALARM:20230927T171500;PT10M;2;Shelly & Enos vs. Carmen & Scott
END:VEVENT
BEGIN:VEVENT
DTSTART:20231004T183000
DTEND:20231004T191500
SUMMARY:Corinne & Gary vs. Shelly & Enos
DESCRIPTION:Wednesday Intermediate Mixed - Conejo Recreation and Park District
LOCATION:Rancho Conejo Pickleball Court #7
CATEGORIES:QuickScores; Pickleball Game
TRANSP:0
DALARM:20231004T163000;PT10M;2;Corinne & Gary vs. Shelly & Enos
END:VEVENT
BEGIN:VEVENT
DTSTART:20231004T191500
DTEND:20231004T200000
SUMMARY:Shelly & Enos vs. Edie & Bill
DESCRIPTION:Wednesday Intermediate Mixed - Conejo Recreation and Park District
LOCATION:Rancho Conejo Pickleball Court #7
CATEGORIES:QuickScores; Pickleball Game
TRANSP:0
DALARM:20231004T171500;PT10M;2;Shelly & Enos vs. Edie & Bill
END:VEVENT
BEGIN:VEVENT
DTSTART:20231011T183000
DTEND:20231011T191500
SUMMARY:Cindy & Camron vs. Shelly & Enos
DESCRIPTION:Wednesday Intermediate Mixed - Conejo Recreation and Park District
LOCATION:Rancho Conejo Pickleball Court #10
CATEGORIES:QuickScores; Pickleball Game
TRANSP:0
DALARM:20231011T163000;PT10M;2;Cindy & Camron vs. Shelly & Enos
END:VEVENT
BEGIN:VEVENT
DTSTART:20231011T191500
DTEND:20231011T200000
SUMMARY:Laurie & Scott vs. Shelly & Enos
DESCRIPTION:Wednesday Intermediate Mixed - Conejo Recreation and Park District
LOCATION:Rancho Conejo Pickleball Court #9
CATEGORIES:QuickScores; Pickleball Game
TRANSP:0
DALARM:20231011T171500;PT10M;2;Laurie & Scott vs. Shelly & Enos
END:VEVENT
BEGIN:VEVENT
DTSTART:20231018T183000
DTEND:20231018T191500
SUMMARY:Allan & Jennifer vs. Shelly & Enos
DESCRIPTION:Wednesday Intermediate Mixed - Conejo Recreation and Park District
LOCATION:Rancho Conejo Pickleball Court #7
CATEGORIES:QuickScores; Pickleball Game
TRANSP:0
DALARM:20231018T163000;PT10M;2;Allan & Jennifer vs. Shelly & Enos
END:VEVENT
BEGIN:VEVENT
DTSTART:20231018T191500
DTEND:20231018T200000
SUMMARY:Carol & Diane vs. Shelly & Enos
DESCRIPTION:Wednesday Intermediate Mixed - Conejo Recreation and Park District
LOCATION:Rancho Conejo Pickleball Court #10
CATEGORIES:QuickScores; Pickleball Game
TRANSP:0
DALARM:20231018T171500;PT10M;2;Carol & Diane vs. Shelly & Enos
END:VEVENT
BEGIN:VEVENT
DTSTART:20231025T183000
DTEND:20231025T191500
SUMMARY:Edie & Bill vs. Shelly & Enos
DESCRIPTION:Wednesday Intermediate Mixed - Conejo Recreation and Park District
LOCATION:Rancho Conejo Pickleball Court #9
CATEGORIES:QuickScores; Pickleball Game
TRANSP:0
DALARM:20231025T163000;PT10M;2;Edie & Bill vs. Shelly & Enos
END:VEVENT
BEGIN:VEVENT
DTSTART:20231025T191500
DTEND:20231025T200000
SUMMARY:Carmen & Scott vs. Shelly & Enos
DESCRIPTION:Wednesday Intermediate Mixed - Conejo Recreation and Park District
LOCATION:Rancho Conejo Pickleball Court #9
CATEGORIES:QuickScores; Pickleball Game
TRANSP:0
DALARM:20231025T171500;PT10M;2;Carmen & Scott vs. Shelly & Enos
END:VEVENT
BEGIN:VEVENT
DTSTART:20231101T183000
DTEND:20231101T191500
SUMMARY:Cindy & Camron vs. Shelly & Enos
DESCRIPTION:Wednesday Intermediate Mixed - Conejo Recreation and Park District
LOCATION:Rancho Conejo Pickleball Court #9
CATEGORIES:QuickScores; Pickleball Game
TRANSP:0
DALARM:20231101T163000;PT10M;2;Cindy & Camron vs. Shelly & Enos
END:VEVENT
BEGIN:VEVENT
DTSTART:20231101T191500
DTEND:20231101T200000
SUMMARY:Shelly & Enos vs. Corinne & Gary
DESCRIPTION:Wednesday Intermediate Mixed - Conejo Recreation and Park District
LOCATION:Rancho Conejo Pickleball Court #9
CATEGORIES:QuickScores; Pickleball Game
TRANSP:0
DALARM:20231101T171500;PT10M;2;Shelly & Enos vs. Corinne & Gary
END:VEVENT
END:VCALENDAR
