BEGIN:VCALENDAR
VERSION:1.0
BEGIN:VEVENT
DTSTART:20230607T200000
DTEND:20230607T210000
SUMMARY:De Ja Vu vs. Sets and the City
DESCRIPTION:Wednesday Coed - Conejo Recreation and Park District
LOCATION:Thousand Oaks Community Center Court #1
CATEGORIES:QuickScores; Volleyball - Adult Game
TRANSP:0
DALARM:20230607T180000;PT10M;2;De Ja Vu vs. Sets and the City
END:VEVENT
BEGIN:VEVENT
DTSTART:20230621T190000
DTEND:20230621T200000
SUMMARY:Ace Holes vs. De Ja Vu
DESCRIPTION:Wednesday Coed - Conejo Recreation and Park District
LOCATION:Thousand Oaks Community Center Court #2
CATEGORIES:QuickScores; Volleyball - Adult Game
TRANSP:0
DALARM:20230621T170000;PT10M;2;Ace Holes vs. De Ja Vu
END:VEVENT
BEGIN:VEVENT
DTSTART:20230628T190000
DTEND:20230628T200000
SUMMARY:De Ja Vu vs. Negma
DESCRIPTION:Wednesday Coed - Conejo Recreation and Park District
LOCATION:Thousand Oaks Community Center Court #1
CATEGORIES:QuickScores; Volleyball - Adult Game
TRANSP:0
DALARM:20230628T170000;PT10M;2;De Ja Vu vs. Negma
END:VEVENT
BEGIN:VEVENT
DTSTART:20230705T200000
DTEND:20230705T210000
SUMMARY:Setting Ducks vs. De Ja Vu
DESCRIPTION:Wednesday Coed - Conejo Recreation and Park District
LOCATION:Thousand Oaks Community Center Court #2
CATEGORIES:QuickScores; Volleyball - Adult Game
TRANSP:0
DALARM:20230705T180000;PT10M;2;Setting Ducks vs. De Ja Vu
END:VEVENT
BEGIN:VEVENT
DTSTART:20230712T190000
DTEND:20230712T200000
SUMMARY:Spikological Warfare vs. De Ja Vu
DESCRIPTION:Wednesday Coed - Conejo Recreation and Park District
LOCATION:Thousand Oaks Community Center Court #2
CATEGORIES:QuickScores; Volleyball - Adult Game
TRANSP:0
DALARM:20230712T170000;PT10M;2;Spikological Warfare vs. De Ja Vu
END:VEVENT
BEGIN:VEVENT
DTSTART:20230719T190000
DTEND:20230719T200000
SUMMARY:De Ja Vu vs. Dinks
DESCRIPTION:Wednesday Coed - Conejo Recreation and Park District
LOCATION:Thousand Oaks Community Center Court #1
CATEGORIES:QuickScores; Volleyball - Adult Game
TRANSP:0
DALARM:20230719T170000;PT10M;2;De Ja Vu vs. Dinks
END:VEVENT
BEGIN:VEVENT
DTSTART:20230726T200000
DTEND:20230726T210000
SUMMARY:De Ja Vu vs. You Go!
DESCRIPTION:Wednesday Coed - Conejo Recreation and Park District
LOCATION:Thousand Oaks Community Center Court #2
CATEGORIES:QuickScores; Volleyball - Adult Game
TRANSP:0
DALARM:20230726T180000;PT10M;2;De Ja Vu vs. You Go!
END:VEVENT
BEGIN:VEVENT
DTSTART:20230802T190000
DTEND:20230802T200000
SUMMARY:Sets and the City vs. De Ja Vu
DESCRIPTION:Wednesday Coed - Conejo Recreation and Park District
LOCATION:Thousand Oaks Community Center Court #2
CATEGORIES:QuickScores; Volleyball - Adult Game
TRANSP:0
DALARM:20230802T170000;PT10M;2;Sets and the City vs. De Ja Vu
END:VEVENT
BEGIN:VEVENT
DTSTART:20230809T200000
DTEND:20230809T210000
SUMMARY:De Ja Vu vs. Ace Holes
DESCRIPTION:Wednesday Coed - Conejo Recreation and Park District
LOCATION:Thousand Oaks Community Center Court #2
CATEGORIES:QuickScores; Volleyball - Adult Game
TRANSP:0
DALARM:20230809T180000;PT10M;2;De Ja Vu vs. Ace Holes
END:VEVENT
BEGIN:VEVENT
DTSTART:20230816T200000
DTEND:20230816T210000
SUMMARY:Negma vs. De Ja Vu
DESCRIPTION:Wednesday Coed - Conejo Recreation and Park District
LOCATION:Thousand Oaks Community Center Court #1
CATEGORIES:QuickScores; Volleyball - Adult Game
TRANSP:0
DALARM:20230816T180000;PT10M;2;Negma vs. De Ja Vu
END:VEVENT
END:VCALENDAR
