BEGIN:VCALENDAR
VERSION:1.0
BEGIN:VEVENT
DTSTART:20230222T210000
DTEND:20230222T221500
SUMMARY:Wednesday Warriors vs. In-Laws & Outlaws
DESCRIPTION:Wednesday Men's - Conejo Recreation and Park District
LOCATION:Borchard Park Field #3
CATEGORIES:QuickScores; Softball - Adult Game
TRANSP:0
DALARM:20230222T190000;PT10M;2;Wednesday Warriors vs. In-Laws & Outlaws
END:VEVENT
BEGIN:VEVENT
DTSTART:20230308T210000
DTEND:20230308T221500
SUMMARY:NARDOGs vs. Wednesday Warriors
DESCRIPTION:Wednesday Men's - Conejo Recreation and Park District
LOCATION:Borchard Park Field #3
CATEGORIES:QuickScores; Softball - Adult Game
TRANSP:0
DALARM:20230308T190000;PT10M;2;NARDOGs vs. Wednesday Warriors
END:VEVENT
BEGIN:VEVENT
DTSTART:20230405T183000
DTEND:20230405T194500
SUMMARY:Wednesday Warriors vs. Beer Sox
DESCRIPTION:Wednesday Men's - Conejo Recreation and Park District
LOCATION:Borchard Park Field #3
CATEGORIES:QuickScores; Softball - Adult Game
TRANSP:0
DALARM:20230405T163000;PT10M;2;Wednesday Warriors vs. Beer Sox
END:VEVENT
BEGIN:VEVENT
DTSTART:20230405T194500
DTEND:20230405T210000
SUMMARY:Wednesday Warriors vs. NARDOGs
DESCRIPTION:Wednesday Men's - Conejo Recreation and Park District
LOCATION:Borchard Park Field #3
CATEGORIES:QuickScores; Softball - Adult Game
TRANSP:0
DALARM:20230405T174500;PT10M;2;Wednesday Warriors vs. NARDOGs
END:VEVENT
BEGIN:VEVENT
DTSTART:20230419T210000
DTEND:20230419T221500
SUMMARY:Wednesday Warriors vs. In-Laws & Outlaws
DESCRIPTION:Wednesday Men's - Conejo Recreation and Park District
LOCATION:Borchard Park Field #3
CATEGORIES:QuickScores; Softball - Adult Game
TRANSP:0
DALARM:20230419T190000;PT10M;2;Wednesday Warriors vs. In-Laws & Outlaws
END:VEVENT
BEGIN:VEVENT
DTSTART:20230426T183000
DTEND:20230426T194500
SUMMARY:Wednesday Warriors vs. Head First
DESCRIPTION:Rescheduled Games From 3/1 --- Wednesday Men's - Conejo Recreation and Park District
LOCATION:Borchard Park Field #3
CATEGORIES:QuickScores; Softball - Adult Game
TRANSP:0
DALARM:20230426T163000;PT10M;2;Wednesday Warriors vs. Head First
END:VEVENT
BEGIN:VEVENT
DTSTART:20230503T194500
DTEND:20230503T210000
SUMMARY:Head First vs. Wednesday Warriors
DESCRIPTION:Rescheduled Games From 3/15 --- Wednesday Men's - Conejo Recreation and Park District
LOCATION:Borchard Park Field #3
CATEGORIES:QuickScores; Softball - Adult Game
TRANSP:0
DALARM:20230503T174500;PT10M;2;Head First vs. Wednesday Warriors
END:VEVENT
BEGIN:VEVENT
DTSTART:20230517T183000
DTEND:20230517T194500
SUMMARY:Beer Sox vs. Wednesday Warriors
DESCRIPTION:Rescheduled Games From 3/22 --- Wednesday Men's - Conejo Recreation and Park District
LOCATION:Borchard Park Field #3
CATEGORIES:QuickScores; Softball - Adult Game
TRANSP:0
DALARM:20230517T163000;PT10M;2;Beer Sox vs. Wednesday Warriors
END:VEVENT
BEGIN:VEVENT
DTSTART:20230517T194500
DTEND:20230517T210000
SUMMARY:In-Laws & Outlaws vs. Wednesday Warriors
DESCRIPTION:Rescheduled Games From 3/22 --- Wednesday Men's - Conejo Recreation and Park District
LOCATION:Borchard Park Field #3
CATEGORIES:QuickScores; Softball - Adult Game
TRANSP:0
DALARM:20230517T174500;PT10M;2;In-Laws & Outlaws vs. Wednesday Warriors
END:VEVENT
BEGIN:VEVENT
DTSTART:20230524T194500
DTEND:20230524T210000
SUMMARY:Head First vs. Wednesday Warriors
DESCRIPTION:Rescheduled Games From 3/29 --- Wednesday Men's - Conejo Recreation and Park District
LOCATION:Borchard Park Field #3
CATEGORIES:QuickScores; Softball - Adult Game
TRANSP:0
DALARM:20230524T174500;PT10M;2;Head First vs. Wednesday Warriors
END:VEVENT
BEGIN:VEVENT
DTSTART:20230607T184500
DTEND:20230607T200000
SUMMARY:[2] Beer Sox vs. [3] Wednesday Warriors
DESCRIPTION:Wednesday Men's - Conejo Recreation and Park District
LOCATION:Borchard Park Field #3
CATEGORIES:QuickScores; Softball - Adult Game
TRANSP:0
DALARM:20230607T164500;PT10M;2;[2] Beer Sox vs. [3] Wednesday Warriors
END:VEVENT
END:VCALENDAR
