BEGIN:VCALENDAR
VERSION:1.0
BEGIN:VEVENT
DTSTART:20230222T200000
DTEND:20230222T211500
SUMMARY:NP Brew Crew vs. Baron Von Awesomes
DESCRIPTION:Wednesday Coed - Conejo Recreation and Park District
LOCATION:Borchard Park Field #2
CATEGORIES:QuickScores; Softball - Adult Game
TRANSP:0
DALARM:20230222T180000;PT10M;2;NP Brew Crew vs. Baron Von Awesomes
END:VEVENT
BEGIN:VEVENT
DTSTART:20230308T200000
DTEND:20230308T211500
SUMMARY:Baron Von Awesomes vs. Make it a Double
DESCRIPTION:Wednesday Coed - Conejo Recreation and Park District
LOCATION:Borchard Park Field #1
CATEGORIES:QuickScores; Softball - Adult Game
TRANSP:0
DALARM:20230308T180000;PT10M;2;Baron Von Awesomes vs. Make it a Double
END:VEVENT
BEGIN:VEVENT
DTSTART:20230405T184500
DTEND:20230405T200000
SUMMARY:Baron Von Awesomes vs. TNO Events
DESCRIPTION:Wednesday Coed - Conejo Recreation and Park District
LOCATION:Borchard Park Field #2
CATEGORIES:QuickScores; Softball - Adult Game
TRANSP:0
DALARM:20230405T164500;PT10M;2;Baron Von Awesomes vs. TNO Events
END:VEVENT
BEGIN:VEVENT
DTSTART:20230419T200000
DTEND:20230419T211500
SUMMARY:Baron Von Awesomes vs. Big Stink
DESCRIPTION:Wednesday Coed - Conejo Recreation and Park District
LOCATION:Borchard Park Field #2
CATEGORIES:QuickScores; Softball - Adult Game
TRANSP:0
DALARM:20230419T180000;PT10M;2;Baron Von Awesomes vs. Big Stink
END:VEVENT
BEGIN:VEVENT
DTSTART:20230426T200000
DTEND:20230426T211500
SUMMARY:Make it a Double vs. Baron Von Awesomes
DESCRIPTION:Wednesday Coed - Conejo Recreation and Park District
LOCATION:Borchard Park Field #2
CATEGORIES:QuickScores; Softball - Adult Game
TRANSP:0
DALARM:20230426T180000;PT10M;2;Make it a Double vs. Baron Von Awesomes
END:VEVENT
BEGIN:VEVENT
DTSTART:20230503T200000
DTEND:20230503T211500
SUMMARY:Hanson Lab Rats vs. Baron Von Awesomes
DESCRIPTION:Wednesday Coed - Conejo Recreation and Park District
LOCATION:Borchard Park Field #1
CATEGORIES:QuickScores; Softball - Adult Game
TRANSP:0
DALARM:20230503T180000;PT10M;2;Hanson Lab Rats vs. Baron Von Awesomes
END:VEVENT
BEGIN:VEVENT
DTSTART:20230510T184500
DTEND:20230510T200000
SUMMARY:TNO Events vs. Baron Von Awesomes
DESCRIPTION:Rescheduled Games From 3/1 --- Wednesday Coed - Conejo Recreation and Park District
LOCATION:Borchard Park Field #1
CATEGORIES:QuickScores; Softball - Adult Game
TRANSP:0
DALARM:20230510T164500;PT10M;2;TNO Events vs. Baron Von Awesomes
END:VEVENT
BEGIN:VEVENT
DTSTART:20230517T184500
DTEND:20230517T200000
SUMMARY:Baron Von Awesomes vs. No Mercy
DESCRIPTION:Rescheduled Games From 3/15 --- Wednesday Coed - Conejo Recreation and Park District
LOCATION:Borchard Park Field #2
CATEGORIES:QuickScores; Softball - Adult Game
TRANSP:0
DALARM:20230517T164500;PT10M;2;Baron Von Awesomes vs. No Mercy
END:VEVENT
BEGIN:VEVENT
DTSTART:20230524T184500
DTEND:20230524T200000
SUMMARY:Baron Von Awesomes vs. Lombardi Party
DESCRIPTION:Rescheduled Games From 3/22 --- Wednesday Coed - Conejo Recreation and Park District
LOCATION:Borchard Park Field #1
CATEGORIES:QuickScores; Softball - Adult Game
TRANSP:0
DALARM:20230524T164500;PT10M;2;Baron Von Awesomes vs. Lombardi Party
END:VEVENT
BEGIN:VEVENT
DTSTART:20230531T184500
DTEND:20230531T200000
SUMMARY:Big Stink vs. Baron Von Awesomes
DESCRIPTION:Rescheduled Games From 3/29 --- Wednesday Coed - Conejo Recreation and Park District
LOCATION:Borchard Park Field #2
CATEGORIES:QuickScores; Softball - Adult Game
TRANSP:0
DALARM:20230531T164500;PT10M;2;Big Stink vs. Baron Von Awesomes
END:VEVENT
END:VCALENDAR
