BEGIN:VCALENDAR
VERSION:1.0
BEGIN:VEVENT
DTSTART:20230209T183000
DTEND:20230209T193000
SUMMARY:Skyworks vs. Hot n Honey
DESCRIPTION:Thursday D - Conejo Recreation and Park District
LOCATION:Thousand Oaks Community Center
CATEGORIES:QuickScores; Basketball - Adult Game
TRANSP:0
DALARM:20230209T163000;PT10M;2;Skyworks vs. Hot n Honey
END:VEVENT
BEGIN:VEVENT
DTSTART:20230216T203000
DTEND:20230216T213000
SUMMARY:Flashes vs. Hot n Honey
DESCRIPTION:Thursday D - Conejo Recreation and Park District
LOCATION:Thousand Oaks Community Center
CATEGORIES:QuickScores; Basketball - Adult Game
TRANSP:0
DALARM:20230216T183000;PT10M;2;Flashes vs. Hot n Honey
END:VEVENT
BEGIN:VEVENT
DTSTART:20230223T203000
DTEND:20230223T213000
SUMMARY:Beerlicious vs. Hot n Honey
DESCRIPTION:Thursday D - Conejo Recreation and Park District
LOCATION:Thousand Oaks Community Center
CATEGORIES:QuickScores; Basketball - Adult Game
TRANSP:0
DALARM:20230223T183000;PT10M;2;Beerlicious vs. Hot n Honey
END:VEVENT
BEGIN:VEVENT
DTSTART:20230302T213000
DTEND:20230302T223000
SUMMARY:Hot n Honey vs. Call Us Fat 1 Mo Time
DESCRIPTION:Thursday D - Conejo Recreation and Park District
LOCATION:Thousand Oaks Community Center
CATEGORIES:QuickScores; Basketball - Adult Game
TRANSP:0
DALARM:20230302T193000;PT10M;2;Hot n Honey vs. Call Us Fat 1 Mo Time
END:VEVENT
BEGIN:VEVENT
DTSTART:20230309T193000
DTEND:20230309T203000
SUMMARY:JS Basketball vs. Hot n Honey
DESCRIPTION:Thursday D - Conejo Recreation and Park District
LOCATION:Thousand Oaks Community Center
CATEGORIES:QuickScores; Basketball - Adult Game
TRANSP:0
DALARM:20230309T173000;PT10M;2;JS Basketball vs. Hot n Honey
END:VEVENT
BEGIN:VEVENT
DTSTART:20230316T183000
DTEND:20230316T193000
SUMMARY:Rice & Beans vs. Hot n Honey
DESCRIPTION:Thursday D - Conejo Recreation and Park District
LOCATION:Thousand Oaks Community Center
CATEGORIES:QuickScores; Basketball - Adult Game
TRANSP:0
DALARM:20230316T163000;PT10M;2;Rice & Beans vs. Hot n Honey
END:VEVENT
BEGIN:VEVENT
DTSTART:20230323T203000
DTEND:20230323T213000
SUMMARY:Hot n Honey vs. Let's Get Tropical
DESCRIPTION:Thursday D - Conejo Recreation and Park District
LOCATION:Thousand Oaks Community Center
CATEGORIES:QuickScores; Basketball - Adult Game
TRANSP:0
DALARM:20230323T183000;PT10M;2;Hot n Honey vs. Let's Get Tropical
END:VEVENT
BEGIN:VEVENT
DTSTART:20230330T183000
DTEND:20230330T193000
SUMMARY:Hot n Honey vs. Skyworks
DESCRIPTION:Thursday D - Conejo Recreation and Park District
LOCATION:Thousand Oaks Community Center
CATEGORIES:QuickScores; Basketball - Adult Game
TRANSP:0
DALARM:20230330T163000;PT10M;2;Hot n Honey vs. Skyworks
END:VEVENT
BEGIN:VEVENT
DTSTART:20230406T213000
DTEND:20230406T223000
SUMMARY:Hot n Honey vs. Flashes
DESCRIPTION:Thursday D - Conejo Recreation and Park District
LOCATION:Thousand Oaks Community Center
CATEGORIES:QuickScores; Basketball - Adult Game
TRANSP:0
DALARM:20230406T193000;PT10M;2;Hot n Honey vs. Flashes
END:VEVENT
BEGIN:VEVENT
DTSTART:20230420T193000
DTEND:20230420T203000
SUMMARY:Hot n Honey vs. Beerlicious
DESCRIPTION:Thursday D - Conejo Recreation and Park District
LOCATION:Thousand Oaks Community Center
CATEGORIES:QuickScores; Basketball - Adult Game
TRANSP:0
DALARM:20230420T173000;PT10M;2;Hot n Honey vs. Beerlicious
END:VEVENT
END:VCALENDAR
