BEGIN:VCALENDAR
VERSION:1.0
BEGIN:VEVENT
DTSTART:20230209T213000
DTEND:20230209T223000
SUMMARY:JS Basketball vs. Beerlicious
DESCRIPTION:Thursday D - Conejo Recreation and Park District
LOCATION:Thousand Oaks Community Center
CATEGORIES:QuickScores; Basketball - Adult Game
TRANSP:0
DALARM:20230209T193000;PT10M;2;JS Basketball vs. Beerlicious
END:VEVENT
BEGIN:VEVENT
DTSTART:20230216T213000
DTEND:20230216T223000
SUMMARY:JS Basketball vs. Rice & Beans
DESCRIPTION:Thursday D - Conejo Recreation and Park District
LOCATION:Thousand Oaks Community Center
CATEGORIES:QuickScores; Basketball - Adult Game
TRANSP:0
DALARM:20230216T193000;PT10M;2;JS Basketball vs. Rice & Beans
END:VEVENT
BEGIN:VEVENT
DTSTART:20230223T193000
DTEND:20230223T203000
SUMMARY:JS Basketball vs. Call Us Fat 1 Mo Time
DESCRIPTION:Thursday D - Conejo Recreation and Park District
LOCATION:Thousand Oaks Community Center
CATEGORIES:QuickScores; Basketball - Adult Game
TRANSP:0
DALARM:20230223T173000;PT10M;2;JS Basketball vs. Call Us Fat 1 Mo Time
END:VEVENT
BEGIN:VEVENT
DTSTART:20230302T203000
DTEND:20230302T213000
SUMMARY:Skyworks vs. JS Basketball
DESCRIPTION:Thursday D - Conejo Recreation and Park District
LOCATION:Thousand Oaks Community Center
CATEGORIES:QuickScores; Basketball - Adult Game
TRANSP:0
DALARM:20230302T183000;PT10M;2;Skyworks vs. JS Basketball
END:VEVENT
BEGIN:VEVENT
DTSTART:20230309T193000
DTEND:20230309T203000
SUMMARY:JS Basketball vs. Hot n Honey
DESCRIPTION:Thursday D - Conejo Recreation and Park District
LOCATION:Thousand Oaks Community Center
CATEGORIES:QuickScores; Basketball - Adult Game
TRANSP:0
DALARM:20230309T173000;PT10M;2;JS Basketball vs. Hot n Honey
END:VEVENT
BEGIN:VEVENT
DTSTART:20230316T203000
DTEND:20230316T213000
SUMMARY:Let's Get Tropical vs. JS Basketball
DESCRIPTION:Thursday D - Conejo Recreation and Park District
LOCATION:Thousand Oaks Community Center
CATEGORIES:QuickScores; Basketball - Adult Game
TRANSP:0
DALARM:20230316T183000;PT10M;2;Let's Get Tropical vs. JS Basketball
END:VEVENT
BEGIN:VEVENT
DTSTART:20230323T193000
DTEND:20230323T203000
SUMMARY:JS Basketball vs. Flashes
DESCRIPTION:Thursday D - Conejo Recreation and Park District
LOCATION:Thousand Oaks Community Center
CATEGORIES:QuickScores; Basketball - Adult Game
TRANSP:0
DALARM:20230323T173000;PT10M;2;JS Basketball vs. Flashes
END:VEVENT
BEGIN:VEVENT
DTSTART:20230330T203000
DTEND:20230330T213000
SUMMARY:Beerlicious vs. JS Basketball
DESCRIPTION:Thursday D - Conejo Recreation and Park District
LOCATION:Thousand Oaks Community Center
CATEGORIES:QuickScores; Basketball - Adult Game
TRANSP:0
DALARM:20230330T183000;PT10M;2;Beerlicious vs. JS Basketball
END:VEVENT
BEGIN:VEVENT
DTSTART:20230406T183000
DTEND:20230406T193000
SUMMARY:Rice & Beans vs. JS Basketball
DESCRIPTION:Thursday D - Conejo Recreation and Park District
LOCATION:Thousand Oaks Community Center
CATEGORIES:QuickScores; Basketball - Adult Game
TRANSP:0
DALARM:20230406T163000;PT10M;2;Rice & Beans vs. JS Basketball
END:VEVENT
BEGIN:VEVENT
DTSTART:20230420T183000
DTEND:20230420T193000
SUMMARY:Call Us Fat 1 Mo Time vs. JS Basketball
DESCRIPTION:Thursday D - Conejo Recreation and Park District
LOCATION:Thousand Oaks Community Center
CATEGORIES:QuickScores; Basketball - Adult Game
TRANSP:0
DALARM:20230420T163000;PT10M;2;Call Us Fat 1 Mo Time vs. JS Basketball
END:VEVENT
END:VCALENDAR
