BEGIN:VCALENDAR
VERSION:1.0
BEGIN:VEVENT
DTSTART:20220911T183000
DTEND:20220911T193000
SUMMARY:Ball Diggers vs. Can You Dig It?
DESCRIPTION:Sunday Coed C2 - Conejo Recreation and Park District
LOCATION:Thousand Oaks Community Center Court #1
CATEGORIES:QuickScores; Volleyball - Adult Game
TRANSP:0
DALARM:20220911T163000;PT10M;2;Ball Diggers vs. Can You Dig It?
END:VEVENT
BEGIN:VEVENT
DTSTART:20220918T163000
DTEND:20220918T173000
SUMMARY:Ball Diggers vs. Stan Ziegler
DESCRIPTION:Sunday Coed C2 - Conejo Recreation and Park District
LOCATION:Thousand Oaks Community Center Court #1
CATEGORIES:QuickScores; Volleyball - Adult Game
TRANSP:0
DALARM:20220918T143000;PT10M;2;Ball Diggers vs. Stan Ziegler
END:VEVENT
BEGIN:VEVENT
DTSTART:20220925T163000
DTEND:20220925T173000
SUMMARY:How I set Your Mother vs. Ball Diggers
DESCRIPTION:Sunday Coed C2 - Conejo Recreation and Park District
LOCATION:Thousand Oaks Community Center Court #1
CATEGORIES:QuickScores; Volleyball - Adult Game
TRANSP:0
DALARM:20220925T143000;PT10M;2;How I set Your Mother vs. Ball Diggers
END:VEVENT
BEGIN:VEVENT
DTSTART:20221002T173000
DTEND:20221002T183000
SUMMARY:Stan Ziegler vs. Ball Diggers
DESCRIPTION:Sunday Coed C2 - Conejo Recreation and Park District
LOCATION:Thousand Oaks Community Center Court #1
CATEGORIES:QuickScores; Volleyball - Adult Game
TRANSP:0
DALARM:20221002T153000;PT10M;2;Stan Ziegler vs. Ball Diggers
END:VEVENT
BEGIN:VEVENT
DTSTART:20221009T163000
DTEND:20221009T173000
SUMMARY:Friends In Low Aces vs. Ball Diggers
DESCRIPTION:Sunday Coed C2 - Conejo Recreation and Park District
LOCATION:Thousand Oaks Community Center Court #1
CATEGORIES:QuickScores; Volleyball - Adult Game
TRANSP:0
DALARM:20221009T143000;PT10M;2;Friends In Low Aces vs. Ball Diggers
END:VEVENT
BEGIN:VEVENT
DTSTART:20221009T173000
DTEND:20221009T183000
SUMMARY:Can You Dig It? vs. Ball Diggers
DESCRIPTION:Sunday Coed C2 - Conejo Recreation and Park District
LOCATION:Thousand Oaks Community Center Court #1
CATEGORIES:QuickScores; Volleyball - Adult Game
TRANSP:0
DALARM:20221009T153000;PT10M;2;Can You Dig It? vs. Ball Diggers
END:VEVENT
BEGIN:VEVENT
DTSTART:20221016T173000
DTEND:20221016T183000
SUMMARY:Ball Diggers vs. How I set Your Mother
DESCRIPTION:Sunday Coed C2 - Conejo Recreation and Park District
LOCATION:Thousand Oaks Community Center Court #1
CATEGORIES:QuickScores; Volleyball - Adult Game
TRANSP:0
DALARM:20221016T153000;PT10M;2;Ball Diggers vs. How I set Your Mother
END:VEVENT
BEGIN:VEVENT
DTSTART:20221016T183000
DTEND:20221016T193000
SUMMARY:Ball Diggers vs. Friends In Low Aces
DESCRIPTION:Sunday Coed C2 - Conejo Recreation and Park District
LOCATION:Thousand Oaks Community Center Court #1
CATEGORIES:QuickScores; Volleyball - Adult Game
TRANSP:0
DALARM:20221016T163000;PT10M;2;Ball Diggers vs. Friends In Low Aces
END:VEVENT
BEGIN:VEVENT
DTSTART:20221023T183000
DTEND:20221023T193000
SUMMARY:Stan Ziegler vs. Ball Diggers
DESCRIPTION:Sunday Coed C2 - Conejo Recreation and Park District
LOCATION:Thousand Oaks Community Center Court #1
CATEGORIES:QuickScores; Volleyball - Adult Game
TRANSP:0
DALARM:20221023T163000;PT10M;2;Stan Ziegler vs. Ball Diggers
END:VEVENT
BEGIN:VEVENT
DTSTART:20221030T163000
DTEND:20221030T173000
SUMMARY:Ball Diggers vs. Can You Dig It?
DESCRIPTION:Sunday Coed C2 - Conejo Recreation and Park District
LOCATION:Thousand Oaks Community Center Court #1
CATEGORIES:QuickScores; Volleyball - Adult Game
TRANSP:0
DALARM:20221030T143000;PT10M;2;Ball Diggers vs. Can You Dig It?
END:VEVENT
END:VCALENDAR
