BEGIN:VCALENDAR
VERSION:1.0
BEGIN:VEVENT
DTSTART:20220908T181500
DTEND:20220908T193000
SUMMARY:Fun Times vs. Mike's Patriots
DESCRIPTION:Thursday Men's D2 - Conejo Recreation and Park District
LOCATION:Pepper Tree Playfield #2
CATEGORIES:QuickScores; Softball - Adult Game
TRANSP:0
DALARM:20220908T161500;PT10M;2;Fun Times vs. Mike's Patriots
END:VEVENT
BEGIN:VEVENT
DTSTART:20220915T193000
DTEND:20220915T204500
SUMMARY:CRC-JLC vs. Mike's Patriots
DESCRIPTION:Thursday Men's D2 - Conejo Recreation and Park District
LOCATION:Pepper Tree Playfield #2
CATEGORIES:QuickScores; Softball - Adult Game
TRANSP:0
DALARM:20220915T173000;PT10M;2;CRC-JLC vs. Mike's Patriots
END:VEVENT
BEGIN:VEVENT
DTSTART:20220922T204500
DTEND:20220922T220000
SUMMARY:Inglorious Batters vs. Mike's Patriots
DESCRIPTION:Thursday Men's D2 - Conejo Recreation and Park District
LOCATION:Pepper Tree Playfield #2
CATEGORIES:QuickScores; Softball - Adult Game
TRANSP:0
DALARM:20220922T184500;PT10M;2;Inglorious Batters vs. Mike's Patriots
END:VEVENT
BEGIN:VEVENT
DTSTART:20220929T204500
DTEND:20220929T220000
SUMMARY:Mike's Patriots vs. Tiger Sharks
DESCRIPTION:Thursday Men's D2 - Conejo Recreation and Park District
LOCATION:Pepper Tree Playfield #2
CATEGORIES:QuickScores; Softball - Adult Game
TRANSP:0
DALARM:20220929T184500;PT10M;2;Mike's Patriots vs. Tiger Sharks
END:VEVENT
BEGIN:VEVENT
DTSTART:20221006T181500
DTEND:20221006T193000
SUMMARY:Mike's Patriots vs. Balls Deep
DESCRIPTION:Thursday Men's D2 - Conejo Recreation and Park District
LOCATION:Pepper Tree Playfield #2
CATEGORIES:QuickScores; Softball - Adult Game
TRANSP:0
DALARM:20221006T161500;PT10M;2;Mike's Patriots vs. Balls Deep
END:VEVENT
BEGIN:VEVENT
DTSTART:20221013T193000
DTEND:20221013T204500
SUMMARY:Mike's Patriots vs. Fun Times
DESCRIPTION:Thursday Men's D2 - Conejo Recreation and Park District
LOCATION:Pepper Tree Playfield #2
CATEGORIES:QuickScores; Softball - Adult Game
TRANSP:0
DALARM:20221013T173000;PT10M;2;Mike's Patriots vs. Fun Times
END:VEVENT
BEGIN:VEVENT
DTSTART:20221020T193000
DTEND:20221020T204500
SUMMARY:Mike's Patriots vs. CRC-JLC
DESCRIPTION:Thursday Men's D2 - Conejo Recreation and Park District
LOCATION:Pepper Tree Playfield #2
CATEGORIES:QuickScores; Softball - Adult Game
TRANSP:0
DALARM:20221020T173000;PT10M;2;Mike's Patriots vs. CRC-JLC
END:VEVENT
BEGIN:VEVENT
DTSTART:20221027T181500
DTEND:20221027T193000
SUMMARY:Mike's Patriots vs. Inglorious Batters
DESCRIPTION:Thursday Men's D2 - Conejo Recreation and Park District
LOCATION:Pepper Tree Playfield #2
CATEGORIES:QuickScores; Softball - Adult Game
TRANSP:0
DALARM:20221027T161500;PT10M;2;Mike's Patriots vs. Inglorious Batters
END:VEVENT
BEGIN:VEVENT
DTSTART:20221103T204500
DTEND:20221103T220000
SUMMARY:Tiger Sharks vs. Mike's Patriots
DESCRIPTION:Thursday Men's D2 - Conejo Recreation and Park District
LOCATION:Pepper Tree Playfield #2
CATEGORIES:QuickScores; Softball - Adult Game
TRANSP:0
DALARM:20221103T184500;PT10M;2;Tiger Sharks vs. Mike's Patriots
END:VEVENT
BEGIN:VEVENT
DTSTART:20221117T193000
DTEND:20221117T204500
SUMMARY:Balls Deep vs. Mike's Patriots
DESCRIPTION:Rescheduled From 11/10 --- Thursday Men's D2 - Conejo Recreation and Park District
LOCATION:Pepper Tree Playfield #2
CATEGORIES:QuickScores; Softball - Adult Game
TRANSP:0
DALARM:20221117T173000;PT10M;2;Balls Deep vs. Mike's Patriots
END:VEVENT
END:VCALENDAR
