BEGIN:VCALENDAR
VERSION:1.0
BEGIN:VEVENT
DTSTART:20220426T183000
DTEND:20220426T193000
SUMMARY:Ryaka Krubin vs. Super Smash Bros
DESCRIPTION:Tuesday Coed - Conejo Recreation and Park District
LOCATION:Dos Vientos Center Court #1
CATEGORIES:QuickScores; Volleyball - Adult Game
TRANSP:0
DALARM:20220426T163000;PT10M;2;Ryaka Krubin vs. Super Smash Bros
END:VEVENT
BEGIN:VEVENT
DTSTART:20220426T193000
DTEND:20220426T203000
SUMMARY:Super Smash Bros vs. Sand Monsters
DESCRIPTION:Tuesday Coed - Conejo Recreation and Park District
LOCATION:Dos Vientos Center Court #1
CATEGORIES:QuickScores; Volleyball - Adult Game
TRANSP:0
DALARM:20220426T173000;PT10M;2;Super Smash Bros vs. Sand Monsters
END:VEVENT
BEGIN:VEVENT
DTSTART:20220503T203000
DTEND:20220503T213000
SUMMARY:Sand Monsters vs. Super Smash Bros
DESCRIPTION:Tuesday Coed - Conejo Recreation and Park District
LOCATION:Dos Vientos Center Court #1
CATEGORIES:QuickScores; Volleyball - Adult Game
TRANSP:0
DALARM:20220503T183000;PT10M;2;Sand Monsters vs. Super Smash Bros
END:VEVENT
BEGIN:VEVENT
DTSTART:20220510T183000
DTEND:20220510T193000
SUMMARY:Super Smash Bros vs. Resting Beach Face
DESCRIPTION:Tuesday Coed - Conejo Recreation and Park District
LOCATION:Dos Vientos Center Court #1
CATEGORIES:QuickScores; Volleyball - Adult Game
TRANSP:0
DALARM:20220510T163000;PT10M;2;Super Smash Bros vs. Resting Beach Face
END:VEVENT
BEGIN:VEVENT
DTSTART:20220517T203000
DTEND:20220517T213000
SUMMARY:The Integrators vs. Super Smash Bros
DESCRIPTION:Tuesday Coed - Conejo Recreation and Park District
LOCATION:Dos Vientos Center Court #1
CATEGORIES:QuickScores; Volleyball - Adult Game
TRANSP:0
DALARM:20220517T183000;PT10M;2;The Integrators vs. Super Smash Bros
END:VEVENT
BEGIN:VEVENT
DTSTART:20220524T203000
DTEND:20220524T213000
SUMMARY:Super Smash Bros vs. Ryaka Krubin
DESCRIPTION:Tuesday Coed - Conejo Recreation and Park District
LOCATION:Dos Vientos Center Court #1
CATEGORIES:QuickScores; Volleyball - Adult Game
TRANSP:0
DALARM:20220524T183000;PT10M;2;Super Smash Bros vs. Ryaka Krubin
END:VEVENT
BEGIN:VEVENT
DTSTART:20220531T193000
DTEND:20220531T203000
SUMMARY:Resting Beach Face vs. Super Smash Bros
DESCRIPTION:Tuesday Coed - Conejo Recreation and Park District
LOCATION:Dos Vientos Center Court #1
CATEGORIES:QuickScores; Volleyball - Adult Game
TRANSP:0
DALARM:20220531T173000;PT10M;2;Resting Beach Face vs. Super Smash Bros
END:VEVENT
BEGIN:VEVENT
DTSTART:20220607T183000
DTEND:20220607T193000
SUMMARY:Super Smash Bros vs. The Integrators
DESCRIPTION:Tuesday Coed - Conejo Recreation and Park District
LOCATION:Dos Vientos Center Court #1
CATEGORIES:QuickScores; Volleyball - Adult Game
TRANSP:0
DALARM:20220607T163000;PT10M;2;Super Smash Bros vs. The Integrators
END:VEVENT
BEGIN:VEVENT
DTSTART:20220614T193000
DTEND:20220614T203000
SUMMARY:Super Smash Bros vs. Ryaka Krubin
DESCRIPTION:Tuesday Coed - Conejo Recreation and Park District
LOCATION:Dos Vientos Center Court #1
CATEGORIES:QuickScores; Volleyball - Adult Game
TRANSP:0
DALARM:20220614T173000;PT10M;2;Super Smash Bros vs. Ryaka Krubin
END:VEVENT
BEGIN:VEVENT
DTSTART:20220614T203000
DTEND:20220614T213000
SUMMARY:Sand Monsters vs. Super Smash Bros
DESCRIPTION:Tuesday Coed - Conejo Recreation and Park District
LOCATION:Dos Vientos Center Court #1
CATEGORIES:QuickScores; Volleyball - Adult Game
TRANSP:0
DALARM:20220614T183000;PT10M;2;Sand Monsters vs. Super Smash Bros
END:VEVENT
END:VCALENDAR
