BEGIN:VCALENDAR
VERSION:1.0
BEGIN:VEVENT
DTSTART:20210928T194500
DTEND:20210928T204500
SUMMARY:Real Bad vs. Rabbit Valley FC
DESCRIPTION:Tuesday Coed - Conejo Recreation and Park District
LOCATION:Dos Vientos Community Park Field #2-B
CATEGORIES:QuickScores; Soccer - Adult Game
TRANSP:0
DALARM:20210928T174500;PT10M;2;Real Bad vs. Rabbit Valley FC
END:VEVENT
BEGIN:VEVENT
DTSTART:20211005T184500
DTEND:20211005T194500
SUMMARY:ASC vs. Rabbit Valley FC
DESCRIPTION:Tuesday Coed - Conejo Recreation and Park District
LOCATION:Dos Vientos Community Park Field #2-A
CATEGORIES:QuickScores; Soccer - Adult Game
TRANSP:0
DALARM:20211005T164500;PT10M;2;ASC vs. Rabbit Valley FC
END:VEVENT
BEGIN:VEVENT
DTSTART:20211012T184500
DTEND:20211012T194500
SUMMARY:Las Chivas vs. Rabbit Valley FC
DESCRIPTION:Tuesday Coed - Conejo Recreation and Park District
LOCATION:Dos Vientos Community Park Field #2-B
CATEGORIES:QuickScores; Soccer - Adult Game
TRANSP:0
DALARM:20211012T164500;PT10M;2;Las Chivas vs. Rabbit Valley FC
END:VEVENT
BEGIN:VEVENT
DTSTART:20211019T194500
DTEND:20211019T204500
SUMMARY:Kicks and Giggles vs. Rabbit Valley FC
DESCRIPTION:Tuesday Coed - Conejo Recreation and Park District
LOCATION:Dos Vientos Community Park Field #2-A
CATEGORIES:QuickScores; Soccer - Adult Game
TRANSP:0
DALARM:20211019T174500;PT10M;2;Kicks and Giggles vs. Rabbit Valley FC
END:VEVENT
BEGIN:VEVENT
DTSTART:20211026T184500
DTEND:20211026T194500
SUMMARY:Rabbit Valley FC vs. Cire 300
DESCRIPTION:Tuesday Coed - Conejo Recreation and Park District
LOCATION:Dos Vientos Community Park Field #2-B
CATEGORIES:QuickScores; Soccer - Adult Game
TRANSP:0
DALARM:20211026T164500;PT10M;2;Rabbit Valley FC vs. Cire 300
END:VEVENT
BEGIN:VEVENT
DTSTART:20211102T194500
DTEND:20211102T204500
SUMMARY:SAGEPUB vs. Rabbit Valley FC
DESCRIPTION:Tuesday Coed - Conejo Recreation and Park District
LOCATION:Dos Vientos Community Park Field #2-B
CATEGORIES:QuickScores; Soccer - Adult Game
TRANSP:0
DALARM:20211102T174500;PT10M;2;SAGEPUB vs. Rabbit Valley FC
END:VEVENT
BEGIN:VEVENT
DTSTART:20211109T184500
DTEND:20211109T194500
SUMMARY:Rabbit Valley FC vs. The Placebo Effect 2.0
DESCRIPTION:Tuesday Coed - Conejo Recreation and Park District
LOCATION:Dos Vientos Community Park Field #2-A
CATEGORIES:QuickScores; Soccer - Adult Game
TRANSP:0
DALARM:20211109T164500;PT10M;2;Rabbit Valley FC vs. The Placebo Effect 2.0
END:VEVENT
BEGIN:VEVENT
DTSTART:20211116T184500
DTEND:20211116T194500
SUMMARY:Rabbit Valley FC vs. Real Bad
DESCRIPTION:Tuesday Coed - Conejo Recreation and Park District
LOCATION:Dos Vientos Community Park Field #2-B
CATEGORIES:QuickScores; Soccer - Adult Game
TRANSP:0
DALARM:20211116T164500;PT10M;2;Rabbit Valley FC vs. Real Bad
END:VEVENT
BEGIN:VEVENT
DTSTART:20211123T194500
DTEND:20211123T204500
SUMMARY:Rabbit Valley FC vs. ASC
DESCRIPTION:Tuesday Coed - Conejo Recreation and Park District
LOCATION:Del Prado Playfield #2
CATEGORIES:QuickScores; Soccer - Adult Game
TRANSP:0
DALARM:20211123T174500;PT10M;2;Rabbit Valley FC vs. ASC
END:VEVENT
BEGIN:VEVENT
DTSTART:20211130T184500
DTEND:20211130T194500
SUMMARY:Rabbit Valley FC vs. Las Chivas
DESCRIPTION:Tuesday Coed - Conejo Recreation and Park District
LOCATION:Del Prado Playfield #2
CATEGORIES:QuickScores; Soccer - Adult Game
TRANSP:0
DALARM:20211130T164500;PT10M;2;Rabbit Valley FC vs. Las Chivas
END:VEVENT
END:VCALENDAR
