BEGIN:VCALENDAR
VERSION:1.0
BEGIN:VEVENT
DTSTART:20210928T184500
DTEND:20210928T194500
SUMMARY:The Placebo Effect 2.0 vs. Kicks and Giggles
DESCRIPTION:Tuesday Coed - Conejo Recreation and Park District
LOCATION:Dos Vientos Community Park Field #2-A
CATEGORIES:QuickScores; Soccer - Adult Game
TRANSP:0
DALARM:20210928T164500;PT10M;2;The Placebo Effect 2.0 vs. Kicks and Giggles
END:VEVENT
BEGIN:VEVENT
DTSTART:20211005T194500
DTEND:20211005T204500
SUMMARY:The Placebo Effect 2.0 vs. SAGEPUB
DESCRIPTION:Tuesday Coed - Conejo Recreation and Park District
LOCATION:Dos Vientos Community Park Field #2-A
CATEGORIES:QuickScores; Soccer - Adult Game
TRANSP:0
DALARM:20211005T174500;PT10M;2;The Placebo Effect 2.0 vs. SAGEPUB
END:VEVENT
BEGIN:VEVENT
DTSTART:20211012T194500
DTEND:20211012T204500
SUMMARY:The Placebo Effect 2.0 vs. ASC
DESCRIPTION:Tuesday Coed - Conejo Recreation and Park District
LOCATION:Dos Vientos Community Park Field #2-B
CATEGORIES:QuickScores; Soccer - Adult Game
TRANSP:0
DALARM:20211012T174500;PT10M;2;The Placebo Effect 2.0 vs. ASC
END:VEVENT
BEGIN:VEVENT
DTSTART:20211019T194500
DTEND:20211019T204500
SUMMARY:The Placebo Effect 2.0 vs. Las Chivas
DESCRIPTION:Tuesday Coed - Conejo Recreation and Park District
LOCATION:Dos Vientos Community Park Field #2-B
CATEGORIES:QuickScores; Soccer - Adult Game
TRANSP:0
DALARM:20211019T174500;PT10M;2;The Placebo Effect 2.0 vs. Las Chivas
END:VEVENT
BEGIN:VEVENT
DTSTART:20211026T184500
DTEND:20211026T194500
SUMMARY:The Placebo Effect 2.0 vs. Real Bad
DESCRIPTION:Tuesday Coed - Conejo Recreation and Park District
LOCATION:Dos Vientos Community Park Field #2-A
CATEGORIES:QuickScores; Soccer - Adult Game
TRANSP:0
DALARM:20211026T164500;PT10M;2;The Placebo Effect 2.0 vs. Real Bad
END:VEVENT
BEGIN:VEVENT
DTSTART:20211102T184500
DTEND:20211102T194500
SUMMARY:Cire 300 vs. The Placebo Effect 2.0
DESCRIPTION:Tuesday Coed - Conejo Recreation and Park District
LOCATION:Dos Vientos Community Park Field #2-B
CATEGORIES:QuickScores; Soccer - Adult Game
TRANSP:0
DALARM:20211102T164500;PT10M;2;Cire 300 vs. The Placebo Effect 2.0
END:VEVENT
BEGIN:VEVENT
DTSTART:20211109T184500
DTEND:20211109T194500
SUMMARY:Rabbit Valley FC vs. The Placebo Effect 2.0
DESCRIPTION:Tuesday Coed - Conejo Recreation and Park District
LOCATION:Dos Vientos Community Park Field #2-A
CATEGORIES:QuickScores; Soccer - Adult Game
TRANSP:0
DALARM:20211109T164500;PT10M;2;Rabbit Valley FC vs. The Placebo Effect 2.0
END:VEVENT
BEGIN:VEVENT
DTSTART:20211116T194500
DTEND:20211116T204500
SUMMARY:Kicks and Giggles vs. The Placebo Effect 2.0
DESCRIPTION:Tuesday Coed - Conejo Recreation and Park District
LOCATION:Dos Vientos Community Park Field #2-A
CATEGORIES:QuickScores; Soccer - Adult Game
TRANSP:0
DALARM:20211116T174500;PT10M;2;Kicks and Giggles vs. The Placebo Effect 2.0
END:VEVENT
BEGIN:VEVENT
DTSTART:20211123T184500
DTEND:20211123T194500
SUMMARY:SAGEPUB vs. The Placebo Effect 2.0
DESCRIPTION:Tuesday Coed - Conejo Recreation and Park District
LOCATION:Del Prado Playfield #3
CATEGORIES:QuickScores; Soccer - Adult Game
TRANSP:0
DALARM:20211123T164500;PT10M;2;SAGEPUB vs. The Placebo Effect 2.0
END:VEVENT
BEGIN:VEVENT
DTSTART:20211130T194500
DTEND:20211130T204500
SUMMARY:ASC vs. The Placebo Effect 2.0
DESCRIPTION:Tuesday Coed - Conejo Recreation and Park District
LOCATION:Del Prado Playfield #3
CATEGORIES:QuickScores; Soccer - Adult Game
TRANSP:0
DALARM:20211130T174500;PT10M;2;ASC vs. The Placebo Effect 2.0
END:VEVENT
END:VCALENDAR
