BEGIN:VCALENDAR
VERSION:1.0
BEGIN:VEVENT
DTSTART:20210928T184500
DTEND:20210928T194500
SUMMARY:ASC vs. Cire 300
DESCRIPTION:Tuesday Coed - Conejo Recreation and Park District
LOCATION:Dos Vientos Community Park Field #2-B
CATEGORIES:QuickScores; Soccer - Adult Game
TRANSP:0
DALARM:20210928T164500;PT10M;2;ASC vs. Cire 300
END:VEVENT
BEGIN:VEVENT
DTSTART:20211005T194500
DTEND:20211005T204500
SUMMARY:Cire 300 vs. Kicks and Giggles
DESCRIPTION:Tuesday Coed - Conejo Recreation and Park District
LOCATION:Dos Vientos Community Park Field #2-B
CATEGORIES:QuickScores; Soccer - Adult Game
TRANSP:0
DALARM:20211005T174500;PT10M;2;Cire 300 vs. Kicks and Giggles
END:VEVENT
BEGIN:VEVENT
DTSTART:20211012T194500
DTEND:20211012T204500
SUMMARY:Real Bad vs. Cire 300
DESCRIPTION:Tuesday Coed - Conejo Recreation and Park District
LOCATION:Dos Vientos Community Park Field #2-A
CATEGORIES:QuickScores; Soccer - Adult Game
TRANSP:0
DALARM:20211012T174500;PT10M;2;Real Bad vs. Cire 300
END:VEVENT
BEGIN:VEVENT
DTSTART:20211019T184500
DTEND:20211019T194500
SUMMARY:Cire 300 vs. SAGEPUB
DESCRIPTION:Tuesday Coed - Conejo Recreation and Park District
LOCATION:Dos Vientos Community Park Field #2-A
CATEGORIES:QuickScores; Soccer - Adult Game
TRANSP:0
DALARM:20211019T164500;PT10M;2;Cire 300 vs. SAGEPUB
END:VEVENT
BEGIN:VEVENT
DTSTART:20211026T184500
DTEND:20211026T194500
SUMMARY:Rabbit Valley FC vs. Cire 300
DESCRIPTION:Tuesday Coed - Conejo Recreation and Park District
LOCATION:Dos Vientos Community Park Field #2-B
CATEGORIES:QuickScores; Soccer - Adult Game
TRANSP:0
DALARM:20211026T164500;PT10M;2;Rabbit Valley FC vs. Cire 300
END:VEVENT
BEGIN:VEVENT
DTSTART:20211102T184500
DTEND:20211102T194500
SUMMARY:Cire 300 vs. The Placebo Effect 2.0
DESCRIPTION:Tuesday Coed - Conejo Recreation and Park District
LOCATION:Dos Vientos Community Park Field #2-B
CATEGORIES:QuickScores; Soccer - Adult Game
TRANSP:0
DALARM:20211102T164500;PT10M;2;Cire 300 vs. The Placebo Effect 2.0
END:VEVENT
BEGIN:VEVENT
DTSTART:20211109T194500
DTEND:20211109T204500
SUMMARY:Las Chivas vs. Cire 300
DESCRIPTION:Tuesday Coed - Conejo Recreation and Park District
LOCATION:Dos Vientos Community Park Field #2-A
CATEGORIES:QuickScores; Soccer - Adult Game
TRANSP:0
DALARM:20211109T174500;PT10M;2;Las Chivas vs. Cire 300
END:VEVENT
BEGIN:VEVENT
DTSTART:20211116T184500
DTEND:20211116T194500
SUMMARY:Cire 300 vs. ASC
DESCRIPTION:Tuesday Coed - Conejo Recreation and Park District
LOCATION:Dos Vientos Community Park Field #2-A
CATEGORIES:QuickScores; Soccer - Adult Game
TRANSP:0
DALARM:20211116T164500;PT10M;2;Cire 300 vs. ASC
END:VEVENT
BEGIN:VEVENT
DTSTART:20211123T194500
DTEND:20211123T204500
SUMMARY:Kicks and Giggles vs. Cire 300
DESCRIPTION:Tuesday Coed - Conejo Recreation and Park District
LOCATION:Del Prado Playfield #3
CATEGORIES:QuickScores; Soccer - Adult Game
TRANSP:0
DALARM:20211123T174500;PT10M;2;Kicks and Giggles vs. Cire 300
END:VEVENT
BEGIN:VEVENT
DTSTART:20211130T194500
DTEND:20211130T204500
SUMMARY:Cire 300 vs. Real Bad
DESCRIPTION:Tuesday Coed - Conejo Recreation and Park District
LOCATION:Del Prado Playfield #2
CATEGORIES:QuickScores; Soccer - Adult Game
TRANSP:0
DALARM:20211130T174500;PT10M;2;Cire 300 vs. Real Bad
END:VEVENT
END:VCALENDAR
