BEGIN:VCALENDAR
VERSION:1.0
BEGIN:VEVENT
DTSTART:20210915T183000
DTEND:20210915T191500
SUMMARY:Laarni & Jeff vs. Karen & Preston
DESCRIPTION:Wednesday Beginning Mixed - Conejo Recreation and Park District
LOCATION:Rancho Conejo Pickleball Court #10
CATEGORIES:QuickScores; Pickleball Game
TRANSP:0
DALARM:20210915T163000;PT10M;2;Laarni & Jeff vs. Karen & Preston
END:VEVENT
BEGIN:VEVENT
DTSTART:20210915T191500
DTEND:20210915T200000
SUMMARY:Linda & Dwight vs. Laarni & Jeff
DESCRIPTION:Wednesday Beginning Mixed - Conejo Recreation and Park District
LOCATION:Rancho Conejo Pickleball Court #10
CATEGORIES:QuickScores; Pickleball Game
TRANSP:0
DALARM:20210915T171500;PT10M;2;Linda & Dwight vs. Laarni & Jeff
END:VEVENT
BEGIN:VEVENT
DTSTART:20210922T183000
DTEND:20210922T191500
SUMMARY:Cathie & Samantha vs. Laarni & Jeff
DESCRIPTION:Wednesday Beginning Mixed - Conejo Recreation and Park District
LOCATION:Rancho Conejo Pickleball Court #9
CATEGORIES:QuickScores; Pickleball Game
TRANSP:0
DALARM:20210922T163000;PT10M;2;Cathie & Samantha vs. Laarni & Jeff
END:VEVENT
BEGIN:VEVENT
DTSTART:20210922T191500
DTEND:20210922T200000
SUMMARY:Laarni & Jeff vs. Julie & Kerry
DESCRIPTION:Wednesday Beginning Mixed - Conejo Recreation and Park District
LOCATION:Rancho Conejo Pickleball Court #8
CATEGORIES:QuickScores; Pickleball Game
TRANSP:0
DALARM:20210922T171500;PT10M;2;Laarni & Jeff vs. Julie & Kerry
END:VEVENT
BEGIN:VEVENT
DTSTART:20210929T183000
DTEND:20210929T191500
SUMMARY:Lissa & Mike vs. Laarni & Jeff
DESCRIPTION:Wednesday Beginning Mixed - Conejo Recreation and Park District
LOCATION:Rancho Conejo Pickleball Court #10
CATEGORIES:QuickScores; Pickleball Game
TRANSP:0
DALARM:20210929T163000;PT10M;2;Lissa & Mike vs. Laarni & Jeff
END:VEVENT
BEGIN:VEVENT
DTSTART:20210929T191500
DTEND:20210929T200000
SUMMARY:Laarni & Jeff vs. Lynette & Hayden
DESCRIPTION:Wednesday Beginning Mixed - Conejo Recreation and Park District
LOCATION:Rancho Conejo Pickleball Court #9
CATEGORIES:QuickScores; Pickleball Game
TRANSP:0
DALARM:20210929T171500;PT10M;2;Laarni & Jeff vs. Lynette & Hayden
END:VEVENT
BEGIN:VEVENT
DTSTART:20211006T183000
DTEND:20211006T191500
SUMMARY:Laarni & Jeff vs. Linda & Dwight
DESCRIPTION:Wednesday Beginning Mixed - Conejo Recreation and Park District
LOCATION:Rancho Conejo Pickleball Court #8
CATEGORIES:QuickScores; Pickleball Game
TRANSP:0
DALARM:20211006T163000;PT10M;2;Laarni & Jeff vs. Linda & Dwight
END:VEVENT
BEGIN:VEVENT
DTSTART:20211006T191500
DTEND:20211006T200000
SUMMARY:Victoria & Rick vs. Laarni & Jeff
DESCRIPTION:Wednesday Beginning Mixed - Conejo Recreation and Park District
LOCATION:Rancho Conejo Pickleball Court #7
CATEGORIES:QuickScores; Pickleball Game
TRANSP:0
DALARM:20211006T171500;PT10M;2;Victoria & Rick vs. Laarni & Jeff
END:VEVENT
BEGIN:VEVENT
DTSTART:20211013T183000
DTEND:20211013T191500
SUMMARY:Karen & Preston vs. Laarni & Jeff
DESCRIPTION:Wednesday Beginning Mixed - Conejo Recreation and Park District
LOCATION:Rancho Conejo Pickleball Court #7
CATEGORIES:QuickScores; Pickleball Game
TRANSP:0
DALARM:20211013T163000;PT10M;2;Karen & Preston vs. Laarni & Jeff
END:VEVENT
BEGIN:VEVENT
DTSTART:20211013T191500
DTEND:20211013T200000
SUMMARY:Laarni & Jeff vs. Cathie & Samantha
DESCRIPTION:Wednesday Beginning Mixed - Conejo Recreation and Park District
LOCATION:Rancho Conejo Pickleball Court #10
CATEGORIES:QuickScores; Pickleball Game
TRANSP:0
DALARM:20211013T171500;PT10M;2;Laarni & Jeff vs. Cathie & Samantha
END:VEVENT
BEGIN:VEVENT
DTSTART:20211027T183000
DTEND:20211027T191500
SUMMARY:Julie & Kerry vs. Laarni & Jeff
DESCRIPTION:Wednesday Beginning Mixed - Conejo Recreation and Park District
LOCATION:Rancho Conejo Pickleball Court #9
CATEGORIES:QuickScores; Pickleball Game
TRANSP:0
DALARM:20211027T163000;PT10M;2;Julie & Kerry vs. Laarni & Jeff
END:VEVENT
BEGIN:VEVENT
DTSTART:20211027T191500
DTEND:20211027T200000
SUMMARY:Laarni & Jeff vs. Lissa & Mike
DESCRIPTION:Wednesday Beginning Mixed - Conejo Recreation and Park District
LOCATION:Rancho Conejo Pickleball Court #9
CATEGORIES:QuickScores; Pickleball Game
TRANSP:0
DALARM:20211027T171500;PT10M;2;Laarni & Jeff vs. Lissa & Mike
END:VEVENT
BEGIN:VEVENT
DTSTART:20211103T183000
DTEND:20211103T191500
SUMMARY:Laarni & Jeff vs. Victoria & Rick
DESCRIPTION:Wednesday Beginning Mixed - Conejo Recreation and Park District
LOCATION:Rancho Conejo Pickleball Court #9
CATEGORIES:QuickScores; Pickleball Game
TRANSP:0
DALARM:20211103T163000;PT10M;2;Laarni & Jeff vs. Victoria & Rick
END:VEVENT
BEGIN:VEVENT
DTSTART:20211103T191500
DTEND:20211103T200000
SUMMARY:Lynette & Hayden vs. Laarni & Jeff
DESCRIPTION:Wednesday Beginning Mixed - Conejo Recreation and Park District
LOCATION:Rancho Conejo Pickleball Court #8
CATEGORIES:QuickScores; Pickleball Game
TRANSP:0
DALARM:20211103T171500;PT10M;2;Lynette & Hayden vs. Laarni & Jeff
END:VEVENT
BEGIN:VEVENT
DTSTART:20211110T183000
DTEND:20211110T191500
SUMMARY:Laarni & Jeff vs. Karen & Preston
DESCRIPTION:Wednesday Beginning Mixed - Conejo Recreation and Park District
LOCATION:Rancho Conejo Pickleball Court #7
CATEGORIES:QuickScores; Pickleball Game
TRANSP:0
DALARM:20211110T163000;PT10M;2;Laarni & Jeff vs. Karen & Preston
END:VEVENT
BEGIN:VEVENT
DTSTART:20211110T191500
DTEND:20211110T200000
SUMMARY:Linda & Dwight vs. Laarni & Jeff
DESCRIPTION:Wednesday Beginning Mixed - Conejo Recreation and Park District
LOCATION:Rancho Conejo Pickleball Court #7
CATEGORIES:QuickScores; Pickleball Game
TRANSP:0
DALARM:20211110T171500;PT10M;2;Linda & Dwight vs. Laarni & Jeff
END:VEVENT
END:VCALENDAR
