BEGIN:VCALENDAR
VERSION:1.0
BEGIN:VEVENT
DTSTART:20210919T173000
DTEND:20210919T183000
SUMMARY:New Kids on the Block vs. Last Chance
DESCRIPTION:Sunday Coed C2 - Conejo Recreation and Park District
LOCATION:Thousand Oaks Community Center
CATEGORIES:QuickScores; Volleyball - Adult Game
TRANSP:0
DALARM:20210919T153000;PT10M;2;New Kids on the Block vs. Last Chance
END:VEVENT
BEGIN:VEVENT
DTSTART:20210926T163000
DTEND:20210926T173000
SUMMARY:Non-Sets vs. New Kids on the Block
DESCRIPTION:Sunday Coed C2 - Conejo Recreation and Park District
LOCATION:Thousand Oaks Community Center
CATEGORIES:QuickScores; Volleyball - Adult Game
TRANSP:0
DALARM:20210926T143000;PT10M;2;Non-Sets vs. New Kids on the Block
END:VEVENT
BEGIN:VEVENT
DTSTART:20211003T173000
DTEND:20211003T183000
SUMMARY:New Kids on the Block vs. VB Amigos
DESCRIPTION:Sunday Coed C2 - Conejo Recreation and Park District
LOCATION:Thousand Oaks Community Center
CATEGORIES:QuickScores; Volleyball - Adult Game
TRANSP:0
DALARM:20211003T153000;PT10M;2;New Kids on the Block vs. VB Amigos
END:VEVENT
BEGIN:VEVENT
DTSTART:20211017T183000
DTEND:20211017T193000
SUMMARY:Sticky Eyeball Heads vs. New Kids on the Block
DESCRIPTION:Sunday Coed C2 - Conejo Recreation and Park District
LOCATION:Thousand Oaks Community Center
CATEGORIES:QuickScores; Volleyball - Adult Game
TRANSP:0
DALARM:20211017T163000;PT10M;2;Sticky Eyeball Heads vs. New Kids on the Block
END:VEVENT
BEGIN:VEVENT
DTSTART:20211024T163000
DTEND:20211024T173000
SUMMARY:Flip A Coin vs. New Kids on the Block
DESCRIPTION:Sunday Coed C2 - Conejo Recreation and Park District
LOCATION:Thousand Oaks Community Center
CATEGORIES:QuickScores; Volleyball - Adult Game
TRANSP:0
DALARM:20211024T143000;PT10M;2;Flip A Coin vs. New Kids on the Block
END:VEVENT
BEGIN:VEVENT
DTSTART:20211107T173000
DTEND:20211107T173000
SUMMARY:Spikological Warfare vs. New Kids on the Block
DESCRIPTION:Sunday Coed C2 - Conejo Recreation and Park District
LOCATION:Thousand Oaks Community Center
CATEGORIES:QuickScores; Volleyball - Adult Game
TRANSP:0
DALARM:20211107T143000;PT10M;2;Spikological Warfare vs. New Kids on the Block
END:VEVENT
BEGIN:VEVENT
DTSTART:20211114T183000
DTEND:20211114T193000
SUMMARY:VB Amigos vs. New Kids on the Block
DESCRIPTION:Sunday Coed C2 - Conejo Recreation and Park District
LOCATION:Thousand Oaks Community Center
CATEGORIES:QuickScores; Volleyball - Adult Game
TRANSP:0
DALARM:20211114T163000;PT10M;2;VB Amigos vs. New Kids on the Block
END:VEVENT
BEGIN:VEVENT
DTSTART:20211205T183000
DTEND:20211205T193000
SUMMARY:New Kids on the Block vs. Sticky Eyeball Heads
DESCRIPTION:Sunday Coed C2 - Conejo Recreation and Park District
LOCATION:Thousand Oaks Community Center
CATEGORIES:QuickScores; Volleyball - Adult Game
TRANSP:0
DALARM:20211205T163000;PT10M;2;New Kids on the Block vs. Sticky Eyeball Heads
END:VEVENT
BEGIN:VEVENT
DTSTART:20211212T163000
DTEND:20211212T173000
SUMMARY:New Kids on the Block vs. Flip A Coin
DESCRIPTION:Sunday Coed C2 - Conejo Recreation and Park District
LOCATION:Thousand Oaks Community Center
CATEGORIES:QuickScores; Volleyball - Adult Game
TRANSP:0
DALARM:20211212T143000;PT10M;2;New Kids on the Block vs. Flip A Coin
END:VEVENT
BEGIN:VEVENT
DTSTART:20211219T163000
DTEND:20211219T173000
SUMMARY:New Kids on the Block vs. Spikological Warfare
DESCRIPTION:Sunday Coed C2 - Conejo Recreation and Park District
LOCATION:Thousand Oaks Community Center
CATEGORIES:QuickScores; Volleyball - Adult Game
TRANSP:0
DALARM:20211219T143000;PT10M;2;New Kids on the Block vs. Spikological Warfare
END:VEVENT
END:VCALENDAR
