BEGIN:VCALENDAR
VERSION:1.0
BEGIN:VEVENT
DTSTART:20210912T170000
DTEND:20210912T181500
SUMMARY:Chalice vs. St. Patricks
DESCRIPTION:Sunday Coed BP 2 - Conejo Recreation and Park District
LOCATION:Borchard Park Field #2
CATEGORIES:QuickScores; Softball - Adult Game
TRANSP:0
DALARM:20210912T150000;PT10M;2;Chalice vs. St. Patricks
END:VEVENT
BEGIN:VEVENT
DTSTART:20210919T181500
DTEND:20210919T193000
SUMMARY:St. Patricks vs. Bat Attitude
DESCRIPTION:Sunday Coed BP 2 - Conejo Recreation and Park District
LOCATION:Borchard Park Field #2
CATEGORIES:QuickScores; Softball - Adult Game
TRANSP:0
DALARM:20210919T161500;PT10M;2;St. Patricks vs. Bat Attitude
END:VEVENT
BEGIN:VEVENT
DTSTART:20210926T170000
DTEND:20210926T181500
SUMMARY:WPC vs. St. Patricks
DESCRIPTION:Sunday Coed BP 2 - Conejo Recreation and Park District
LOCATION:Borchard Park Field #2
CATEGORIES:QuickScores; Softball - Adult Game
TRANSP:0
DALARM:20210926T150000;PT10M;2;WPC vs. St. Patricks
END:VEVENT
BEGIN:VEVENT
DTSTART:20211003T170000
DTEND:20211003T181500
SUMMARY:St. Patricks vs. Chalice
DESCRIPTION:Sunday Coed BP 2 - Conejo Recreation and Park District
LOCATION:Borchard Park Field #2
CATEGORIES:QuickScores; Softball - Adult Game
TRANSP:0
DALARM:20211003T150000;PT10M;2;St. Patricks vs. Chalice
END:VEVENT
BEGIN:VEVENT
DTSTART:20211010T170000
DTEND:20211010T181500
SUMMARY:Bat Attitude vs. St. Patricks
DESCRIPTION:Sunday Coed BP 2 - Conejo Recreation and Park District
LOCATION:Borchard Park Field #2
CATEGORIES:QuickScores; Softball - Adult Game
TRANSP:0
DALARM:20211010T150000;PT10M;2;Bat Attitude vs. St. Patricks
END:VEVENT
BEGIN:VEVENT
DTSTART:20211017T181500
DTEND:20211017T193000
SUMMARY:St. Patricks vs. WPC
DESCRIPTION:Sunday Coed BP 2 - Conejo Recreation and Park District
LOCATION:Borchard Park Field #2
CATEGORIES:QuickScores; Softball - Adult Game
TRANSP:0
DALARM:20211017T161500;PT10M;2;St. Patricks vs. WPC
END:VEVENT
BEGIN:VEVENT
DTSTART:20211024T181500
DTEND:20211024T193000
SUMMARY:Chalice vs. St. Patricks
DESCRIPTION:Sunday Coed BP 2 - Conejo Recreation and Park District
LOCATION:Borchard Park Field #2
CATEGORIES:QuickScores; Softball - Adult Game
TRANSP:0
DALARM:20211024T161500;PT10M;2;Chalice vs. St. Patricks
END:VEVENT
BEGIN:VEVENT
DTSTART:20211107T170000
DTEND:20211107T171500
SUMMARY:St. Patricks vs. Bat Attitude
DESCRIPTION:Sunday Coed BP 2 - Conejo Recreation and Park District
LOCATION:Borchard Park Field #2
CATEGORIES:QuickScores; Softball - Adult Game
TRANSP:0
DALARM:20211107T140000;PT10M;2;St. Patricks vs. Bat Attitude
END:VEVENT
BEGIN:VEVENT
DTSTART:20211114T170000
DTEND:20211114T181500
SUMMARY:WPC vs. St. Patricks
DESCRIPTION:Sunday Coed BP 2 - Conejo Recreation and Park District
LOCATION:Borchard Park Field #2
CATEGORIES:QuickScores; Softball - Adult Game
TRANSP:0
DALARM:20211114T150000;PT10M;2;WPC vs. St. Patricks
END:VEVENT
BEGIN:VEVENT
DTSTART:20211121T181500
DTEND:20211121T193000
SUMMARY:St. Patricks vs. Chalice
DESCRIPTION:Sunday Coed BP 2 - Conejo Recreation and Park District
LOCATION:Borchard Park Field #2
CATEGORIES:QuickScores; Softball - Adult Game
TRANSP:0
DALARM:20211121T161500;PT10M;2;St. Patricks vs. Chalice
END:VEVENT
END:VCALENDAR
