BEGIN:VCALENDAR
VERSION:1.0
BEGIN:VEVENT
DTSTART:20210909T194500
DTEND:20210909T210000
SUMMARY:NAR dogs vs. Tiger Sharks
DESCRIPTION:Thursday Men's D1 - Conejo Recreation and Park District
LOCATION:Borchard Park Field #3
CATEGORIES:QuickScores; Softball - Adult Game
TRANSP:0
DALARM:20210909T174500;PT10M;2;NAR dogs vs. Tiger Sharks
END:VEVENT
BEGIN:VEVENT
DTSTART:20210916T183000
DTEND:20210916T194500
SUMMARY:The Senderson's vs. Tiger Sharks
DESCRIPTION:Thursday Men's D1 - Conejo Recreation and Park District
LOCATION:Borchard Park Field #3
CATEGORIES:QuickScores; Softball - Adult Game
TRANSP:0
DALARM:20210916T163000;PT10M;2;The Senderson's vs. Tiger Sharks
END:VEVENT
BEGIN:VEVENT
DTSTART:20210923T183000
DTEND:20210923T194500
SUMMARY:Tiger Sharks vs. Alamo Bar & Grill
DESCRIPTION:Thursday Men's D1 - Conejo Recreation and Park District
LOCATION:Borchard Park Field #3
CATEGORIES:QuickScores; Softball - Adult Game
TRANSP:0
DALARM:20210923T163000;PT10M;2;Tiger Sharks vs. Alamo Bar & Grill
END:VEVENT
BEGIN:VEVENT
DTSTART:20210930T210000
DTEND:20210930T221500
SUMMARY:Beerlicious vs. Tiger Sharks
DESCRIPTION:Thursday Men's D1 - Conejo Recreation and Park District
LOCATION:Borchard Park Field #3
CATEGORIES:QuickScores; Softball - Adult Game
TRANSP:0
DALARM:20210930T190000;PT10M;2;Beerlicious vs. Tiger Sharks
END:VEVENT
BEGIN:VEVENT
DTSTART:20211007T194500
DTEND:20211007T210000
SUMMARY:Tiger Sharks vs. SOOGAM
DESCRIPTION:Thursday Men's D1 - Conejo Recreation and Park District
LOCATION:Borchard Park Field #3
CATEGORIES:QuickScores; Softball - Adult Game
TRANSP:0
DALARM:20211007T174500;PT10M;2;Tiger Sharks vs. SOOGAM
END:VEVENT
BEGIN:VEVENT
DTSTART:20211014T183000
DTEND:20211014T194500
SUMMARY:Tiger Sharks vs. NAR dogs
DESCRIPTION:Thursday Men's D1 - Conejo Recreation and Park District
LOCATION:Borchard Park Field #3
CATEGORIES:QuickScores; Softball - Adult Game
TRANSP:0
DALARM:20211014T163000;PT10M;2;Tiger Sharks vs. NAR dogs
END:VEVENT
BEGIN:VEVENT
DTSTART:20211021T183000
DTEND:20211021T194500
SUMMARY:Tiger Sharks vs. The Senderson's
DESCRIPTION:Thursday Men's D1 - Conejo Recreation and Park District
LOCATION:Borchard Park Field #3
CATEGORIES:QuickScores; Softball - Adult Game
TRANSP:0
DALARM:20211021T163000;PT10M;2;Tiger Sharks vs. The Senderson's
END:VEVENT
BEGIN:VEVENT
DTSTART:20211028T194500
DTEND:20211028T210000
SUMMARY:Alamo Bar & Grill vs. Tiger Sharks
DESCRIPTION:Thursday Men's D1 - Conejo Recreation and Park District
LOCATION:Borchard Park Field #3
CATEGORIES:QuickScores; Softball - Adult Game
TRANSP:0
DALARM:20211028T174500;PT10M;2;Alamo Bar & Grill vs. Tiger Sharks
END:VEVENT
BEGIN:VEVENT
DTSTART:20211104T210000
DTEND:20211104T221500
SUMMARY:Tiger Sharks vs. Beerlicious
DESCRIPTION:Thursday Men's D1 - Conejo Recreation and Park District
LOCATION:Borchard Park Field #3
CATEGORIES:QuickScores; Softball - Adult Game
TRANSP:0
DALARM:20211104T190000;PT10M;2;Tiger Sharks vs. Beerlicious
END:VEVENT
BEGIN:VEVENT
DTSTART:20211118T210000
DTEND:20211118T221500
SUMMARY:SOOGAM vs. Tiger Sharks
DESCRIPTION:Thursday Men's D1 - Conejo Recreation and Park District
LOCATION:Borchard Park Field #3
CATEGORIES:QuickScores; Softball - Adult Game
TRANSP:0
DALARM:20211118T190000;PT10M;2;SOOGAM vs. Tiger Sharks
END:VEVENT
END:VCALENDAR
