BEGIN:VCALENDAR
VERSION:1.0
BEGIN:VEVENT
DTSTART:20210915T183000
DTEND:20210915T194500
SUMMARY:Git R' Done vs. Wednesday Warriors
DESCRIPTION:Wednesday Men's - Conejo Recreation and Park District
LOCATION:Borchard Park Field #3
CATEGORIES:QuickScores; Softball - Adult Game
TRANSP:0
DALARM:20210915T163000;PT10M;2;Git R' Done vs. Wednesday Warriors
END:VEVENT
BEGIN:VEVENT
DTSTART:20210922T183000
DTEND:20210922T194500
SUMMARY:Wednesday Warriors vs. Free Agents
DESCRIPTION:Wednesday Men's - Conejo Recreation and Park District
LOCATION:Borchard Park Field #3
CATEGORIES:QuickScores; Softball - Adult Game
TRANSP:0
DALARM:20210922T163000;PT10M;2;Wednesday Warriors vs. Free Agents
END:VEVENT
BEGIN:VEVENT
DTSTART:20210929T194500
DTEND:20210929T210000
SUMMARY:Cronies vs. Wednesday Warriors
DESCRIPTION:Wednesday Men's - Conejo Recreation and Park District
LOCATION:Borchard Park Field #3
CATEGORIES:QuickScores; Softball - Adult Game
TRANSP:0
DALARM:20210929T174500;PT10M;2;Cronies vs. Wednesday Warriors
END:VEVENT
BEGIN:VEVENT
DTSTART:20211006T194500
DTEND:20211006T210000
SUMMARY:Wednesday Warriors vs. Head First
DESCRIPTION:Wednesday Men's - Conejo Recreation and Park District
LOCATION:Borchard Park Field #3
CATEGORIES:QuickScores; Softball - Adult Game
TRANSP:0
DALARM:20211006T174500;PT10M;2;Wednesday Warriors vs. Head First
END:VEVENT
BEGIN:VEVENT
DTSTART:20211013T183000
DTEND:20211013T194500
SUMMARY:Free Agents vs. Wednesday Warriors
DESCRIPTION:Wednesday Men's - Conejo Recreation and Park District
LOCATION:Borchard Park Field #3
CATEGORIES:QuickScores; Softball - Adult Game
TRANSP:0
DALARM:20211013T163000;PT10M;2;Free Agents vs. Wednesday Warriors
END:VEVENT
BEGIN:VEVENT
DTSTART:20211020T194500
DTEND:20211020T210000
SUMMARY:Wednesday Warriors vs. Cronies
DESCRIPTION:Wednesday Men's - Conejo Recreation and Park District
LOCATION:Borchard Park Field #3
CATEGORIES:QuickScores; Softball - Adult Game
TRANSP:0
DALARM:20211020T174500;PT10M;2;Wednesday Warriors vs. Cronies
END:VEVENT
BEGIN:VEVENT
DTSTART:20211103T194500
DTEND:20211103T210000
SUMMARY:Wednesday Warriors vs. Git R' Done
DESCRIPTION:Wednesday Men's - Conejo Recreation and Park District
LOCATION:Borchard Park Field #3
CATEGORIES:QuickScores; Softball - Adult Game
TRANSP:0
DALARM:20211103T174500;PT10M;2;Wednesday Warriors vs. Git R' Done
END:VEVENT
BEGIN:VEVENT
DTSTART:20211110T194500
DTEND:20211110T210000
SUMMARY:Head First vs. Wednesday Warriors
DESCRIPTION:Wednesday Men's - Conejo Recreation and Park District
LOCATION:Borchard Park Field #3
CATEGORIES:QuickScores; Softball - Adult Game
TRANSP:0
DALARM:20211110T174500;PT10M;2;Head First vs. Wednesday Warriors
END:VEVENT
BEGIN:VEVENT
DTSTART:20211201T183000
DTEND:20211201T194500
SUMMARY:Git R' Done vs. Wednesday Warriors
DESCRIPTION:Wednesday Men's - Conejo Recreation and Park District
LOCATION:Borchard Park Field #3
CATEGORIES:QuickScores; Softball - Adult Game
TRANSP:0
DALARM:20211201T163000;PT10M;2;Git R' Done vs. Wednesday Warriors
END:VEVENT
BEGIN:VEVENT
DTSTART:20211208T183000
DTEND:20211208T194500
SUMMARY:Wednesday Warriors vs. Head First
DESCRIPTION:Wednesday Men's - Conejo Recreation and Park District
LOCATION:Pepper Tree Playfield #2
CATEGORIES:QuickScores; Softball - Adult Game
TRANSP:0
DALARM:20211208T163000;PT10M;2;Wednesday Warriors vs. Head First
END:VEVENT
END:VCALENDAR
