BEGIN:VCALENDAR
VERSION:1.0
BEGIN:VEVENT
DTSTART:20210914T183000
DTEND:20210914T193000
SUMMARY:Referee's Delight vs. Hamburger Helpers
DESCRIPTION:Tuesday C - Conejo Recreation and Park District
LOCATION:Dos Vientos Community Center
CATEGORIES:QuickScores; Basketball - Adult Game
TRANSP:0
DALARM:20210914T163000;PT10M;2;Referee's Delight vs. Hamburger Helpers
END:VEVENT
BEGIN:VEVENT
DTSTART:20210928T193000
DTEND:20210928T203000
SUMMARY:Eagle Eddies vs. Referee's Delight
DESCRIPTION:Tuesday C - Conejo Recreation and Park District
LOCATION:Dos Vientos Community Center
CATEGORIES:QuickScores; Basketball - Adult Game
TRANSP:0
DALARM:20210928T173000;PT10M;2;Eagle Eddies vs. Referee's Delight
END:VEVENT
BEGIN:VEVENT
DTSTART:20211005T193000
DTEND:20211005T203000
SUMMARY:Referee's Delight vs. Sharpshooters
DESCRIPTION:Tuesday C - Conejo Recreation and Park District
LOCATION:Dos Vientos Community Center
CATEGORIES:QuickScores; Basketball - Adult Game
TRANSP:0
DALARM:20211005T173000;PT10M;2;Referee's Delight vs. Sharpshooters
END:VEVENT
BEGIN:VEVENT
DTSTART:20211012T183000
DTEND:20211012T193000
SUMMARY:Pass Our Prime vs. Referee's Delight
DESCRIPTION:Tuesday C - Conejo Recreation and Park District
LOCATION:Dos Vientos Community Center
CATEGORIES:QuickScores; Basketball - Adult Game
TRANSP:0
DALARM:20211012T163000;PT10M;2;Pass Our Prime vs. Referee's Delight
END:VEVENT
BEGIN:VEVENT
DTSTART:20211019T193000
DTEND:20211019T203000
SUMMARY:Referee's Delight vs. Eagle Eddies
DESCRIPTION:Tuesday C - Conejo Recreation and Park District
LOCATION:Dos Vientos Community Center
CATEGORIES:QuickScores; Basketball - Adult Game
TRANSP:0
DALARM:20211019T173000;PT10M;2;Referee's Delight vs. Eagle Eddies
END:VEVENT
BEGIN:VEVENT
DTSTART:20211102T193000
DTEND:20211102T203000
SUMMARY:Hamburger Helpers vs. Referee's Delight
DESCRIPTION:Tuesday C - Conejo Recreation and Park District
LOCATION:Dos Vientos Community Center
CATEGORIES:QuickScores; Basketball - Adult Game
TRANSP:0
DALARM:20211102T173000;PT10M;2;Hamburger Helpers vs. Referee's Delight
END:VEVENT
BEGIN:VEVENT
DTSTART:20211109T183000
DTEND:20211109T193000
SUMMARY:Sharpshooters vs. Referee's Delight
DESCRIPTION:Tuesday C - Conejo Recreation and Park District
LOCATION:Dos Vientos Community Center
CATEGORIES:QuickScores; Basketball - Adult Game
TRANSP:0
DALARM:20211109T163000;PT10M;2;Sharpshooters vs. Referee's Delight
END:VEVENT
BEGIN:VEVENT
DTSTART:20211116T183000
DTEND:20211116T193000
SUMMARY:Referee's Delight vs. Pass Our Prime
DESCRIPTION:Tuesday C - Conejo Recreation and Park District
LOCATION:Dos Vientos Community Center
CATEGORIES:QuickScores; Basketball - Adult Game
TRANSP:0
DALARM:20211116T163000;PT10M;2;Referee's Delight vs. Pass Our Prime
END:VEVENT
BEGIN:VEVENT
DTSTART:20211123T193000
DTEND:20211123T203000
SUMMARY:Hamburger Helpers vs. Referee's Delight
DESCRIPTION:Tuesday C - Conejo Recreation and Park District
LOCATION:Dos Vientos Community Center
CATEGORIES:QuickScores; Basketball - Adult Game
TRANSP:0
DALARM:20211123T173000;PT10M;2;Hamburger Helpers vs. Referee's Delight
END:VEVENT
BEGIN:VEVENT
DTSTART:20211130T183000
DTEND:20211130T193000
SUMMARY:Referee's Delight vs. Sharpshooters
DESCRIPTION:Tuesday C - Conejo Recreation and Park District
LOCATION:Dos Vientos Community Center
CATEGORIES:QuickScores; Basketball - Adult Game
TRANSP:0
DALARM:20211130T163000;PT10M;2;Referee's Delight vs. Sharpshooters
END:VEVENT
END:VCALENDAR
