BEGIN:VCALENDAR
VERSION:1.0
BEGIN:VEVENT
DTSTART:20210623T184500
DTEND:20210623T193000
SUMMARY:Laarni & Jeff vs. Ann & Scott
DESCRIPTION:Wednesday Beginning Mixed - Conejo Recreation and Park District
LOCATION:Rancho Conejo Pickleball Court #5
CATEGORIES:QuickScores; Pickleball Game
TRANSP:0
DALARM:20210623T164500;PT10M;2;Laarni & Jeff vs. Ann & Scott
END:VEVENT
BEGIN:VEVENT
DTSTART:20210623T193000
DTEND:20210623T201500
SUMMARY:Laarni & Jeff vs. Kelly & Aaron
DESCRIPTION:Wednesday Beginning Mixed - Conejo Recreation and Park District
LOCATION:Rancho Conejo Pickleball Court #5
CATEGORIES:QuickScores; Pickleball Game
TRANSP:0
DALARM:20210623T173000;PT10M;2;Laarni & Jeff vs. Kelly & Aaron
END:VEVENT
BEGIN:VEVENT
DTSTART:20210630T184500
DTEND:20210630T193000
SUMMARY:Laarni & Jeff vs. Kate & Steve
DESCRIPTION:Wednesday Beginning Mixed - Conejo Recreation and Park District
LOCATION:Rancho Conejo Pickleball Court #6
CATEGORIES:QuickScores; Pickleball Game
TRANSP:0
DALARM:20210630T164500;PT10M;2;Laarni & Jeff vs. Kate & Steve
END:VEVENT
BEGIN:VEVENT
DTSTART:20210630T193000
DTEND:20210630T201500
SUMMARY:Laarni & Jeff vs. Marla & Dirk
DESCRIPTION:Wednesday Beginning Mixed - Conejo Recreation and Park District
LOCATION:Rancho Conejo Pickleball Court #5
CATEGORIES:QuickScores; Pickleball Game
TRANSP:0
DALARM:20210630T173000;PT10M;2;Laarni & Jeff vs. Marla & Dirk
END:VEVENT
BEGIN:VEVENT
DTSTART:20210707T184500
DTEND:20210707T193000
SUMMARY:Laarni & Jeff vs. Cheryl & Donald
DESCRIPTION:Wednesday Beginning Mixed - Conejo Recreation and Park District
LOCATION:Rancho Conejo Pickleball Court #5
CATEGORIES:QuickScores; Pickleball Game
TRANSP:0
DALARM:20210707T164500;PT10M;2;Laarni & Jeff vs. Cheryl & Donald
END:VEVENT
BEGIN:VEVENT
DTSTART:20210707T193000
DTEND:20210707T201500
SUMMARY:Kelly & Aaron vs. Laarni & Jeff
DESCRIPTION:Wednesday Beginning Mixed - Conejo Recreation and Park District
LOCATION:Rancho Conejo Pickleball Court #4
CATEGORIES:QuickScores; Pickleball Game
TRANSP:0
DALARM:20210707T173000;PT10M;2;Kelly & Aaron vs. Laarni & Jeff
END:VEVENT
BEGIN:VEVENT
DTSTART:20210714T184500
DTEND:20210714T193000
SUMMARY:Kate & Steve vs. Laarni & Jeff
DESCRIPTION:Wednesday Beginning Mixed - Conejo Recreation and Park District
LOCATION:Rancho Conejo Pickleball Court #4
CATEGORIES:QuickScores; Pickleball Game
TRANSP:0
DALARM:20210714T164500;PT10M;2;Kate & Steve vs. Laarni & Jeff
END:VEVENT
BEGIN:VEVENT
DTSTART:20210714T193000
DTEND:20210714T201500
SUMMARY:Ann & Scott vs. Laarni & Jeff
DESCRIPTION:Wednesday Beginning Mixed - Conejo Recreation and Park District
LOCATION:Rancho Conejo Pickleball Court #4
CATEGORIES:QuickScores; Pickleball Game
TRANSP:0
DALARM:20210714T173000;PT10M;2;Ann & Scott vs. Laarni & Jeff
END:VEVENT
BEGIN:VEVENT
DTSTART:20210721T184500
DTEND:20210721T193000
SUMMARY:Marla & Dirk vs. Laarni & Jeff
DESCRIPTION:Wednesday Beginning Mixed - Conejo Recreation and Park District
LOCATION:Rancho Conejo Pickleball Court #4
CATEGORIES:QuickScores; Pickleball Game
TRANSP:0
DALARM:20210721T164500;PT10M;2;Marla & Dirk vs. Laarni & Jeff
END:VEVENT
BEGIN:VEVENT
DTSTART:20210721T193000
DTEND:20210721T201500
SUMMARY:Cheryl & Donald vs. Laarni & Jeff
DESCRIPTION:Wednesday Beginning Mixed - Conejo Recreation and Park District
LOCATION:Rancho Conejo Pickleball Court #6
CATEGORIES:QuickScores; Pickleball Game
TRANSP:0
DALARM:20210721T173000;PT10M;2;Cheryl & Donald vs. Laarni & Jeff
END:VEVENT
BEGIN:VEVENT
DTSTART:20210728T184500
DTEND:20210728T193000
SUMMARY:Ann & Scott vs. Laarni & Jeff
DESCRIPTION:Wednesday Beginning Mixed - Conejo Recreation and Park District
LOCATION:Rancho Conejo Pickleball Court #6
CATEGORIES:QuickScores; Pickleball Game
TRANSP:0
DALARM:20210728T164500;PT10M;2;Ann & Scott vs. Laarni & Jeff
END:VEVENT
BEGIN:VEVENT
DTSTART:20210728T193000
DTEND:20210728T201500
SUMMARY:Laarni & Jeff vs. Kelly & Aaron
DESCRIPTION:Wednesday Beginning Mixed - Conejo Recreation and Park District
LOCATION:Rancho Conejo Pickleball Court #6
CATEGORIES:QuickScores; Pickleball Game
TRANSP:0
DALARM:20210728T173000;PT10M;2;Laarni & Jeff vs. Kelly & Aaron
END:VEVENT
BEGIN:VEVENT
DTSTART:20210804T184500
DTEND:20210804T193000
SUMMARY:Kate & Steve vs. Laarni & Jeff
DESCRIPTION:Wednesday Beginning Mixed - Conejo Recreation and Park District
LOCATION:Rancho Conejo Pickleball Court #4
CATEGORIES:QuickScores; Pickleball Game
TRANSP:0
DALARM:20210804T164500;PT10M;2;Kate & Steve vs. Laarni & Jeff
END:VEVENT
BEGIN:VEVENT
DTSTART:20210804T193000
DTEND:20210804T201500
SUMMARY:Laarni & Jeff vs. Marla & Dirk
DESCRIPTION:Wednesday Beginning Mixed - Conejo Recreation and Park District
LOCATION:Rancho Conejo Pickleball Court #6
CATEGORIES:QuickScores; Pickleball Game
TRANSP:0
DALARM:20210804T173000;PT10M;2;Laarni & Jeff vs. Marla & Dirk
END:VEVENT
BEGIN:VEVENT
DTSTART:20210811T184500
DTEND:20210811T193000
SUMMARY:Laarni & Jeff vs. Cheryl & Donald
DESCRIPTION:Wednesday Beginning Mixed - Conejo Recreation and Park District
LOCATION:Rancho Conejo Pickleball Court #4
CATEGORIES:QuickScores; Pickleball Game
TRANSP:0
DALARM:20210811T164500;PT10M;2;Laarni & Jeff vs. Cheryl & Donald
END:VEVENT
BEGIN:VEVENT
DTSTART:20210811T193000
DTEND:20210811T201500
SUMMARY:Kelly & Aaron vs. Laarni & Jeff
DESCRIPTION:Wednesday Beginning Mixed - Conejo Recreation and Park District
LOCATION:Rancho Conejo Pickleball Court #6
CATEGORIES:QuickScores; Pickleball Game
TRANSP:0
DALARM:20210811T173000;PT10M;2;Kelly & Aaron vs. Laarni & Jeff
END:VEVENT
END:VCALENDAR
