BEGIN:VCALENDAR
VERSION:1.0
BEGIN:VEVENT
DTSTART:20251206T161500
DTEND:20251206T171500
SUMMARY:CrossPoint - Windham vs. FBCT - Wright
DESCRIPTION:5th/6th Boys - CrossPoint Church
LOCATION:CrossPoint Court 1
CATEGORIES:QuickScores; Basketball Game
TRANSP:0
DALARM:20251206T141500;PT10M;2;CrossPoint - Windham vs. FBCT - Wright
END:VEVENT
BEGIN:VEVENT
DTSTART:20251213T171500
DTEND:20251213T181500
SUMMARY:FBCT - King vs. FBCT - Wright
DESCRIPTION:5th/6th Boys - CrossPoint Church
LOCATION:CrossPoint Court 2
CATEGORIES:QuickScores; Basketball Game
TRANSP:0
DALARM:20251213T151500;PT10M;2;FBCT - King vs. FBCT - Wright
END:VEVENT
BEGIN:VEVENT
DTSTART:20260103T161500
DTEND:20260103T171500
SUMMARY:FBCT - Wright vs. CrossPoint - Gibbs
DESCRIPTION:5th/6th Boys - CrossPoint Church
LOCATION:CrossPoint Court 1
CATEGORIES:QuickScores; Basketball Game
TRANSP:0
DALARM:20260103T141500;PT10M;2;FBCT - Wright vs. CrossPoint - Gibbs
END:VEVENT
BEGIN:VEVENT
DTSTART:20260110T161500
DTEND:20260110T171500
SUMMARY:CrossPoint - Williams vs. FBCT - Wright
DESCRIPTION:5th/6th Boys - CrossPoint Church
LOCATION:CrossPoint Court 2
CATEGORIES:QuickScores; Basketball Game
TRANSP:0
DALARM:20260110T141500;PT10M;2;CrossPoint - Williams vs. FBCT - Wright
END:VEVENT
BEGIN:VEVENT
DTSTART:20260124T171500
DTEND:20260124T181500
SUMMARY:FBCT - Wright vs. CrossPoint - Green
DESCRIPTION:5th/6th Boys - CrossPoint Church
LOCATION:CrossPoint Court 2
CATEGORIES:QuickScores; Basketball Game
TRANSP:0
DALARM:20260124T151500;PT10M;2;FBCT - Wright vs. CrossPoint - Green
END:VEVENT
BEGIN:VEVENT
DTSTART:20260131T161500
DTEND:20260131T171500
SUMMARY:FBCT - Millington vs. FBCT - Wright
DESCRIPTION:5th/6th Boys - CrossPoint Church
LOCATION:CrossPoint Court 2
CATEGORIES:QuickScores; Basketball Game
TRANSP:0
DALARM:20260131T141500;PT10M;2;FBCT - Millington vs. FBCT - Wright
END:VEVENT
BEGIN:VEVENT
DTSTART:20260207T171500
DTEND:20260207T181500
SUMMARY:FBCT - Wright vs. CrossPoint - Walker
DESCRIPTION:5th/6th Boys - CrossPoint Church
LOCATION:CrossPoint Court 1
CATEGORIES:QuickScores; Basketball Game
TRANSP:0
DALARM:20260207T151500;PT10M;2;FBCT - Wright vs. CrossPoint - Walker
END:VEVENT
END:VCALENDAR
