BEGIN:VCALENDAR
VERSION:1.0
BEGIN:VEVENT
DTSTART:20251206T151500
DTEND:20251206T161500
SUMMARY:FBCT - Hodge vs. FBCT - Rutland
DESCRIPTION:5th/6th Girls - CrossPoint Church
LOCATION:CrossPoint Court 1
CATEGORIES:QuickScores; Basketball Game
TRANSP:0
DALARM:20251206T131500;PT10M;2;FBCT - Hodge vs. FBCT - Rutland
END:VEVENT
BEGIN:VEVENT
DTSTART:20251213T151500
DTEND:20251213T161500
SUMMARY:CrossPoint - Green vs. FBCT - Hodge
DESCRIPTION:Forfeit --- 5th/6th Girls - CrossPoint Church
LOCATION:CrossPoint Court 1
CATEGORIES:QuickScores; Basketball Game
TRANSP:0
DALARM:20251213T131500;PT10M;2;CrossPoint - Green vs. FBCT - Hodge
END:VEVENT
BEGIN:VEVENT
DTSTART:20260103T151500
DTEND:20260103T161500
SUMMARY:FBCT - Hodge vs. FBCT - Thomas
DESCRIPTION:5th/6th Girls - CrossPoint Church
LOCATION:CrossPoint Court 2
CATEGORIES:QuickScores; Basketball Game
TRANSP:0
DALARM:20260103T131500;PT10M;2;FBCT - Hodge vs. FBCT - Thomas
END:VEVENT
BEGIN:VEVENT
DTSTART:20260110T141500
DTEND:20260110T151500
SUMMARY:FBCT - Amari vs. FBCT - Hodge
DESCRIPTION:5th/6th Girls - CrossPoint Church
LOCATION:CrossPoint Court 2
CATEGORIES:QuickScores; Basketball Game
TRANSP:0
DALARM:20260110T121500;PT10M;2;FBCT - Amari vs. FBCT - Hodge
END:VEVENT
BEGIN:VEVENT
DTSTART:20260124T141500
DTEND:20260124T151500
SUMMARY:FBCT - Hodge vs. Springville Methodist
DESCRIPTION:5th/6th Girls - CrossPoint Church
LOCATION:CrossPoint Court 2
CATEGORIES:QuickScores; Basketball Game
TRANSP:0
DALARM:20260124T121500;PT10M;2;FBCT - Hodge vs. Springville Methodist
END:VEVENT
BEGIN:VEVENT
DTSTART:20260131T151500
DTEND:20260131T161500
SUMMARY:FBCT - Rutland vs. FBCT - Hodge
DESCRIPTION:5th/6th Girls - CrossPoint Church
LOCATION:CrossPoint Court 1
CATEGORIES:QuickScores; Basketball Game
TRANSP:0
DALARM:20260131T131500;PT10M;2;FBCT - Rutland vs. FBCT - Hodge
END:VEVENT
BEGIN:VEVENT
DTSTART:20260207T151500
DTEND:20260207T161500
SUMMARY:FBCT - Hodge vs. CrossPoint - Green
DESCRIPTION:5th/6th Girls - CrossPoint Church
LOCATION:CrossPoint Court 2
CATEGORIES:QuickScores; Basketball Game
TRANSP:0
DALARM:20260207T131500;PT10M;2;FBCT - Hodge vs. CrossPoint - Green
END:VEVENT
END:VCALENDAR
